{"text_format":"1","workbook":"xlsx","n_sheets":16,"sheets":["Uppgifter","Instruktioner","Årsarbetsschema","Arbetat","Januari","Februari","Mars","April","Maj","Juni","Juli","Augusti","September","Oktober","November","December"],"not_rendered":{"charts":0,"images":0,"macros":1,"external_links":0,"defined_names":1,"comments":0,"pivot_tables":0},"unopened":[],"bounds":{"document_bytes":16777216,"sheet_cells":100000,"rows_first":2000,"rows_last":500,"rows_between":2000,"halvings":0,"cell_chars":16384,"cell_head_chars":4096},"cells_cut":0,"cells_raw":0,"read":"whole","date_system":"1904"}

{"sheet":"Uppgifter","index":0,"n_rows":26,"n_cols":9,"rows_kept":26,"cut":false,"hidden":false,"merged":[[5,2,5,8]]}
[]
[null,"Flexarbetstid"]
[]
[null,"År",2026]
[]
[null,"Namn"]
[]
[null,"Lunch","00:30:00"]
[null,"(normalt)"]
[]
[null,{"$f":"\"Flexsaldo från \" & C4-1","v":"Flexsaldo från 2025"},null,null,null,null,null,null," "]
[null,"Positivt"]
[null,"Negativt"]
[]
[]
[null,"Kopiera årsarbetsschema och lunchtid till flexrapport"]
[]
[]
[]
[null,"1. Fyll i namn, normal lunchtid (minst 30 min.) och flexsaldo."]
[null,"2. Fyll i \"Årsarbetsschema\"."]
[null,null,"Kom ihåg att ange arbetstid/dag."]
[null,null,"Skriv personnummer och arbetsställe längst upp."]
[null,"3. Klicka på knappen \"Kopiera\" ovan."]
[null,"4. Fyll inte i: Övertid"]
[null,null,"Restid vid tjänsteresa"]

{"sheet":"Instruktioner","index":1,"n_rows":37,"n_cols":17,"rows_kept":37,"cut":false,"hidden":false,"merged":[]}
[null,{"$f":"PROPER(TEXT(B4,\"MMMM ÅÅÅÅ\"))","v":"Januari 2026"},null,null,null,{"$f":"IF(Uppgifter!$C$6=\"\",\"\",Uppgifter!$C$6)","v":""}]
[null,null,null,null,null,null,null,null,null,null,null,null,null,"Dagsumma","Dagbalans","Vdag"]
[null,"Datum","Kod","In","Ut","Lunch","Planerat","Ledighet","Arbetstid",null,"Flextid","Anteckningar",null,null,{"$f":"IF(Uppgifter!D18<>\"\",Uppgifter!D18,Uppgifter!D19*-1)","v":0},null,"F"]
[null,{"$f":"DATEVALUE(Uppgifter!$C$4 & \"-01-01\")","v":"2026-01-01"},null,null,null,null,null,null,{"$f":"IF(N4<0,-N4,N4)","v":0},{"$f":"IF(O4>=0,\"+\",\"-\")","v":"+"},{"$f":"IF(O4<0,-O4,O4)","v":0},null,null,{"$f":"IF(E4>0,E4-D4-F4-H4,IF(C4=\"\",0,IF(C4=\"F\",0,Årsarbetsschema!$D$39)))","v":0},{"$f":"IF(N4>0,I4-G4,IF(C4=\"F\",I4-G4,0))","v":0},-1,"Se"]
[null,{"$f":"B4+1","v":"2026-01-02"},null,"08:00:00","16:30:00","00:30:00","08:00:00",null,{"$f":"IF(N5<0,-N5,N5)","v":0.33333333333333337},"+",5.5511151231257827E-17,null,null,{"$f":"IF(E5>0,E5-D5-F5-H5,IF(C5=\"\",0,IF(C5=\"F\",0,Årsarbetsschema!$D$39)))","v":0.33333333333333337},{"$f":"IF(N5>0,I5-G5,IF(C5=\"F\",I5-G5,0))","v":5.5511151231257827E-17},3,"Sj"]
[null,{"$f":"B5+1","v":"2026-01-03"},null,"08:00:00","16:30:00","00:30:00","08:00:00",null,0.33333333333333337,"+",5.5511151231257827E-17,null,null,{"$f":"IF(E6>0,E6-D6-F6-H6,IF(C6=\"\",0,IF(C6=\"F\",0,Årsarbetsschema!$D$39)))","v":0.33333333333333337},5.5511151231257827E-17,{"$f":"WEEKDAY(B6,2)","v":6},"Tj"]
[null,"2026-01-04",null,null,null,null,null,null,0,"+",0,null,null,{"$f":"IF(E7>0,E7-D7-F7-H7,IF(C7=\"\",0,IF(C7=\"F\",0,Årsarbetsschema!$D$39)))","v":0},0,7,"VB"]
[null,"2026-01-05",null,"08:00:00",null,null,null,null,0,"+",0,null,null,{"$f":"IF(E8>0,E8-D8-F8-H8,IF(C8=\"\",0,IF(C8=\"F\",0,Årsarbetsschema!$D$39)))","v":0},0,1]
[null,"2026-01-06",null,null,null,null,null,null,0,"+",0,null,null,{"$f":"IF(E9>0,E9-D9-F9-H9,IF(C9=\"\",0,IF(C9=\"F\",0,Årsarbetsschema!$D$39)))","v":0},0,-1]
[null,"2026-01-07",null,"08:00:00","16:30:00","00:30:00","08:00:00",null,0.33333333333333337,"+",5.5511151231257827E-17,null,null,{"$f":"IF(E10>0,E10-D10-F10-H10,IF(C10=\"\",0,IF(C10=\"F\",0,Årsarbetsschema!$D$39)))","v":0.33333333333333337},5.5511151231257827E-17,3]
[null,"2026-01-08",null,"08:00:00","16:30:00","00:30:00","08:00:00",null,0.33333333333333337,"+",5.5511151231257827E-17,null,null,{"$f":"IF(E11>0,E11-D11-F11-H11,IF(C11=\"\",0,IF(C11=\"F\",0,Årsarbetsschema!$D$39)))","v":0.33333333333333337},5.5511151231257827E-17,4]
[null,"2026-01-09",null,"08:00:00","16:30:00","00:30:00","08:00:00",null,0.33333333333333337,"+",5.5511151231257827E-17,null,null,{"$f":"IF(E12>0,E12-D12-F12-H12,IF(C12=\"\",0,IF(C12=\"F\",0,Årsarbetsschema!$D$39)))","v":0.33333333333333337},5.5511151231257827E-17,5]
[null,"2026-01-10",null,null,null,null,null,null,0,"+",0,null,null,{"$f":"IF(E13>0,E13-D13-F13-H13,IF(C13=\"\",0,IF(C13=\"F\",0,Årsarbetsschema!$D$39)))","v":0},0,6]
[null,"2026-01-11",null,null,null,null,null,null,0,"+",0,null,null,{"$f":"IF(E14>0,E14-D14-F14-H14,IF(C14=\"\",0,IF(C14=\"F\",0,Årsarbetsschema!$D$39)))","v":0},0,7]
[null,"2026-01-12","Se",null,null,"00:30:00","08:00:00",null,0.33333333333333331,"+",0,null,null,{"$f":"IF(E15>0,E15-D15-F15-H15,IF(C15=\"\",0,IF(C15=\"F\",0,Årsarbetsschema!$D$39)))","v":0.33333333333333331},0,1]
[null,"2026-01-13",null,"08:00:00","16:30:00","00:30:00","08:00:00","01:00:00",0.29166666666666669,"-",4.166666666666663E-2,"Tandläkarbesök",null,{"$f":"IF(E16>0,E16-D16-F16-H16,IF(C16=\"\",0,IF(C16=\"F\",0,Årsarbetsschema!$D$39)))","v":0.29166666666666669},-4.166666666666663E-2,2]
[null,"2026-01-14",null,"08:00:00","16:30:00","00:30:00","08:00:00",null,0.33333333333333337,"+",5.5511151231257827E-17,null,null,{"$f":"IF(E17>0,E17-D17-F17-H17,IF(C17=\"\",0,IF(C17=\"F\",0,Årsarbetsschema!$D$39)))","v":0.33333333333333337},5.5511151231257827E-17,3]
[null,"2026-01-15",null,"08:00:00","16:30:00","00:30:00","08:00:00",null,0.33333333333333337,"+",5.5511151231257827E-17,null,null,{"$f":"IF(E18>0,E18-D18-F18-H18,IF(C18=\"\",0,IF(C18=\"F\",0,Årsarbetsschema!$D$39)))","v":0.33333333333333337},5.5511151231257827E-17,4]
[null,"2026-01-16",null,"08:00:00","16:30:00","00:30:00","08:00:00",null,0.33333333333333337,"+",5.5511151231257827E-17,null,null,{"$f":"IF(E19>0,E19-D19-F19-H19,IF(C19=\"\",0,IF(C19=\"F\",0,Årsarbetsschema!$D$39)))","v":0.33333333333333337},5.5511151231257827E-17,5]
[null,"2026-01-17",null,null,null,null,null,null,0,"+",0,null,null,{"$f":"IF(E20>0,E20-D20-F20-H20,IF(C20=\"\",0,IF(C20=\"F\",0,Årsarbetsschema!$D$39)))","v":0},0,6]
[null,"2026-01-18",null,null,null,null,null,null,0,"+",0,null,null,{"$f":"IF(E21>0,E21-D21-F21-H21,IF(C21=\"\",0,IF(C21=\"F\",0,Årsarbetsschema!$D$39)))","v":0},0,7]
[null,"2026-01-19",null,"08:00:00","16:30:00","00:30:00","08:00:00",null,0.33333333333333337,"+",5.5511151231257827E-17,null,null,{"$f":"IF(E22>0,E22-D22-F22-H22,IF(C22=\"\",0,IF(C22=\"F\",0,Årsarbetsschema!$D$39)))","v":0.33333333333333337},5.5511151231257827E-17,1]
[null,"2026-01-20",null,"08:00:00","16:30:00","00:30:00","08:00:00",null,0.33333333333333337,"+",5.5511151231257827E-17,null,null,{"$f":"IF(E23>0,E23-D23-F23-H23,IF(C23=\"\",0,IF(C23=\"F\",0,Årsarbetsschema!$D$39)))","v":0.33333333333333337},5.5511151231257827E-17,2]
[null,"2026-01-21",null,"08:00:00","16:45:00","00:30:00","08:00:00",null,0.34375,"+",1.0416666666666685E-2,null,null,{"$f":"IF(E24>0,E24-D24-F24-H24,IF(C24=\"\",0,IF(C24=\"F\",0,Årsarbetsschema!$D$39)))","v":0.34375},1.0416666666666685E-2,3]
[null,"2026-01-22",null,"08:00:00","16:30:00","00:45:00","08:00:00",null,0.32291666666666669,"-",1.041666666666663E-2,null,null,{"$f":"IF(E25>0,E25-D25-F25-H25,IF(C25=\"\",0,IF(C25=\"F\",0,Årsarbetsschema!$D$39)))","v":0.32291666666666669},-1.041666666666663E-2,4]
[null,"2026-01-23","Sj",null,null,"00:30:00","08:00:00",null,0.33333333333333331,"+",0,null,null,{"$f":"IF(E26>0,E26-D26-F26-H26,IF(C26=\"\",0,IF(C26=\"F\",0,Årsarbetsschema!$D$39)))","v":0.33333333333333331},0,5]
[null,"2026-01-24",null,null,null,null,null,null,0,"+",0,null,null,{"$f":"IF(E27>0,E27-D27-F27-H27,IF(C27=\"\",0,IF(C27=\"F\",0,Årsarbetsschema!$D$39)))","v":0},0,6]
[null,"2026-01-25",null,null,null,null,null,null,0,"+",0,null,null,{"$f":"IF(E28>0,E28-D28-F28-H28,IF(C28=\"\",0,IF(C28=\"F\",0,Årsarbetsschema!$D$39)))","v":0},0,7]
[null,"2026-01-26",null,"08:00:00","16:30:00","00:30:00","08:00:00",null,0.33333333333333337,"+",5.5511151231257827E-17,null,null,{"$f":"IF(E29>0,E29-D29-F29-H29,IF(C29=\"\",0,IF(C29=\"F\",0,Årsarbetsschema!$D$39)))","v":0.33333333333333337},5.5511151231257827E-17,1]
[null,"2026-01-27",null,"08:00:00","16:30:00","00:30:00","08:00:00",null,0.33333333333333337,"+",5.5511151231257827E-17,null,null,{"$f":"IF(E30>0,E30-D30-F30-H30,IF(C30=\"\",0,IF(C30=\"F\",0,Årsarbetsschema!$D$39)))","v":0.33333333333333337},5.5511151231257827E-17,2]
[null,"2026-01-28",null,"08:00:00","16:30:00","00:30:00","08:00:00",null,0.33333333333333337,"+",5.5511151231257827E-17,null,null,{"$f":"IF(E31>0,E31-D31-F31-H31,IF(C31=\"\",0,IF(C31=\"F\",0,Årsarbetsschema!$D$39)))","v":0.33333333333333337},5.5511151231257827E-17,3]
[null,"2026-01-29",null,"08:00:00","16:30:00","00:30:00","08:00:00",null,0.33333333333333337,"+",5.5511151231257827E-17,null,null,{"$f":"IF(E32>0,E32-D32-F32-H32,IF(C32=\"\",0,IF(C32=\"F\",0,Årsarbetsschema!$D$39)))","v":0.33333333333333337},5.5511151231257827E-17,4]
[null,"2026-01-30",null,"08:00:00","16:30:00","00:30:00","08:00:00",null,0.33333333333333337,"+",5.5511151231257827E-17,null,null,{"$f":"IF(E33>0,E33-D33-F33-H33,IF(C33=\"\",0,IF(C33=\"F\",0,Årsarbetsschema!$D$39)))","v":0.33333333333333337},5.5511151231257827E-17,5]
[null,"2026-01-31",null,null,null,null,null,null,0,"+",0,null,null,{"$f":"IF(E34>0,E34-D34-F34-H34,IF(C34=\"\",0,IF(C34=\"F\",0,Årsarbetsschema!$D$39)))","v":0},0,6]
[null,null,null,null,null,null,null,"Månad",{"$f":"IF(N35<0,-N35,N35)","v":6.6249999999999991},{"$f":"IF(O35>=0,\"+\",\"-\")","v":"-"},{"$f":"IF(O35<0,-O35,O35)","v":4.1666666666665741E-2},null,null,{"$f":"SUM(N4:N34)","v":6.6249999999999991},{"$f":"SUM(O4:O34)","v":-4.1666666666665741E-2}]
[null,null,null,null,null,null,null,"Totalt",6.6249999999999991,{"$f":"IF(O36>=0,\"+\",\"-\")","v":"-"},{"$f":"IF(O36<0,-O36,O36)","v":4.1666666666665741E-2},null,null,{"$f":"N35","v":6.6249999999999991},{"$f":"O35+O3","v":-4.1666666666665741E-2}]
[null,null,null,null,null,null,null,null,null,"=",{"$f":"O36*24","v":-0.9999999999999778}]

{"sheet":"Årsarbetsschema","index":2,"n_rows":51,"n_cols":28,"rows_kept":51,"cut":false,"hidden":false,"merged":[[1,16,2,16],[0,10,0,11],[0,12,0,14],[44,2,44,3],[44,4,44,6],[44,9,44,10],[44,11,44,13],[45,17,45,26],[42,17,42,26],[43,17,43,26],[44,17,44,26],[39,17,39,26],[41,17,41,28],[40,17,40,28]]}
[null,{"$f":"\"Årsarbetstidsschema \" & Uppgifter!C4 & \" för \" & IF(Uppgifter!C6<>\"\",Uppgifter!C6,\"\")","v":"Årsarbetstidsschema 2026 för "}]
[null,null,null,null,null,null,null,null,null,null,"Personnummer",null,"Arbetsställe",null,null,null,{"$f":"Uppgifter!C4","v":2026}]
[]
[null,"Datum","Januari","Februari","Mars ","April","Maj","Juni","Juli","Augusti","September","Oktober","November","December",null,null,1,2,3,4,5,6,7,8,9,10,11,12]
[null,1,null,null,null,"08:00:00",null,"08:00:00","08:00:00",null,"08:00:00","08:00:00",null,"08:00:00",null,null,-1,7,7,3,-1,1,3,6,2,4,7,2]
[null,2,"08:00:00","08:00:00","08:00:00","08:00:00",null,"08:00:00","08:00:00",null,"08:00:00","08:00:00","08:00:00","08:00:00",null,null,5,1,1,4,6,2,4,7,3,5,1,3]
[null,3,null,"08:00:00","08:00:00",null,null,"08:00:00","08:00:00","08:00:00","08:00:00",null,"08:00:00","08:00:00",null,null,6,2,2,-1,7,3,5,1,4,6,2,4]
[null,4,null,"08:00:00","08:00:00",null,"08:00:00","08:00:00",null,"08:00:00","08:00:00",null,"08:00:00","08:00:00",null,null,7,3,3,6,1,4,6,2,5,7,3,5]
[null,5,"08:00:00","08:00:00","08:00:00",null,"08:00:00","08:00:00",null,"08:00:00",null,"08:00:00","08:00:00",null,null,null,1,4,4,7,2,5,7,3,6,1,4,6]
[null,6,null,"08:00:00","08:00:00",null,"08:00:00",null,"08:00:00","08:00:00",null,"08:00:00","08:00:00",null,null,null,-1,5,5,-1,3,6,1,4,7,2,5,7]
[null,7,"08:00:00",null,null,"08:00:00","08:00:00",null,"08:00:00","08:00:00","08:00:00","08:00:00",null,"08:00:00",null,null,3,6,6,2,4,7,2,5,1,3,6,1]
[null,8,"08:00:00",null,null,"08:00:00","08:00:00","08:00:00","08:00:00",null,"08:00:00","08:00:00",null,"08:00:00",null,null,4,7,7,3,5,1,3,6,2,4,7,2]
[null,9,"08:00:00","08:00:00","08:00:00","08:00:00",null,"08:00:00","08:00:00",null,"08:00:00","08:00:00","08:00:00","08:00:00",null,null,5,1,1,4,6,2,4,7,3,5,1,3]
[null,10,null,"08:00:00","08:00:00","08:00:00",null,"08:00:00","08:00:00","08:00:00","08:00:00",null,"08:00:00","08:00:00",null,null,6,2,2,5,7,3,5,1,4,6,2,4]
[null,11,null,"08:00:00","08:00:00",null,"08:00:00","08:00:00",null,"08:00:00","08:00:00",null,"08:00:00","08:00:00",null,null,7,3,3,6,1,4,6,2,5,7,3,5]
[null,12,"08:00:00","08:00:00","08:00:00",null,"08:00:00","08:00:00",null,"08:00:00",null,"08:00:00","08:00:00",null,null,null,1,4,4,7,2,5,7,3,6,1,4,6]
[null,13,"08:00:00","08:00:00","08:00:00","08:00:00","08:00:00",null,"08:00:00","08:00:00",null,"08:00:00","08:00:00",null,null,null,2,5,5,1,3,6,1,4,7,2,5,7]
[null,14,"08:00:00",null,null,"08:00:00",null,null,"08:00:00","08:00:00","08:00:00","08:00:00",null,"08:00:00",null,null,3,6,6,2,-1,7,2,5,1,3,6,1]
[null,15,"08:00:00",null,null,"08:00:00","08:00:00","08:00:00","08:00:00",null,"08:00:00","08:00:00",null,"08:00:00",null,null,4,7,7,3,5,1,3,6,2,4,7,2]
[null,16,"08:00:00","08:00:00","08:00:00","08:00:00",null,"08:00:00","08:00:00",null,"08:00:00","08:00:00","08:00:00","08:00:00",null,null,5,1,1,4,6,2,4,7,3,5,1,3]
[null,17,null,"08:00:00","08:00:00","08:00:00",null,"08:00:00","08:00:00","08:00:00","08:00:00",null,"08:00:00","08:00:00",null,null,6,2,2,5,7,3,5,1,4,6,2,4]
[null,18,null,"08:00:00","08:00:00",null,"08:00:00","08:00:00",null,"08:00:00","08:00:00",null,"08:00:00","08:00:00",null,null,7,3,3,6,1,4,6,2,5,7,3,5]
[null,19,"08:00:00","08:00:00","08:00:00",null,"08:00:00",null,null,"08:00:00",null,"08:00:00","08:00:00",null,null,null,1,4,4,7,2,-1,7,3,6,1,4,6]
[null,20,"08:00:00","08:00:00","08:00:00","08:00:00","08:00:00",null,"08:00:00","08:00:00",null,"08:00:00","08:00:00",null,null,null,2,5,5,1,3,6,1,4,7,2,5,7]
[null,21,"08:00:00",null,null,"08:00:00","08:00:00",null,"08:00:00","08:00:00","08:00:00","08:00:00",null,"08:00:00",null,null,3,6,6,2,4,7,2,5,1,3,6,1]
[null,22,"08:00:00",null,null,"08:00:00","08:00:00","08:00:00","08:00:00",null,"08:00:00","08:00:00",null,"08:00:00",null,null,4,7,7,3,5,1,3,6,2,4,7,2]
[null,23,"08:00:00","08:00:00","08:00:00","08:00:00",null,"08:00:00","08:00:00",null,"08:00:00","08:00:00","08:00:00","08:00:00",null,null,5,1,1,4,6,2,4,7,3,5,1,3]
[null,24,null,"08:00:00","08:00:00","08:00:00",null,"08:00:00","08:00:00","08:00:00","08:00:00",null,"08:00:00",null,null,null,6,2,2,5,7,3,5,1,4,6,2,-1]
[null,25,null,"08:00:00","08:00:00",null,"08:00:00","08:00:00",null,"08:00:00","08:00:00",null,"08:00:00",null,null,null,7,3,3,6,1,4,6,2,5,7,3,-1]
[null,26,"08:00:00","08:00:00","08:00:00",null,"08:00:00","08:00:00",null,"08:00:00",null,"08:00:00","08:00:00",null,null,null,1,4,4,7,2,5,7,3,6,1,4,6]
[null,27,"08:00:00","08:00:00","08:00:00","08:00:00","08:00:00",null,"08:00:00","08:00:00",null,"08:00:00","08:00:00",null,null,null,2,5,5,1,3,6,1,4,7,2,5,7]
[null,28,"08:00:00",null,null,"08:00:00","08:00:00",null,"08:00:00","08:00:00","08:00:00","08:00:00",null,"08:00:00",null,null,3,6,6,2,4,7,2,5,1,3,6,1]
[null,29,"08:00:00",null,null,"08:00:00","08:00:00","08:00:00","08:00:00",null,"08:00:00","08:00:00",null,"08:00:00",null,null,4,null,7,3,5,1,3,6,2,4,7,2]
[null,30,"08:00:00",null,"08:00:00","08:00:00",null,"08:00:00","08:00:00",null,"08:00:00","08:00:00","08:00:00","08:00:00",null,null,5,null,1,4,6,2,4,7,3,5,1,3]
[null,31,null,null,"08:00:00",null,null,null,"08:00:00","08:00:00",null,null,null,null,null,null,6,null,2,null,7,null,5,1,null,6,null,-1]
[]
[null,null,{"$f":"SUM(C5:C35)*24","v":159.99999999999994},{"$f":"SUM(D5:D35)*24","v":159.99999999999994},{"$f":"SUM(E5:E35)*24","v":175.99999999999994},{"$f":"SUM(F5:F35)*24","v":159.99999999999994},151.99999999999994,{"$f":"SUM(H5:H35)*24","v":167.99999999999994},183.99999999999991,167.99999999999994,175.99999999999994,175.99999999999994,167.99999999999994,159.99999999999994,{"$f":"SUM(C37:N37)","v":2007.9999999999998}]
[]
[null,null,"Arbetstid/dag","08:00:00",null,{"$f":"\"mindre än \" & TEXT(D39,\"TT:MM\")","v":"mindre än 08:00"},{"$f":"IF(D39>0,D39-0.001,0)","v":"07:58:33.600"},null,"Lördag/Söndag",null,null,{"$f":"\"Årsarbetstid \" &Q2","v":"Årsarbetstid 2026"},null,{"$f":"24*($D$39*5*$C$41-$J$40*D39)","v":2000},null,null,null,null,null,null,7]
[null,null,{"$f":"D39*5","v":1.6666666666666665},"tim/vecka",null,{"$f":"\"mer än \" & TEXT(D39,\"TT:MM\")","v":"mer än 08:00"},{"$f":"D39+0.001","v":"08:01:26.400"},null,"Avtals.helgdag",{"$f":"COUNTIF(Q5:AB35,\"-1\")+1","v":11},null,"Utlagda arbetstimmar",null,{"$f":"SUM(C37:N37)","v":2007.9999999999998},null,null,null,"Dagar som ska markeras blått är:"]
[null,null,52.2,"Veckor",null,null,null,null,null,null,null,"Skillnad",null,{"$f":"N40-N39","v":7.9999999999997726},null,null,null,"Nyårsafton, Nyårsdagen, 13:e dag jul, långfredagen, påskdagen, annandag påsk, 1a maj, Kristi himmelfärdsdagen, "]
[null,null,{"$f":"C49","v":52.4},"Veckor ifyllda",null,null,null,null,null,null,null,null,null,null,null,null,null,"pingstdagen, Sveriges nationaldag, Midsommardagen, alla helgons dag, juldagen och annandag jul."]
[null,null,null,null,null,null,null,null,null,null,null,null,null,null,null,null,null,"Vid röda dagar ändra siffran till -1 för att automatiskt uppdatera flextidsrapporten med den röda dagen."]
[null,null,null,null,null,null,null,null,null,null,null,null,null,null,null,null,null,"Och radera sedan tiden från de blåa fälten på denna sida, så de inte räknas med i årsarbetstiden."]
[null,null,null,null,null,null,null,null,null,null,null,null,null,null,null,null,null,"Vid ändrande av -1, dra från hörnet på rutan över eller under för att få med formeln."]
[null,null,"Datum",null,"Arbetstagare",null,null,null,null,"Datum",null,"Chef"]
[]
[]
[null,null,{"$f":"SUM((COUNTA($C$5:$N$35)+$J$40)/5)","v":52.4},"Veckor ifyllda"]
[null,null,1.6666666666666667,"Heltidsmått"]
[null,null,{"$f":"C40/C50","v":0.99999999999999989},"Arbetsprocent"]

{"sheet":"Arbetat","index":3,"n_rows":69,"n_cols":41,"rows_kept":69,"cut":false,"hidden":false,"merged":[[41,2,41,6]]}
[null,null,null,null,null,null,null,null,null,null,null,null,null,null,null,null,{"$f":"Uppgifter!C4","v":2026}]
[null,"Datum","Januari","Februari","Mars ","April","Maj","Juni","Juli","Augusti","September","Oktober","November","December",null,null,1,2,3,4,5,6,7,8,9,10,11,12]
[null,1,{"$f":"Januari!$I4","v":"00:00:00"},{"$f":"Februari!$I4","v":"00:00:00"},{"$f":"Mars!$I4","v":"00:00:00"},{"$f":"April!$I4","v":"00:00:00"},{"$f":"Maj!$I4","v":"00:00:00"},{"$f":"Juni!$I4","v":"00:00:00"},{"$f":"Juli!$I4","v":"00:00:00"},{"$f":"Augusti!$I4","v":"00:00:00"},{"$f":"September!$I4","v":"00:00:00"},{"$f":"Oktober!$I4","v":"00:00:00"},{"$f":"November!$I4","v":"00:00:00"},{"$f":"December!$I4","v":"00:00:00"},null,null,{"$f":"Årsarbetsschema!Q5","v":-1},{"$f":"Årsarbetsschema!R5","v":7},{"$f":"Årsarbetsschema!S5","v":7},{"$f":"Årsarbetsschema!T5","v":3},{"$f":"Årsarbetsschema!U5","v":-1},{"$f":"Årsarbetsschema!V5","v":1},{"$f":"Årsarbetsschema!W5","v":3},{"$f":"Årsarbetsschema!X5","v":6},{"$f":"Årsarbetsschema!Y5","v":2},{"$f":"Årsarbetsschema!Z5","v":4},{"$f":"Årsarbetsschema!AA5","v":7},{"$f":"Årsarbetsschema!AB5","v":2},null,{"$f":"Årsarbetsschema!C5","v":0},{"$f":"Årsarbetsschema!D5","v":0},{"$f":"Årsarbetsschema!E5","v":0},{"$f":"Årsarbetsschema!F5","v":0.33333333333333331},{"$f":"Årsarbetsschema!G5","v":0},{"$f":"Årsarbetsschema!H5","v":0.33333333333333331},{"$f":"Årsarbetsschema!I5","v":0.33333333333333331},{"$f":"Årsarbetsschema!J5","v":0},{"$f":"Årsarbetsschema!K5","v":0.33333333333333331},{"$f":"Årsarbetsschema!L5","v":0.33333333333333331},{"$f":"Årsarbetsschema!M5","v":0},{"$f":"Årsarbetsschema!N5","v":0.33333333333333331}]
[null,2,{"$f":"Januari!$I5","v":"00:00:00"},{"$f":"Februari!$I5","v":"00:00:00"},{"$f":"Mars!$I5","v":"00:00:00"},{"$f":"April!$I5","v":"00:00:00"},{"$f":"Maj!$I5","v":"00:00:00"},{"$f":"Juni!$I5","v":"00:00:00"},{"$f":"Juli!$I5","v":"00:00:00"},{"$f":"Augusti!$I5","v":"00:00:00"},{"$f":"September!$I5","v":"00:00:00"},{"$f":"Oktober!$I5","v":"00:00:00"},{"$f":"November!$I5","v":"00:00:00"},{"$f":"December!$I5","v":"00:00:00"},null,null,{"$f":"Årsarbetsschema!Q6","v":5},{"$f":"Årsarbetsschema!R6","v":1},{"$f":"Årsarbetsschema!S6","v":1},{"$f":"Årsarbetsschema!T6","v":4},{"$f":"Årsarbetsschema!U6","v":6},{"$f":"Årsarbetsschema!V6","v":2},{"$f":"Årsarbetsschema!W6","v":4},{"$f":"Årsarbetsschema!X6","v":7},{"$f":"Årsarbetsschema!Y6","v":3},{"$f":"Årsarbetsschema!Z6","v":5},{"$f":"Årsarbetsschema!AA6","v":1},{"$f":"Årsarbetsschema!AB6","v":3},null,{"$f":"Årsarbetsschema!C6","v":0.33333333333333331},{"$f":"Årsarbetsschema!D6","v":0.33333333333333331},{"$f":"Årsarbetsschema!E6","v":0.33333333333333331},{"$f":"Årsarbetsschema!F6","v":0.33333333333333331},{"$f":"Årsarbetsschema!G6","v":0},{"$f":"Årsarbetsschema!H6","v":0.33333333333333331},{"$f":"Årsarbetsschema!I6","v":0.33333333333333331},{"$f":"Årsarbetsschema!J6","v":0},{"$f":"Årsarbetsschema!K6","v":0.33333333333333331},{"$f":"Årsarbetsschema!L6","v":0.33333333333333331},{"$f":"Årsarbetsschema!M6","v":0.33333333333333331},{"$f":"Årsarbetsschema!N6","v":0.33333333333333331}]
[null,3,{"$f":"Januari!$I6","v":"00:00:00"},{"$f":"Februari!$I6","v":"00:00:00"},{"$f":"Mars!$I6","v":"00:00:00"},{"$f":"April!$I6","v":"00:00:00"},{"$f":"Maj!$I6","v":"00:00:00"},{"$f":"Juni!$I6","v":"00:00:00"},{"$f":"Juli!$I6","v":"00:00:00"},{"$f":"Augusti!$I6","v":"00:00:00"},{"$f":"September!$I6","v":"00:00:00"},{"$f":"Oktober!$I6","v":"00:00:00"},{"$f":"November!$I6","v":"00:00:00"},{"$f":"December!$I6","v":"00:00:00"},null,null,{"$f":"Årsarbetsschema!Q7","v":6},{"$f":"Årsarbetsschema!R7","v":2},{"$f":"Årsarbetsschema!S7","v":2},{"$f":"Årsarbetsschema!T7","v":-1},{"$f":"Årsarbetsschema!U7","v":7},{"$f":"Årsarbetsschema!V7","v":3},{"$f":"Årsarbetsschema!W7","v":5},{"$f":"Årsarbetsschema!X7","v":1},{"$f":"Årsarbetsschema!Y7","v":4},{"$f":"Årsarbetsschema!Z7","v":6},{"$f":"Årsarbetsschema!AA7","v":2},{"$f":"Årsarbetsschema!AB7","v":4},null,{"$f":"Årsarbetsschema!C7","v":0},{"$f":"Årsarbetsschema!D7","v":0.33333333333333331},{"$f":"Årsarbetsschema!E7","v":0.33333333333333331},{"$f":"Årsarbetsschema!F7","v":0},{"$f":"Årsarbetsschema!G7","v":0},{"$f":"Årsarbetsschema!H7","v":0.33333333333333331},{"$f":"Årsarbetsschema!I7","v":0.33333333333333331},{"$f":"Årsarbetsschema!J7","v":0.33333333333333331},{"$f":"Årsarbetsschema!K7","v":0.33333333333333331},{"$f":"Årsarbetsschema!L7","v":0},{"$f":"Årsarbetsschema!M7","v":0.33333333333333331},{"$f":"Årsarbetsschema!N7","v":0.33333333333333331}]
[null,4,{"$f":"Januari!$I7","v":"00:00:00"},{"$f":"Februari!$I7","v":"00:00:00"},{"$f":"Mars!$I7","v":"00:00:00"},{"$f":"April!$I7","v":"00:00:00"},{"$f":"Maj!$I7","v":"00:00:00"},{"$f":"Juni!$I7","v":"00:00:00"},{"$f":"Juli!$I7","v":"00:00:00"},{"$f":"Augusti!$I7","v":"00:00:00"},{"$f":"September!$I7","v":"00:00:00"},{"$f":"Oktober!$I7","v":"00:00:00"},{"$f":"November!$I7","v":"00:00:00"},{"$f":"December!$I7","v":"00:00:00"},null,null,{"$f":"Årsarbetsschema!Q8","v":7},{"$f":"Årsarbetsschema!R8","v":3},{"$f":"Årsarbetsschema!S8","v":3},{"$f":"Årsarbetsschema!T8","v":6},{"$f":"Årsarbetsschema!U8","v":1},{"$f":"Årsarbetsschema!V8","v":4},{"$f":"Årsarbetsschema!W8","v":6},{"$f":"Årsarbetsschema!X8","v":2},{"$f":"Årsarbetsschema!Y8","v":5},{"$f":"Årsarbetsschema!Z8","v":7},{"$f":"Årsarbetsschema!AA8","v":3},{"$f":"Årsarbetsschema!AB8","v":5},null,{"$f":"Årsarbetsschema!C8","v":0},{"$f":"Årsarbetsschema!D8","v":0.33333333333333331},{"$f":"Årsarbetsschema!E8","v":0.33333333333333331},{"$f":"Årsarbetsschema!F8","v":0},{"$f":"Årsarbetsschema!G8","v":0.33333333333333331},{"$f":"Årsarbetsschema!H8","v":0.33333333333333331},{"$f":"Årsarbetsschema!I8","v":0},{"$f":"Årsarbetsschema!J8","v":0.33333333333333331},{"$f":"Årsarbetsschema!K8","v":0.33333333333333331},{"$f":"Årsarbetsschema!L8","v":0},{"$f":"Årsarbetsschema!M8","v":0.33333333333333331},{"$f":"Årsarbetsschema!N8","v":0.33333333333333331}]
[null,5,{"$f":"Januari!$I8","v":"00:00:00"},{"$f":"Februari!$I8","v":"00:00:00"},{"$f":"Mars!$I8","v":"00:00:00"},{"$f":"April!$I8","v":"00:00:00"},{"$f":"Maj!$I8","v":"00:00:00"},{"$f":"Juni!$I8","v":"00:00:00"},{"$f":"Juli!$I8","v":"00:00:00"},{"$f":"Augusti!$I8","v":"00:00:00"},{"$f":"September!$I8","v":"00:00:00"},{"$f":"Oktober!$I8","v":"00:00:00"},{"$f":"November!$I8","v":"00:00:00"},{"$f":"December!$I8","v":"00:00:00"},null,null,{"$f":"Årsarbetsschema!Q9","v":1},{"$f":"Årsarbetsschema!R9","v":4},{"$f":"Årsarbetsschema!S9","v":4},{"$f":"Årsarbetsschema!T9","v":7},{"$f":"Årsarbetsschema!U9","v":2},{"$f":"Årsarbetsschema!V9","v":5},{"$f":"Årsarbetsschema!W9","v":7},{"$f":"Årsarbetsschema!X9","v":3},{"$f":"Årsarbetsschema!Y9","v":6},{"$f":"Årsarbetsschema!Z9","v":1},{"$f":"Årsarbetsschema!AA9","v":4},{"$f":"Årsarbetsschema!AB9","v":6},null,{"$f":"Årsarbetsschema!C9","v":0.33333333333333331},{"$f":"Årsarbetsschema!D9","v":0.33333333333333331},{"$f":"Årsarbetsschema!E9","v":0.33333333333333331},{"$f":"Årsarbetsschema!F9","v":0},{"$f":"Årsarbetsschema!G9","v":0.33333333333333331},{"$f":"Årsarbetsschema!H9","v":0.33333333333333331},{"$f":"Årsarbetsschema!I9","v":0},{"$f":"Årsarbetsschema!J9","v":0.33333333333333331},{"$f":"Årsarbetsschema!K9","v":0},{"$f":"Årsarbetsschema!L9","v":0.33333333333333331},{"$f":"Årsarbetsschema!M9","v":0.33333333333333331},{"$f":"Årsarbetsschema!N9","v":0}]
[null,6,{"$f":"Januari!$I9","v":"00:00:00"},{"$f":"Februari!$I9","v":"00:00:00"},{"$f":"Mars!$I9","v":"00:00:00"},{"$f":"April!$I9","v":"00:00:00"},{"$f":"Maj!$I9","v":"00:00:00"},{"$f":"Juni!$I9","v":"00:00:00"},{"$f":"Juli!$I9","v":"00:00:00"},{"$f":"Augusti!$I9","v":"00:00:00"},{"$f":"September!$I9","v":"00:00:00"},{"$f":"Oktober!$I9","v":"00:00:00"},{"$f":"November!$I9","v":"00:00:00"},{"$f":"December!$I9","v":"00:00:00"},null,null,{"$f":"Årsarbetsschema!Q10","v":-1},{"$f":"Årsarbetsschema!R10","v":5},{"$f":"Årsarbetsschema!S10","v":5},{"$f":"Årsarbetsschema!T10","v":-1},{"$f":"Årsarbetsschema!U10","v":3},{"$f":"Årsarbetsschema!V10","v":6},{"$f":"Årsarbetsschema!W10","v":1},{"$f":"Årsarbetsschema!X10","v":4},{"$f":"Årsarbetsschema!Y10","v":7},{"$f":"Årsarbetsschema!Z10","v":2},{"$f":"Årsarbetsschema!AA10","v":5},{"$f":"Årsarbetsschema!AB10","v":7},null,{"$f":"Årsarbetsschema!C10","v":0},{"$f":"Årsarbetsschema!D10","v":0.33333333333333331},{"$f":"Årsarbetsschema!E10","v":0.33333333333333331},{"$f":"Årsarbetsschema!F10","v":0},{"$f":"Årsarbetsschema!G10","v":0.33333333333333331},{"$f":"Årsarbetsschema!H10","v":0},{"$f":"Årsarbetsschema!I10","v":0.33333333333333331},{"$f":"Årsarbetsschema!J10","v":0.33333333333333331},{"$f":"Årsarbetsschema!K10","v":0},{"$f":"Årsarbetsschema!L10","v":0.33333333333333331},{"$f":"Årsarbetsschema!M10","v":0.33333333333333331},{"$f":"Årsarbetsschema!N10","v":0}]
[null,7,{"$f":"Januari!$I10","v":"00:00:00"},{"$f":"Februari!$I10","v":"00:00:00"},{"$f":"Mars!$I10","v":"00:00:00"},{"$f":"April!$I10","v":"00:00:00"},{"$f":"Maj!$I10","v":"00:00:00"},{"$f":"Juni!$I10","v":"00:00:00"},{"$f":"Juli!$I10","v":"00:00:00"},{"$f":"Augusti!$I10","v":"00:00:00"},{"$f":"September!$I10","v":"00:00:00"},{"$f":"Oktober!$I10","v":"00:00:00"},{"$f":"November!$I10","v":"00:00:00"},{"$f":"December!$I10","v":"00:00:00"},null,null,{"$f":"Årsarbetsschema!Q11","v":3},{"$f":"Årsarbetsschema!R11","v":6},{"$f":"Årsarbetsschema!S11","v":6},{"$f":"Årsarbetsschema!T11","v":2},{"$f":"Årsarbetsschema!U11","v":4},{"$f":"Årsarbetsschema!V11","v":7},{"$f":"Årsarbetsschema!W11","v":2},{"$f":"Årsarbetsschema!X11","v":5},{"$f":"Årsarbetsschema!Y11","v":1},{"$f":"Årsarbetsschema!Z11","v":3},{"$f":"Årsarbetsschema!AA11","v":6},{"$f":"Årsarbetsschema!AB11","v":1},null,{"$f":"Årsarbetsschema!C11","v":0.33333333333333331},{"$f":"Årsarbetsschema!D11","v":0},{"$f":"Årsarbetsschema!E11","v":0},{"$f":"Årsarbetsschema!F11","v":0.33333333333333331},{"$f":"Årsarbetsschema!G11","v":0.33333333333333331},{"$f":"Årsarbetsschema!H11","v":0},{"$f":"Årsarbetsschema!I11","v":0.33333333333333331},{"$f":"Årsarbetsschema!J11","v":0.33333333333333331},{"$f":"Årsarbetsschema!K11","v":0.33333333333333331},{"$f":"Årsarbetsschema!L11","v":0.33333333333333331},{"$f":"Årsarbetsschema!M11","v":0},{"$f":"Årsarbetsschema!N11","v":0.33333333333333331}]
[null,8,{"$f":"Januari!$I11","v":"00:00:00"},{"$f":"Februari!$I11","v":"00:00:00"},{"$f":"Mars!$I11","v":"00:00:00"},{"$f":"April!$I11","v":"00:00:00"},{"$f":"Maj!$I11","v":"00:00:00"},{"$f":"Juni!$I11","v":"00:00:00"},{"$f":"Juli!$I11","v":"00:00:00"},{"$f":"Augusti!$I11","v":"00:00:00"},{"$f":"September!$I11","v":"00:00:00"},{"$f":"Oktober!$I11","v":"00:00:00"},{"$f":"November!$I11","v":"00:00:00"},{"$f":"December!$I11","v":"00:00:00"},null,null,{"$f":"Årsarbetsschema!Q12","v":4},{"$f":"Årsarbetsschema!R12","v":7},{"$f":"Årsarbetsschema!S12","v":7},{"$f":"Årsarbetsschema!T12","v":3},{"$f":"Årsarbetsschema!U12","v":5},{"$f":"Årsarbetsschema!V12","v":1},{"$f":"Årsarbetsschema!W12","v":3},{"$f":"Årsarbetsschema!X12","v":6},{"$f":"Årsarbetsschema!Y12","v":2},{"$f":"Årsarbetsschema!Z12","v":4},{"$f":"Årsarbetsschema!AA12","v":7},{"$f":"Årsarbetsschema!AB12","v":2},null,{"$f":"Årsarbetsschema!C12","v":0.33333333333333331},{"$f":"Årsarbetsschema!D12","v":0},{"$f":"Årsarbetsschema!E12","v":0},{"$f":"Årsarbetsschema!F12","v":0.33333333333333331},{"$f":"Årsarbetsschema!G12","v":0.33333333333333331},{"$f":"Årsarbetsschema!H12","v":0.33333333333333331},{"$f":"Årsarbetsschema!I12","v":0.33333333333333331},{"$f":"Årsarbetsschema!J12","v":0},{"$f":"Årsarbetsschema!K12","v":0.33333333333333331},{"$f":"Årsarbetsschema!L12","v":0.33333333333333331},{"$f":"Årsarbetsschema!M12","v":0},{"$f":"Årsarbetsschema!N12","v":0.33333333333333331}]
[null,9,{"$f":"Januari!$I12","v":"00:00:00"},{"$f":"Februari!$I12","v":"00:00:00"},{"$f":"Mars!$I12","v":"00:00:00"},{"$f":"April!$I12","v":"00:00:00"},{"$f":"Maj!$I12","v":"00:00:00"},{"$f":"Juni!$I12","v":"00:00:00"},{"$f":"Juli!$I12","v":"00:00:00"},{"$f":"Augusti!$I12","v":"00:00:00"},{"$f":"September!$I12","v":"00:00:00"},{"$f":"Oktober!$I12","v":"00:00:00"},{"$f":"November!$I12","v":"00:00:00"},{"$f":"December!$I12","v":"00:00:00"},null,null,{"$f":"Årsarbetsschema!Q13","v":5},{"$f":"Årsarbetsschema!R13","v":1},{"$f":"Årsarbetsschema!S13","v":1},{"$f":"Årsarbetsschema!T13","v":4},{"$f":"Årsarbetsschema!U13","v":6},{"$f":"Årsarbetsschema!V13","v":2},{"$f":"Årsarbetsschema!W13","v":4},{"$f":"Årsarbetsschema!X13","v":7},{"$f":"Årsarbetsschema!Y13","v":3},{"$f":"Årsarbetsschema!Z13","v":5},{"$f":"Årsarbetsschema!AA13","v":1},{"$f":"Årsarbetsschema!AB13","v":3},null,{"$f":"Årsarbetsschema!C13","v":0.33333333333333331},{"$f":"Årsarbetsschema!D13","v":0.33333333333333331},{"$f":"Årsarbetsschema!E13","v":0.33333333333333331},{"$f":"Årsarbetsschema!F13","v":0.33333333333333331},{"$f":"Årsarbetsschema!G13","v":0},{"$f":"Årsarbetsschema!H13","v":0.33333333333333331},{"$f":"Årsarbetsschema!I13","v":0.33333333333333331},{"$f":"Årsarbetsschema!J13","v":0},{"$f":"Årsarbetsschema!K13","v":0.33333333333333331},{"$f":"Årsarbetsschema!L13","v":0.33333333333333331},{"$f":"Årsarbetsschema!M13","v":0.33333333333333331},{"$f":"Årsarbetsschema!N13","v":0.33333333333333331}]
[null,10,{"$f":"Januari!$I13","v":"00:00:00"},{"$f":"Februari!$I13","v":"00:00:00"},{"$f":"Mars!$I13","v":"00:00:00"},{"$f":"April!$I13","v":"00:00:00"},{"$f":"Maj!$I13","v":"00:00:00"},{"$f":"Juni!$I13","v":"00:00:00"},{"$f":"Juli!$I13","v":"00:00:00"},{"$f":"Augusti!$I13","v":"00:00:00"},{"$f":"September!$I13","v":"00:00:00"},{"$f":"Oktober!$I13","v":"00:00:00"},{"$f":"November!$I13","v":"00:00:00"},{"$f":"December!$I13","v":"00:00:00"},null,null,{"$f":"Årsarbetsschema!Q14","v":6},{"$f":"Årsarbetsschema!R14","v":2},{"$f":"Årsarbetsschema!S14","v":2},{"$f":"Årsarbetsschema!T14","v":5},{"$f":"Årsarbetsschema!U14","v":7},{"$f":"Årsarbetsschema!V14","v":3},{"$f":"Årsarbetsschema!W14","v":5},{"$f":"Årsarbetsschema!X14","v":1},{"$f":"Årsarbetsschema!Y14","v":4},{"$f":"Årsarbetsschema!Z14","v":6},{"$f":"Årsarbetsschema!AA14","v":2},{"$f":"Årsarbetsschema!AB14","v":4},null,{"$f":"Årsarbetsschema!C14","v":0},{"$f":"Årsarbetsschema!D14","v":0.33333333333333331},{"$f":"Årsarbetsschema!E14","v":0.33333333333333331},{"$f":"Årsarbetsschema!F14","v":0.33333333333333331},{"$f":"Årsarbetsschema!G14","v":0},{"$f":"Årsarbetsschema!H14","v":0.33333333333333331},{"$f":"Årsarbetsschema!I14","v":0.33333333333333331},{"$f":"Årsarbetsschema!J14","v":0.33333333333333331},{"$f":"Årsarbetsschema!K14","v":0.33333333333333331},{"$f":"Årsarbetsschema!L14","v":0},{"$f":"Årsarbetsschema!M14","v":0.33333333333333331},{"$f":"Årsarbetsschema!N14","v":0.33333333333333331}]
[null,11,{"$f":"Januari!$I14","v":"00:00:00"},{"$f":"Februari!$I14","v":"00:00:00"},{"$f":"Mars!$I14","v":"00:00:00"},{"$f":"April!$I14","v":"00:00:00"},{"$f":"Maj!$I14","v":"00:00:00"},{"$f":"Juni!$I14","v":"00:00:00"},{"$f":"Juli!$I14","v":"00:00:00"},{"$f":"Augusti!$I14","v":"00:00:00"},{"$f":"September!$I14","v":"00:00:00"},{"$f":"Oktober!$I14","v":"00:00:00"},{"$f":"November!$I14","v":"00:00:00"},{"$f":"December!$I14","v":"00:00:00"},null,null,{"$f":"Årsarbetsschema!Q15","v":7},{"$f":"Årsarbetsschema!R15","v":3},{"$f":"Årsarbetsschema!S15","v":3},{"$f":"Årsarbetsschema!T15","v":6},{"$f":"Årsarbetsschema!U15","v":1},{"$f":"Årsarbetsschema!V15","v":4},{"$f":"Årsarbetsschema!W15","v":6},{"$f":"Årsarbetsschema!X15","v":2},{"$f":"Årsarbetsschema!Y15","v":5},{"$f":"Årsarbetsschema!Z15","v":7},{"$f":"Årsarbetsschema!AA15","v":3},{"$f":"Årsarbetsschema!AB15","v":5},null,{"$f":"Årsarbetsschema!C15","v":0},{"$f":"Årsarbetsschema!D15","v":0.33333333333333331},{"$f":"Årsarbetsschema!E15","v":0.33333333333333331},{"$f":"Årsarbetsschema!F15","v":0},{"$f":"Årsarbetsschema!G15","v":0.33333333333333331},{"$f":"Årsarbetsschema!H15","v":0.33333333333333331},{"$f":"Årsarbetsschema!I15","v":0},{"$f":"Årsarbetsschema!J15","v":0.33333333333333331},{"$f":"Årsarbetsschema!K15","v":0.33333333333333331},{"$f":"Årsarbetsschema!L15","v":0},{"$f":"Årsarbetsschema!M15","v":0.33333333333333331},{"$f":"Årsarbetsschema!N15","v":0.33333333333333331}]
[null,12,{"$f":"Januari!$I15","v":"00:00:00"},{"$f":"Februari!$I15","v":"00:00:00"},{"$f":"Mars!$I15","v":"00:00:00"},{"$f":"April!$I15","v":"00:00:00"},{"$f":"Maj!$I15","v":"00:00:00"},{"$f":"Juni!$I15","v":"00:00:00"},{"$f":"Juli!$I15","v":"00:00:00"},{"$f":"Augusti!$I15","v":"00:00:00"},{"$f":"September!$I15","v":"00:00:00"},{"$f":"Oktober!$I15","v":"00:00:00"},{"$f":"November!$I15","v":"00:00:00"},{"$f":"December!$I15","v":"00:00:00"},null,null,{"$f":"Årsarbetsschema!Q16","v":1},{"$f":"Årsarbetsschema!R16","v":4},{"$f":"Årsarbetsschema!S16","v":4},{"$f":"Årsarbetsschema!T16","v":7},{"$f":"Årsarbetsschema!U16","v":2},{"$f":"Årsarbetsschema!V16","v":5},{"$f":"Årsarbetsschema!W16","v":7},{"$f":"Årsarbetsschema!X16","v":3},{"$f":"Årsarbetsschema!Y16","v":6},{"$f":"Årsarbetsschema!Z16","v":1},{"$f":"Årsarbetsschema!AA16","v":4},{"$f":"Årsarbetsschema!AB16","v":6},null,{"$f":"Årsarbetsschema!C16","v":0.33333333333333331},{"$f":"Årsarbetsschema!D16","v":0.33333333333333331},{"$f":"Årsarbetsschema!E16","v":0.33333333333333331},{"$f":"Årsarbetsschema!F16","v":0},{"$f":"Årsarbetsschema!G16","v":0.33333333333333331},{"$f":"Årsarbetsschema!H16","v":0.33333333333333331},{"$f":"Årsarbetsschema!I16","v":0},{"$f":"Årsarbetsschema!J16","v":0.33333333333333331},{"$f":"Årsarbetsschema!K16","v":0},{"$f":"Årsarbetsschema!L16","v":0.33333333333333331},{"$f":"Årsarbetsschema!M16","v":0.33333333333333331},{"$f":"Årsarbetsschema!N16","v":0}]
[null,13,{"$f":"Januari!$I16","v":"00:00:00"},{"$f":"Februari!$I16","v":"00:00:00"},{"$f":"Mars!$I16","v":"00:00:00"},{"$f":"April!$I16","v":"00:00:00"},{"$f":"Maj!$I16","v":"00:00:00"},{"$f":"Juni!$I16","v":"00:00:00"},{"$f":"Juli!$I16","v":"00:00:00"},{"$f":"Augusti!$I16","v":"00:00:00"},{"$f":"September!$I16","v":"00:00:00"},{"$f":"Oktober!$I16","v":"00:00:00"},{"$f":"November!$I16","v":"00:00:00"},{"$f":"December!$I16","v":"00:00:00"},null,null,{"$f":"Årsarbetsschema!Q17","v":2},{"$f":"Årsarbetsschema!R17","v":5},{"$f":"Årsarbetsschema!S17","v":5},{"$f":"Årsarbetsschema!T17","v":1},{"$f":"Årsarbetsschema!U17","v":3},{"$f":"Årsarbetsschema!V17","v":6},{"$f":"Årsarbetsschema!W17","v":1},{"$f":"Årsarbetsschema!X17","v":4},{"$f":"Årsarbetsschema!Y17","v":7},{"$f":"Årsarbetsschema!Z17","v":2},{"$f":"Årsarbetsschema!AA17","v":5},{"$f":"Årsarbetsschema!AB17","v":7},null,{"$f":"Årsarbetsschema!C17","v":0.33333333333333331},{"$f":"Årsarbetsschema!D17","v":0.33333333333333331},{"$f":"Årsarbetsschema!E17","v":0.33333333333333331},{"$f":"Årsarbetsschema!F17","v":0.33333333333333331},{"$f":"Årsarbetsschema!G17","v":0.33333333333333331},{"$f":"Årsarbetsschema!H17","v":0},{"$f":"Årsarbetsschema!I17","v":0.33333333333333331},{"$f":"Årsarbetsschema!J17","v":0.33333333333333331},{"$f":"Årsarbetsschema!K17","v":0},{"$f":"Årsarbetsschema!L17","v":0.33333333333333331},{"$f":"Årsarbetsschema!M17","v":0.33333333333333331},{"$f":"Årsarbetsschema!N17","v":0}]
[null,14,{"$f":"Januari!$I17","v":"00:00:00"},{"$f":"Februari!$I17","v":"00:00:00"},{"$f":"Mars!$I17","v":"00:00:00"},{"$f":"April!$I17","v":"00:00:00"},{"$f":"Maj!$I17","v":"00:00:00"},{"$f":"Juni!$I17","v":"00:00:00"},{"$f":"Juli!$I17","v":"00:00:00"},{"$f":"Augusti!$I17","v":"00:00:00"},{"$f":"September!$I17","v":"00:00:00"},{"$f":"Oktober!$I17","v":"00:00:00"},{"$f":"November!$I17","v":"00:00:00"},{"$f":"December!$I17","v":"00:00:00"},null,null,{"$f":"Årsarbetsschema!Q18","v":3},{"$f":"Årsarbetsschema!R18","v":6},{"$f":"Årsarbetsschema!S18","v":6},{"$f":"Årsarbetsschema!T18","v":2},{"$f":"Årsarbetsschema!U18","v":-1},{"$f":"Årsarbetsschema!V18","v":7},{"$f":"Årsarbetsschema!W18","v":2},{"$f":"Årsarbetsschema!X18","v":5},{"$f":"Årsarbetsschema!Y18","v":1},{"$f":"Årsarbetsschema!Z18","v":3},{"$f":"Årsarbetsschema!AA18","v":6},{"$f":"Årsarbetsschema!AB18","v":1},null,{"$f":"Årsarbetsschema!C18","v":0.33333333333333331},{"$f":"Årsarbetsschema!D18","v":0},{"$f":"Årsarbetsschema!E18","v":0},{"$f":"Årsarbetsschema!F18","v":0.33333333333333331},{"$f":"Årsarbetsschema!G18","v":0},{"$f":"Årsarbetsschema!H18","v":0},{"$f":"Årsarbetsschema!I18","v":0.33333333333333331},{"$f":"Årsarbetsschema!J18","v":0.33333333333333331},{"$f":"Årsarbetsschema!K18","v":0.33333333333333331},{"$f":"Årsarbetsschema!L18","v":0.33333333333333331},{"$f":"Årsarbetsschema!M18","v":0},{"$f":"Årsarbetsschema!N18","v":0.33333333333333331}]
[null,15,{"$f":"Januari!$I18","v":"00:00:00"},{"$f":"Februari!$I18","v":"00:00:00"},{"$f":"Mars!$I18","v":"00:00:00"},{"$f":"April!$I18","v":"00:00:00"},{"$f":"Maj!$I18","v":"00:00:00"},{"$f":"Juni!$I18","v":"00:00:00"},{"$f":"Juli!$I18","v":"00:00:00"},{"$f":"Augusti!$I18","v":"00:00:00"},{"$f":"September!$I18","v":"00:00:00"},{"$f":"Oktober!$I18","v":"00:00:00"},{"$f":"November!$I18","v":"00:00:00"},{"$f":"December!$I18","v":"00:00:00"},null,null,{"$f":"Årsarbetsschema!Q19","v":4},{"$f":"Årsarbetsschema!R19","v":7},{"$f":"Årsarbetsschema!S19","v":7},{"$f":"Årsarbetsschema!T19","v":3},{"$f":"Årsarbetsschema!U19","v":5},{"$f":"Årsarbetsschema!V19","v":1},{"$f":"Årsarbetsschema!W19","v":3},{"$f":"Årsarbetsschema!X19","v":6},{"$f":"Årsarbetsschema!Y19","v":2},{"$f":"Årsarbetsschema!Z19","v":4},{"$f":"Årsarbetsschema!AA19","v":7},{"$f":"Årsarbetsschema!AB19","v":2},null,{"$f":"Årsarbetsschema!C19","v":0.33333333333333331},{"$f":"Årsarbetsschema!D19","v":0},{"$f":"Årsarbetsschema!E19","v":0},{"$f":"Årsarbetsschema!F19","v":0.33333333333333331},{"$f":"Årsarbetsschema!G19","v":0.33333333333333331},{"$f":"Årsarbetsschema!H19","v":0.33333333333333331},{"$f":"Årsarbetsschema!I19","v":0.33333333333333331},{"$f":"Årsarbetsschema!J19","v":0},{"$f":"Årsarbetsschema!K19","v":0.33333333333333331},{"$f":"Årsarbetsschema!L19","v":0.33333333333333331},{"$f":"Årsarbetsschema!M19","v":0},{"$f":"Årsarbetsschema!N19","v":0.33333333333333331}]
[null,16,{"$f":"Januari!$I19","v":"00:00:00"},{"$f":"Februari!$I19","v":"00:00:00"},{"$f":"Mars!$I19","v":"00:00:00"},{"$f":"April!$I19","v":"00:00:00"},{"$f":"Maj!$I19","v":"00:00:00"},{"$f":"Juni!$I19","v":"00:00:00"},{"$f":"Juli!$I19","v":"00:00:00"},{"$f":"Augusti!$I19","v":"00:00:00"},{"$f":"September!$I19","v":"00:00:00"},{"$f":"Oktober!$I19","v":"00:00:00"},{"$f":"November!$I19","v":"00:00:00"},{"$f":"December!$I19","v":"00:00:00"},null,null,{"$f":"Årsarbetsschema!Q20","v":5},{"$f":"Årsarbetsschema!R20","v":1},{"$f":"Årsarbetsschema!S20","v":1},{"$f":"Årsarbetsschema!T20","v":4},{"$f":"Årsarbetsschema!U20","v":6},{"$f":"Årsarbetsschema!V20","v":2},{"$f":"Årsarbetsschema!W20","v":4},{"$f":"Årsarbetsschema!X20","v":7},{"$f":"Årsarbetsschema!Y20","v":3},{"$f":"Årsarbetsschema!Z20","v":5},{"$f":"Årsarbetsschema!AA20","v":1},{"$f":"Årsarbetsschema!AB20","v":3},null,{"$f":"Årsarbetsschema!C20","v":0.33333333333333331},{"$f":"Årsarbetsschema!D20","v":0.33333333333333331},{"$f":"Årsarbetsschema!E20","v":0.33333333333333331},{"$f":"Årsarbetsschema!F20","v":0.33333333333333331},{"$f":"Årsarbetsschema!G20","v":0},{"$f":"Årsarbetsschema!H20","v":0.33333333333333331},{"$f":"Årsarbetsschema!I20","v":0.33333333333333331},{"$f":"Årsarbetsschema!J20","v":0},{"$f":"Årsarbetsschema!K20","v":0.33333333333333331},{"$f":"Årsarbetsschema!L20","v":0.33333333333333331},{"$f":"Årsarbetsschema!M20","v":0.33333333333333331},{"$f":"Årsarbetsschema!N20","v":0.33333333333333331}]
[null,17,{"$f":"Januari!$I20","v":"00:00:00"},{"$f":"Februari!$I20","v":"00:00:00"},{"$f":"Mars!$I20","v":"00:00:00"},{"$f":"April!$I20","v":"00:00:00"},{"$f":"Maj!$I20","v":"00:00:00"},{"$f":"Juni!$I20","v":"00:00:00"},{"$f":"Juli!$I20","v":"00:00:00"},{"$f":"Augusti!$I20","v":"00:00:00"},{"$f":"September!$I20","v":"00:00:00"},{"$f":"Oktober!$I20","v":"00:00:00"},{"$f":"November!$I20","v":"00:00:00"},{"$f":"December!$I20","v":"00:00:00"},null,null,{"$f":"Årsarbetsschema!Q21","v":6},{"$f":"Årsarbetsschema!R21","v":2},{"$f":"Årsarbetsschema!S21","v":2},{"$f":"Årsarbetsschema!T21","v":5},{"$f":"Årsarbetsschema!U21","v":7},{"$f":"Årsarbetsschema!V21","v":3},{"$f":"Årsarbetsschema!W21","v":5},{"$f":"Årsarbetsschema!X21","v":1},{"$f":"Årsarbetsschema!Y21","v":4},{"$f":"Årsarbetsschema!Z21","v":6},{"$f":"Årsarbetsschema!AA21","v":2},{"$f":"Årsarbetsschema!AB21","v":4},null,{"$f":"Årsarbetsschema!C21","v":0},{"$f":"Årsarbetsschema!D21","v":0.33333333333333331},{"$f":"Årsarbetsschema!E21","v":0.33333333333333331},{"$f":"Årsarbetsschema!F21","v":0.33333333333333331},{"$f":"Årsarbetsschema!G21","v":0},{"$f":"Årsarbetsschema!H21","v":0.33333333333333331},{"$f":"Årsarbetsschema!I21","v":0.33333333333333331},{"$f":"Årsarbetsschema!J21","v":0.33333333333333331},{"$f":"Årsarbetsschema!K21","v":0.33333333333333331},{"$f":"Årsarbetsschema!L21","v":0},{"$f":"Årsarbetsschema!M21","v":0.33333333333333331},{"$f":"Årsarbetsschema!N21","v":0.33333333333333331}]
[null,18,{"$f":"Januari!$I21","v":"00:00:00"},{"$f":"Februari!$I21","v":"00:00:00"},{"$f":"Mars!$I21","v":"00:00:00"},{"$f":"April!$I21","v":"00:00:00"},{"$f":"Maj!$I21","v":"00:00:00"},{"$f":"Juni!$I21","v":"00:00:00"},{"$f":"Juli!$I21","v":"00:00:00"},{"$f":"Augusti!$I21","v":"00:00:00"},{"$f":"September!$I21","v":"00:00:00"},{"$f":"Oktober!$I21","v":"00:00:00"},{"$f":"November!$I21","v":"00:00:00"},{"$f":"December!$I21","v":"00:00:00"},null,null,{"$f":"Årsarbetsschema!Q22","v":7},{"$f":"Årsarbetsschema!R22","v":3},{"$f":"Årsarbetsschema!S22","v":3},{"$f":"Årsarbetsschema!T22","v":6},{"$f":"Årsarbetsschema!U22","v":1},{"$f":"Årsarbetsschema!V22","v":4},{"$f":"Årsarbetsschema!W22","v":6},{"$f":"Årsarbetsschema!X22","v":2},{"$f":"Årsarbetsschema!Y22","v":5},{"$f":"Årsarbetsschema!Z22","v":7},{"$f":"Årsarbetsschema!AA22","v":3},{"$f":"Årsarbetsschema!AB22","v":5},null,{"$f":"Årsarbetsschema!C22","v":0},{"$f":"Årsarbetsschema!D22","v":0.33333333333333331},{"$f":"Årsarbetsschema!E22","v":0.33333333333333331},{"$f":"Årsarbetsschema!F22","v":0},{"$f":"Årsarbetsschema!G22","v":0.33333333333333331},{"$f":"Årsarbetsschema!H22","v":0.33333333333333331},{"$f":"Årsarbetsschema!I22","v":0},{"$f":"Årsarbetsschema!J22","v":0.33333333333333331},{"$f":"Årsarbetsschema!K22","v":0.33333333333333331},{"$f":"Årsarbetsschema!L22","v":0},{"$f":"Årsarbetsschema!M22","v":0.33333333333333331},{"$f":"Årsarbetsschema!N22","v":0.33333333333333331}]
[null,19,{"$f":"Januari!$I22","v":"00:00:00"},{"$f":"Februari!$I22","v":"00:00:00"},{"$f":"Mars!$I22","v":"00:00:00"},{"$f":"April!$I22","v":"00:00:00"},{"$f":"Maj!$I22","v":"00:00:00"},{"$f":"Juni!$I22","v":"00:00:00"},{"$f":"Juli!$I22","v":"00:00:00"},{"$f":"Augusti!$I22","v":"00:00:00"},{"$f":"September!$I22","v":"00:00:00"},{"$f":"Oktober!$I22","v":"00:00:00"},{"$f":"November!$I22","v":"00:00:00"},{"$f":"December!$I22","v":"00:00:00"},null,null,{"$f":"Årsarbetsschema!Q23","v":1},{"$f":"Årsarbetsschema!R23","v":4},{"$f":"Årsarbetsschema!S23","v":4},{"$f":"Årsarbetsschema!T23","v":7},{"$f":"Årsarbetsschema!U23","v":2},{"$f":"Årsarbetsschema!V23","v":-1},{"$f":"Årsarbetsschema!W23","v":7},{"$f":"Årsarbetsschema!X23","v":3},{"$f":"Årsarbetsschema!Y23","v":6},{"$f":"Årsarbetsschema!Z23","v":1},{"$f":"Årsarbetsschema!AA23","v":4},{"$f":"Årsarbetsschema!AB23","v":6},null,{"$f":"Årsarbetsschema!C23","v":0.33333333333333331},{"$f":"Årsarbetsschema!D23","v":0.33333333333333331},{"$f":"Årsarbetsschema!E23","v":0.33333333333333331},{"$f":"Årsarbetsschema!F23","v":0},{"$f":"Årsarbetsschema!G23","v":0.33333333333333331},{"$f":"Årsarbetsschema!H23","v":0},{"$f":"Årsarbetsschema!I23","v":0},{"$f":"Årsarbetsschema!J23","v":0.33333333333333331},{"$f":"Årsarbetsschema!K23","v":0},{"$f":"Årsarbetsschema!L23","v":0.33333333333333331},{"$f":"Årsarbetsschema!M23","v":0.33333333333333331},{"$f":"Årsarbetsschema!N23","v":0}]
[null,20,{"$f":"Januari!$I23","v":"00:00:00"},{"$f":"Februari!$I23","v":"00:00:00"},{"$f":"Mars!$I23","v":"00:00:00"},{"$f":"April!$I23","v":"00:00:00"},{"$f":"Maj!$I23","v":"00:00:00"},{"$f":"Juni!$I23","v":"00:00:00"},{"$f":"Juli!$I23","v":"00:00:00"},{"$f":"Augusti!$I23","v":"00:00:00"},{"$f":"September!$I23","v":"00:00:00"},{"$f":"Oktober!$I23","v":"00:00:00"},{"$f":"November!$I23","v":"00:00:00"},{"$f":"December!$I23","v":"00:00:00"},null,null,{"$f":"Årsarbetsschema!Q24","v":2},{"$f":"Årsarbetsschema!R24","v":5},{"$f":"Årsarbetsschema!S24","v":5},{"$f":"Årsarbetsschema!T24","v":1},{"$f":"Årsarbetsschema!U24","v":3},{"$f":"Årsarbetsschema!V24","v":6},{"$f":"Årsarbetsschema!W24","v":1},{"$f":"Årsarbetsschema!X24","v":4},{"$f":"Årsarbetsschema!Y24","v":7},{"$f":"Årsarbetsschema!Z24","v":2},{"$f":"Årsarbetsschema!AA24","v":5},{"$f":"Årsarbetsschema!AB24","v":7},null,{"$f":"Årsarbetsschema!C24","v":0.33333333333333331},{"$f":"Årsarbetsschema!D24","v":0.33333333333333331},{"$f":"Årsarbetsschema!E24","v":0.33333333333333331},{"$f":"Årsarbetsschema!F24","v":0.33333333333333331},{"$f":"Årsarbetsschema!G24","v":0.33333333333333331},{"$f":"Årsarbetsschema!H24","v":0},{"$f":"Årsarbetsschema!I24","v":0.33333333333333331},{"$f":"Årsarbetsschema!J24","v":0.33333333333333331},{"$f":"Årsarbetsschema!K24","v":0},{"$f":"Årsarbetsschema!L24","v":0.33333333333333331},{"$f":"Årsarbetsschema!M24","v":0.33333333333333331},{"$f":"Årsarbetsschema!N24","v":0}]
[null,21,{"$f":"Januari!$I24","v":"00:00:00"},{"$f":"Februari!$I24","v":"00:00:00"},{"$f":"Mars!$I24","v":"00:00:00"},{"$f":"April!$I24","v":"00:00:00"},{"$f":"Maj!$I24","v":"00:00:00"},{"$f":"Juni!$I24","v":"00:00:00"},{"$f":"Juli!$I24","v":"00:00:00"},{"$f":"Augusti!$I24","v":"00:00:00"},{"$f":"September!$I24","v":"00:00:00"},{"$f":"Oktober!$I24","v":"00:00:00"},{"$f":"November!$I24","v":"00:00:00"},{"$f":"December!$I24","v":"00:00:00"},null,null,{"$f":"Årsarbetsschema!Q25","v":3},{"$f":"Årsarbetsschema!R25","v":6},{"$f":"Årsarbetsschema!S25","v":6},{"$f":"Årsarbetsschema!T25","v":2},{"$f":"Årsarbetsschema!U25","v":4},{"$f":"Årsarbetsschema!V25","v":7},{"$f":"Årsarbetsschema!W25","v":2},{"$f":"Årsarbetsschema!X25","v":5},{"$f":"Årsarbetsschema!Y25","v":1},{"$f":"Årsarbetsschema!Z25","v":3},{"$f":"Årsarbetsschema!AA25","v":6},{"$f":"Årsarbetsschema!AB25","v":1},null,{"$f":"Årsarbetsschema!C25","v":0.33333333333333331},{"$f":"Årsarbetsschema!D25","v":0},{"$f":"Årsarbetsschema!E25","v":0},{"$f":"Årsarbetsschema!F25","v":0.33333333333333331},{"$f":"Årsarbetsschema!G25","v":0.33333333333333331},{"$f":"Årsarbetsschema!H25","v":0},{"$f":"Årsarbetsschema!I25","v":0.33333333333333331},{"$f":"Årsarbetsschema!J25","v":0.33333333333333331},{"$f":"Årsarbetsschema!K25","v":0.33333333333333331},{"$f":"Årsarbetsschema!L25","v":0.33333333333333331},{"$f":"Årsarbetsschema!M25","v":0},{"$f":"Årsarbetsschema!N25","v":0.33333333333333331}]
[null,22,{"$f":"Januari!$I25","v":"00:00:00"},{"$f":"Februari!$I25","v":"00:00:00"},{"$f":"Mars!$I25","v":"00:00:00"},{"$f":"April!$I25","v":"00:00:00"},{"$f":"Maj!$I25","v":"00:00:00"},{"$f":"Juni!$I25","v":"00:00:00"},{"$f":"Juli!$I25","v":"00:00:00"},{"$f":"Augusti!$I25","v":"00:00:00"},{"$f":"September!$I25","v":"00:00:00"},{"$f":"Oktober!$I25","v":"00:00:00"},{"$f":"November!$I25","v":"00:00:00"},{"$f":"December!$I25","v":"00:00:00"},null,null,{"$f":"Årsarbetsschema!Q26","v":4},{"$f":"Årsarbetsschema!R26","v":7},{"$f":"Årsarbetsschema!S26","v":7},{"$f":"Årsarbetsschema!T26","v":3},{"$f":"Årsarbetsschema!U26","v":5},{"$f":"Årsarbetsschema!V26","v":1},{"$f":"Årsarbetsschema!W26","v":3},{"$f":"Årsarbetsschema!X26","v":6},{"$f":"Årsarbetsschema!Y26","v":2},{"$f":"Årsarbetsschema!Z26","v":4},{"$f":"Årsarbetsschema!AA26","v":7},{"$f":"Årsarbetsschema!AB26","v":2},null,{"$f":"Årsarbetsschema!C26","v":0.33333333333333331},{"$f":"Årsarbetsschema!D26","v":0},{"$f":"Årsarbetsschema!E26","v":0},{"$f":"Årsarbetsschema!F26","v":0.33333333333333331},{"$f":"Årsarbetsschema!G26","v":0.33333333333333331},{"$f":"Årsarbetsschema!H26","v":0.33333333333333331},{"$f":"Årsarbetsschema!I26","v":0.33333333333333331},{"$f":"Årsarbetsschema!J26","v":0},{"$f":"Årsarbetsschema!K26","v":0.33333333333333331},{"$f":"Årsarbetsschema!L26","v":0.33333333333333331},{"$f":"Årsarbetsschema!M26","v":0},{"$f":"Årsarbetsschema!N26","v":0.33333333333333331}]
[null,23,{"$f":"Januari!$I26","v":"00:00:00"},{"$f":"Februari!$I26","v":"00:00:00"},{"$f":"Mars!$I26","v":"00:00:00"},{"$f":"April!$I26","v":"00:00:00"},{"$f":"Maj!$I26","v":"00:00:00"},{"$f":"Juni!$I26","v":"00:00:00"},{"$f":"Juli!$I26","v":"00:00:00"},{"$f":"Augusti!$I26","v":"00:00:00"},{"$f":"September!$I26","v":"00:00:00"},{"$f":"Oktober!$I26","v":"00:00:00"},{"$f":"November!$I26","v":"00:00:00"},{"$f":"December!$I26","v":"00:00:00"},null,null,{"$f":"Årsarbetsschema!Q27","v":5},{"$f":"Årsarbetsschema!R27","v":1},{"$f":"Årsarbetsschema!S27","v":1},{"$f":"Årsarbetsschema!T27","v":4},{"$f":"Årsarbetsschema!U27","v":6},{"$f":"Årsarbetsschema!V27","v":2},{"$f":"Årsarbetsschema!W27","v":4},{"$f":"Årsarbetsschema!X27","v":7},{"$f":"Årsarbetsschema!Y27","v":3},{"$f":"Årsarbetsschema!Z27","v":5},{"$f":"Årsarbetsschema!AA27","v":1},{"$f":"Årsarbetsschema!AB27","v":3},null,{"$f":"Årsarbetsschema!C27","v":0.33333333333333331},{"$f":"Årsarbetsschema!D27","v":0.33333333333333331},{"$f":"Årsarbetsschema!E27","v":0.33333333333333331},{"$f":"Årsarbetsschema!F27","v":0.33333333333333331},{"$f":"Årsarbetsschema!G27","v":0},{"$f":"Årsarbetsschema!H27","v":0.33333333333333331},{"$f":"Årsarbetsschema!I27","v":0.33333333333333331},{"$f":"Årsarbetsschema!J27","v":0},{"$f":"Årsarbetsschema!K27","v":0.33333333333333331},{"$f":"Årsarbetsschema!L27","v":0.33333333333333331},{"$f":"Årsarbetsschema!M27","v":0.33333333333333331},{"$f":"Årsarbetsschema!N27","v":0.33333333333333331}]
[null,24,{"$f":"Januari!$I27","v":"00:00:00"},{"$f":"Februari!$I27","v":"00:00:00"},{"$f":"Mars!$I27","v":"00:00:00"},{"$f":"April!$I27","v":"00:00:00"},{"$f":"Maj!$I27","v":"00:00:00"},{"$f":"Juni!$I27","v":"00:00:00"},{"$f":"Juli!$I27","v":"00:00:00"},{"$f":"Augusti!$I27","v":"00:00:00"},{"$f":"September!$I27","v":"00:00:00"},{"$f":"Oktober!$I27","v":"00:00:00"},{"$f":"November!$I27","v":"00:00:00"},{"$f":"December!$I27","v":"00:00:00"},null,null,{"$f":"Årsarbetsschema!Q28","v":6},{"$f":"Årsarbetsschema!R28","v":2},{"$f":"Årsarbetsschema!S28","v":2},{"$f":"Årsarbetsschema!T28","v":5},{"$f":"Årsarbetsschema!U28","v":7},{"$f":"Årsarbetsschema!V28","v":3},{"$f":"Årsarbetsschema!W28","v":5},{"$f":"Årsarbetsschema!X28","v":1},{"$f":"Årsarbetsschema!Y28","v":4},{"$f":"Årsarbetsschema!Z28","v":6},{"$f":"Årsarbetsschema!AA28","v":2},{"$f":"Årsarbetsschema!AB28","v":-1},null,{"$f":"Årsarbetsschema!C28","v":0},{"$f":"Årsarbetsschema!D28","v":0.33333333333333331},{"$f":"Årsarbetsschema!E28","v":0.33333333333333331},{"$f":"Årsarbetsschema!F28","v":0.33333333333333331},{"$f":"Årsarbetsschema!G28","v":0},{"$f":"Årsarbetsschema!H28","v":0.33333333333333331},{"$f":"Årsarbetsschema!I28","v":0.33333333333333331},{"$f":"Årsarbetsschema!J28","v":0.33333333333333331},{"$f":"Årsarbetsschema!K28","v":0.33333333333333331},{"$f":"Årsarbetsschema!L28","v":0},{"$f":"Årsarbetsschema!M28","v":0.33333333333333331},{"$f":"Årsarbetsschema!N28","v":0}]
[null,25,{"$f":"Januari!$I28","v":"00:00:00"},{"$f":"Februari!$I28","v":"00:00:00"},{"$f":"Mars!$I28","v":"00:00:00"},{"$f":"April!$I28","v":"00:00:00"},{"$f":"Maj!$I28","v":"00:00:00"},{"$f":"Juni!$I28","v":"00:00:00"},{"$f":"Juli!$I28","v":"00:00:00"},{"$f":"Augusti!$I28","v":"00:00:00"},{"$f":"September!$I28","v":"00:00:00"},{"$f":"Oktober!$I28","v":"00:00:00"},{"$f":"November!$I28","v":"00:00:00"},{"$f":"December!$I28","v":"00:00:00"},null,null,{"$f":"Årsarbetsschema!Q29","v":7},{"$f":"Årsarbetsschema!R29","v":3},{"$f":"Årsarbetsschema!S29","v":3},{"$f":"Årsarbetsschema!T29","v":6},{"$f":"Årsarbetsschema!U29","v":1},{"$f":"Årsarbetsschema!V29","v":4},{"$f":"Årsarbetsschema!W29","v":6},{"$f":"Årsarbetsschema!X29","v":2},{"$f":"Årsarbetsschema!Y29","v":5},{"$f":"Årsarbetsschema!Z29","v":7},{"$f":"Årsarbetsschema!AA29","v":3},{"$f":"Årsarbetsschema!AB29","v":-1},null,{"$f":"Årsarbetsschema!C29","v":0},{"$f":"Årsarbetsschema!D29","v":0.33333333333333331},{"$f":"Årsarbetsschema!E29","v":0.33333333333333331},{"$f":"Årsarbetsschema!F29","v":0},{"$f":"Årsarbetsschema!G29","v":0.33333333333333331},{"$f":"Årsarbetsschema!H29","v":0.33333333333333331},{"$f":"Årsarbetsschema!I29","v":0},{"$f":"Årsarbetsschema!J29","v":0.33333333333333331},{"$f":"Årsarbetsschema!K29","v":0.33333333333333331},{"$f":"Årsarbetsschema!L29","v":0},{"$f":"Årsarbetsschema!M29","v":0.33333333333333331},{"$f":"Årsarbetsschema!N29","v":0}]
[null,26,{"$f":"Januari!$I29","v":"00:00:00"},{"$f":"Februari!$I29","v":"00:00:00"},{"$f":"Mars!$I29","v":"00:00:00"},{"$f":"April!$I29","v":"00:00:00"},{"$f":"Maj!$I29","v":"00:00:00"},{"$f":"Juni!$I29","v":"00:00:00"},{"$f":"Juli!$I29","v":"00:00:00"},{"$f":"Augusti!$I29","v":"00:00:00"},{"$f":"September!$I29","v":"00:00:00"},{"$f":"Oktober!$I29","v":"00:00:00"},{"$f":"November!$I29","v":"00:00:00"},{"$f":"December!$I29","v":"00:00:00"},null,null,{"$f":"Årsarbetsschema!Q30","v":1},{"$f":"Årsarbetsschema!R30","v":4},{"$f":"Årsarbetsschema!S30","v":4},{"$f":"Årsarbetsschema!T30","v":7},{"$f":"Årsarbetsschema!U30","v":2},{"$f":"Årsarbetsschema!V30","v":5},{"$f":"Årsarbetsschema!W30","v":7},{"$f":"Årsarbetsschema!X30","v":3},{"$f":"Årsarbetsschema!Y30","v":6},{"$f":"Årsarbetsschema!Z30","v":1},{"$f":"Årsarbetsschema!AA30","v":4},{"$f":"Årsarbetsschema!AB30","v":6},null,{"$f":"Årsarbetsschema!C30","v":0.33333333333333331},{"$f":"Årsarbetsschema!D30","v":0.33333333333333331},{"$f":"Årsarbetsschema!E30","v":0.33333333333333331},{"$f":"Årsarbetsschema!F30","v":0},{"$f":"Årsarbetsschema!G30","v":0.33333333333333331},{"$f":"Årsarbetsschema!H30","v":0.33333333333333331},{"$f":"Årsarbetsschema!I30","v":0},{"$f":"Årsarbetsschema!J30","v":0.33333333333333331},{"$f":"Årsarbetsschema!K30","v":0},{"$f":"Årsarbetsschema!L30","v":0.33333333333333331},{"$f":"Årsarbetsschema!M30","v":0.33333333333333331},{"$f":"Årsarbetsschema!N30","v":0}]
[null,27,{"$f":"Januari!$I30","v":"00:00:00"},{"$f":"Februari!$I30","v":"00:00:00"},{"$f":"Mars!$I30","v":"00:00:00"},{"$f":"April!$I30","v":"00:00:00"},{"$f":"Maj!$I30","v":"00:00:00"},{"$f":"Juni!$I30","v":"00:00:00"},{"$f":"Juli!$I30","v":"00:00:00"},{"$f":"Augusti!$I30","v":"00:00:00"},{"$f":"September!$I30","v":"00:00:00"},{"$f":"Oktober!$I30","v":"00:00:00"},{"$f":"November!$I30","v":"00:00:00"},{"$f":"December!$I30","v":"00:00:00"},null,null,{"$f":"Årsarbetsschema!Q31","v":2},{"$f":"Årsarbetsschema!R31","v":5},{"$f":"Årsarbetsschema!S31","v":5},{"$f":"Årsarbetsschema!T31","v":1},{"$f":"Årsarbetsschema!U31","v":3},{"$f":"Årsarbetsschema!V31","v":6},{"$f":"Årsarbetsschema!W31","v":1},{"$f":"Årsarbetsschema!X31","v":4},{"$f":"Årsarbetsschema!Y31","v":7},{"$f":"Årsarbetsschema!Z31","v":2},{"$f":"Årsarbetsschema!AA31","v":5},{"$f":"Årsarbetsschema!AB31","v":7},null,{"$f":"Årsarbetsschema!C31","v":0.33333333333333331},{"$f":"Årsarbetsschema!D31","v":0.33333333333333331},{"$f":"Årsarbetsschema!E31","v":0.33333333333333331},{"$f":"Årsarbetsschema!F31","v":0.33333333333333331},{"$f":"Årsarbetsschema!G31","v":0.33333333333333331},{"$f":"Årsarbetsschema!H31","v":0},{"$f":"Årsarbetsschema!I31","v":0.33333333333333331},{"$f":"Årsarbetsschema!J31","v":0.33333333333333331},{"$f":"Årsarbetsschema!K31","v":0},{"$f":"Årsarbetsschema!L31","v":0.33333333333333331},{"$f":"Årsarbetsschema!M31","v":0.33333333333333331},{"$f":"Årsarbetsschema!N31","v":0}]
[null,28,{"$f":"Januari!$I31","v":"00:00:00"},{"$f":"Februari!$I31","v":"00:00:00"},{"$f":"Mars!$I31","v":"00:00:00"},{"$f":"April!$I31","v":"00:00:00"},{"$f":"Maj!$I31","v":"00:00:00"},{"$f":"Juni!$I31","v":"00:00:00"},{"$f":"Juli!$I31","v":"00:00:00"},{"$f":"Augusti!$I31","v":"00:00:00"},{"$f":"September!$I31","v":"00:00:00"},{"$f":"Oktober!$I31","v":"00:00:00"},{"$f":"November!$I31","v":"00:00:00"},{"$f":"December!$I31","v":"00:00:00"},null,null,{"$f":"Årsarbetsschema!Q32","v":3},{"$f":"Årsarbetsschema!R32","v":6},{"$f":"Årsarbetsschema!S32","v":6},{"$f":"Årsarbetsschema!T32","v":2},{"$f":"Årsarbetsschema!U32","v":4},{"$f":"Årsarbetsschema!V32","v":7},{"$f":"Årsarbetsschema!W32","v":2},{"$f":"Årsarbetsschema!X32","v":5},{"$f":"Årsarbetsschema!Y32","v":1},{"$f":"Årsarbetsschema!Z32","v":3},{"$f":"Årsarbetsschema!AA32","v":6},{"$f":"Årsarbetsschema!AB32","v":1},null,{"$f":"Årsarbetsschema!C32","v":0.33333333333333331},{"$f":"Årsarbetsschema!D32","v":0},{"$f":"Årsarbetsschema!E32","v":0},{"$f":"Årsarbetsschema!F32","v":0.33333333333333331},{"$f":"Årsarbetsschema!G32","v":0.33333333333333331},{"$f":"Årsarbetsschema!H32","v":0},{"$f":"Årsarbetsschema!I32","v":0.33333333333333331},{"$f":"Årsarbetsschema!J32","v":0.33333333333333331},{"$f":"Årsarbetsschema!K32","v":0.33333333333333331},{"$f":"Årsarbetsschema!L32","v":0.33333333333333331},{"$f":"Årsarbetsschema!M32","v":0},{"$f":"Årsarbetsschema!N32","v":0.33333333333333331}]
[null,29,{"$f":"Januari!$I32","v":"00:00:00"},null,{"$f":"Mars!$I32","v":"00:00:00"},{"$f":"April!$I32","v":"00:00:00"},{"$f":"Maj!$I32","v":"00:00:00"},{"$f":"Juni!$I32","v":"00:00:00"},{"$f":"Juli!$I32","v":"00:00:00"},{"$f":"Augusti!$I32","v":"00:00:00"},{"$f":"September!$I32","v":"00:00:00"},{"$f":"Oktober!$I32","v":"00:00:00"},{"$f":"November!$I32","v":"00:00:00"},{"$f":"December!$I32","v":"00:00:00"},null,null,{"$f":"Årsarbetsschema!Q33","v":4},{"$f":"Årsarbetsschema!R33","v":0},{"$f":"Årsarbetsschema!S33","v":7},{"$f":"Årsarbetsschema!T33","v":3},{"$f":"Årsarbetsschema!U33","v":5},{"$f":"Årsarbetsschema!V33","v":1},{"$f":"Årsarbetsschema!W33","v":3},{"$f":"Årsarbetsschema!X33","v":6},{"$f":"Årsarbetsschema!Y33","v":2},{"$f":"Årsarbetsschema!Z33","v":4},{"$f":"Årsarbetsschema!AA33","v":7},{"$f":"Årsarbetsschema!AB33","v":2},null,{"$f":"Årsarbetsschema!C33","v":0.33333333333333331},{"$f":"Årsarbetsschema!D33","v":0},{"$f":"Årsarbetsschema!E33","v":0},{"$f":"Årsarbetsschema!F33","v":0.33333333333333331},{"$f":"Årsarbetsschema!G33","v":0.33333333333333331},{"$f":"Årsarbetsschema!H33","v":0.33333333333333331},{"$f":"Årsarbetsschema!I33","v":0.33333333333333331},{"$f":"Årsarbetsschema!J33","v":0},{"$f":"Årsarbetsschema!K33","v":0.33333333333333331},{"$f":"Årsarbetsschema!L33","v":0.33333333333333331},{"$f":"Årsarbetsschema!M33","v":0},{"$f":"Årsarbetsschema!N33","v":0.33333333333333331}]
[null,30,{"$f":"Januari!$I33","v":"00:00:00"},null,{"$f":"Mars!$I33","v":"00:00:00"},{"$f":"April!$I33","v":"00:00:00"},{"$f":"Maj!$I33","v":"00:00:00"},{"$f":"Juni!$I33","v":"00:00:00"},{"$f":"Juli!$I33","v":"00:00:00"},{"$f":"Augusti!$I33","v":"00:00:00"},{"$f":"September!$I33","v":"00:00:00"},{"$f":"Oktober!$I33","v":"00:00:00"},{"$f":"November!$I33","v":"00:00:00"},{"$f":"December!$I33","v":"00:00:00"},null,null,{"$f":"Årsarbetsschema!Q34","v":5},null,{"$f":"Årsarbetsschema!S34","v":1},{"$f":"Årsarbetsschema!T34","v":4},{"$f":"Årsarbetsschema!U34","v":6},{"$f":"Årsarbetsschema!V34","v":2},{"$f":"Årsarbetsschema!W34","v":4},{"$f":"Årsarbetsschema!X34","v":7},{"$f":"Årsarbetsschema!Y34","v":3},{"$f":"Årsarbetsschema!Z34","v":5},{"$f":"Årsarbetsschema!AA34","v":1},{"$f":"Årsarbetsschema!AB34","v":3},null,{"$f":"Årsarbetsschema!C34","v":0.33333333333333331},{"$f":"Årsarbetsschema!D34","v":0},{"$f":"Årsarbetsschema!E34","v":0.33333333333333331},{"$f":"Årsarbetsschema!F34","v":0.33333333333333331},{"$f":"Årsarbetsschema!G34","v":0},{"$f":"Årsarbetsschema!H34","v":0.33333333333333331},{"$f":"Årsarbetsschema!I34","v":0.33333333333333331},{"$f":"Årsarbetsschema!J34","v":0},{"$f":"Årsarbetsschema!K34","v":0.33333333333333331},{"$f":"Årsarbetsschema!L34","v":0.33333333333333331},{"$f":"Årsarbetsschema!M34","v":0.33333333333333331},{"$f":"Årsarbetsschema!N34","v":0.33333333333333331}]
[null,31,{"$f":"Januari!$I34","v":"00:00:00"},null,{"$f":"Mars!$I34","v":"00:00:00"},null,{"$f":"Maj!$I34","v":"00:00:00"},null,{"$f":"Juli!$I34","v":"00:00:00"},{"$f":"Augusti!$I34","v":"00:00:00"},null,{"$f":"Oktober!$I34","v":"00:00:00"},null,{"$f":"December!$I34","v":"00:00:00"},null,null,{"$f":"Årsarbetsschema!Q35","v":6},null,{"$f":"Årsarbetsschema!S35","v":2},null,{"$f":"Årsarbetsschema!U35","v":7},null,{"$f":"Årsarbetsschema!W35","v":5},{"$f":"Årsarbetsschema!X35","v":1},null,{"$f":"Årsarbetsschema!Z35","v":6},null,{"$f":"Årsarbetsschema!AB35","v":-1},null,{"$f":"Årsarbetsschema!C35","v":0},{"$f":"Årsarbetsschema!D35","v":0},{"$f":"Årsarbetsschema!E35","v":0.33333333333333331},{"$f":"Årsarbetsschema!F35","v":0},{"$f":"Årsarbetsschema!G35","v":0},{"$f":"Årsarbetsschema!H35","v":0},{"$f":"Årsarbetsschema!I35","v":0.33333333333333331},{"$f":"Årsarbetsschema!J35","v":0.33333333333333331},{"$f":"Årsarbetsschema!K35","v":0},{"$f":"Årsarbetsschema!L35","v":0},{"$f":"Årsarbetsschema!M35","v":0},{"$f":"Årsarbetsschema!N35","v":0}]
[]
[null,"Arbetat",{"$f":"SUM(C3:C33)*24","v":0},{"$f":"SUM(D3:D30)*24","v":0},{"$f":"SUM(E3:E33)*24","v":0},0,0,0,0,0,0,0,0,0,{"$f":"SUM(C35:N35)","v":0}]
[null,"Planerat",{"$f":"Årsarbetsschema!C37","v":159.99999999999994},{"$f":"Årsarbetsschema!D37","v":159.99999999999994},{"$f":"Årsarbetsschema!E37","v":175.99999999999994},{"$f":"Årsarbetsschema!F37","v":159.99999999999994},{"$f":"Årsarbetsschema!G37","v":151.99999999999994},{"$f":"Årsarbetsschema!H37","v":167.99999999999994},{"$f":"Årsarbetsschema!I37","v":183.99999999999991},{"$f":"Årsarbetsschema!J37","v":167.99999999999994},{"$f":"Årsarbetsschema!K37","v":175.99999999999994},{"$f":"Årsarbetsschema!L37","v":175.99999999999994},{"$f":"Årsarbetsschema!M37","v":167.99999999999994},{"$f":"Årsarbetsschema!N37","v":159.99999999999994},{"$f":"SUM(C36:N36)","v":2007.9999999999998}]
[null,"Flex",{"$f":"Januari!$O$35*24","v":0},{"$f":"Februari!$O$35*24","v":0},{"$f":"Mars!$O$35*24","v":0},{"$f":"April!$O$35*24","v":0},{"$f":"Maj!$O$35*24","v":0},{"$f":"Juni!$O$35*24","v":0},{"$f":"Juli!$O$35*24","v":0},{"$f":"Augusti!$O$35*24","v":0},{"$f":"September!$O$35*24","v":0},{"$f":"Oktober!$O$35*24","v":0},{"$f":"November!$O$35*24","v":0},{"$f":"December!$O$35*24","v":0},{"$f":"O35-O36","v":-2007.9999999999998}]
[null,"Total flex",{"$f":"Januari!$O$36*24","v":0},{"$f":"IF(D35>0,C38+D37,0)","v":0},{"$f":"IF(E35>0,D38+E37,0)","v":0},0,0,0,0,0,0,0,0,0,null,null,null,null,null,null,null,null,null,null,null,null,null,null,null,{"$f":"Januari!C4","v":0},{"$f":"Februari!C4","v":0},{"$f":"Mars!C4","v":0},{"$f":"April!C4","v":0},{"$f":"Maj!C4","v":0},{"$f":"Juni!C4","v":0},{"$f":"Juli!C4","v":0},{"$f":"Augusti!C4","v":0},{"$f":"September!C4","v":0},{"$f":"Oktober!C4","v":0},{"$f":"November!C4","v":0},{"$f":"December!C4","v":0}]
[null,null,null,null,null,null,null,null,null,null,null,null,null,null,null,null,null,null,null,null,null,null,null,null,null,null,null,null,null,{"$f":"Januari!C5","v":0},{"$f":"Februari!C5","v":0},{"$f":"Mars!C5","v":0},{"$f":"April!C5","v":0},{"$f":"Maj!C5","v":0},{"$f":"Juni!C5","v":0},{"$f":"Juli!C5","v":0},{"$f":"Augusti!C5","v":0},{"$f":"September!C5","v":0},{"$f":"Oktober!C5","v":0},{"$f":"November!C5","v":0},{"$f":"December!C5","v":0}]
[null,null,null,null,null,null,null,null,null,"Semesterdagar",{"$f":"SUM(AD69:AO69)","v":0},null,"Avtals.helgdagar",{"$f":"Årsarbetsschema!$J$40","v":11},null,null,null,null,null,null,null,null,null,null,null,null,null,null,null,{"$f":"Januari!C6","v":0},{"$f":"Februari!C6","v":0},{"$f":"Mars!C6","v":0},{"$f":"April!C6","v":0},{"$f":"Maj!C6","v":0},{"$f":"Juni!C6","v":0},{"$f":"Juli!C6","v":0},{"$f":"Augusti!C6","v":0},{"$f":"September!C6","v":0},{"$f":"Oktober!C6","v":0},{"$f":"November!C6","v":0},{"$f":"December!C6","v":0}]
[null,null,null,null,null,null,null,null,null,null,null,null,"Mindre än planerat",{"$f":"Årsarbetsschema!D39-0.01","v":"07:45:36"},null,null,null,null,null,null,null,null,null,null,null,null,null,null,null,{"$f":"Januari!C7","v":0},{"$f":"Februari!C7","v":0},{"$f":"Mars!C7","v":0},{"$f":"April!C7","v":0},{"$f":"Maj!C7","v":0},{"$f":"Juni!C7","v":0},{"$f":"Juli!C7","v":0},{"$f":"Augusti!C7","v":0},{"$f":"September!C7","v":0},{"$f":"Oktober!C7","v":0},{"$f":"November!C7","v":0},{"$f":"December!C7","v":0}]
[null,null,null,null,null,null,null,null,null,null,null,null,"Mer än planerat",{"$f":"Årsarbetsschema!D39+0.01","v":"08:14:24"},null,null,null,null,null,null,null,null,null,null,null,null,null,null,null,{"$f":"Januari!C8","v":0},{"$f":"Februari!C8","v":0},{"$f":"Mars!C8","v":0},{"$f":"April!C8","v":0},{"$f":"Maj!C8","v":0},{"$f":"Juni!C8","v":0},{"$f":"Juli!C8","v":0},{"$f":"Augusti!C8","v":0},{"$f":"September!C8","v":0},{"$f":"Oktober!C8","v":0},{"$f":"November!C8","v":0},{"$f":"December!C8","v":0}]
[null,null,{"$f":"IF(Uppgifter!$C$6=\"\",\"\",Uppgifter!$C$6)","v":""},null,null,null,null,null,null,null,null,null,null,null,null,null,null,null,null,null,null,null,null,null,null,null,null,null,null,{"$f":"Januari!C9","v":0},{"$f":"Februari!C9","v":0},{"$f":"Mars!C9","v":0},{"$f":"April!C9","v":0},{"$f":"Maj!C9","v":0},{"$f":"Juni!C9","v":0},{"$f":"Juli!C9","v":0},{"$f":"Augusti!C9","v":0},{"$f":"September!C9","v":0},{"$f":"Oktober!C9","v":0},{"$f":"November!C9","v":0},{"$f":"December!C9","v":0}]
[null,null,null,null,null,null,null,null,null,null,null,null,null,null,null,null,null,null,null,null,null,null,null,null,null,null,null,null,null,{"$f":"Januari!C10","v":0},{"$f":"Februari!C10","v":0},{"$f":"Mars!C10","v":0},{"$f":"April!C10","v":0},{"$f":"Maj!C10","v":0},{"$f":"Juni!C10","v":0},{"$f":"Juli!C10","v":0},{"$f":"Augusti!C10","v":0},{"$f":"September!C10","v":0},{"$f":"Oktober!C10","v":0},{"$f":"November!C10","v":0},{"$f":"December!C10","v":0}]
[null,null,null,null,null,null,null,null,null,null,null,null,null,null,null,null,null,null,null,null,null,null,null,null,null,null,null,null,null,{"$f":"Januari!C11","v":0},{"$f":"Februari!C11","v":0},{"$f":"Mars!C11","v":0},{"$f":"April!C11","v":0},{"$f":"Maj!C11","v":0},{"$f":"Juni!C11","v":0},{"$f":"Juli!C11","v":0},{"$f":"Augusti!C11","v":0},{"$f":"September!C11","v":0},{"$f":"Oktober!C11","v":0},{"$f":"November!C11","v":0},{"$f":"December!C11","v":0}]
[null,null,null,null,null,null,null,null,null,null,null,null,null,null,null,null,null,null,null,null,null,null,null,null,null,null,null,null,null,{"$f":"Januari!C12","v":0},{"$f":"Februari!C12","v":0},{"$f":"Mars!C12","v":0},{"$f":"April!C12","v":0},{"$f":"Maj!C12","v":0},{"$f":"Juni!C12","v":0},{"$f":"Juli!C12","v":0},{"$f":"Augusti!C12","v":0},{"$f":"September!C12","v":0},{"$f":"Oktober!C12","v":0},{"$f":"November!C12","v":0},{"$f":"December!C12","v":0}]
[null,null,null,null,null,null,null,null,null,null,null,null,null,null,null,null,null,null,null,null,null,null,null,null,null,null,null,null,null,{"$f":"Januari!C13","v":0},{"$f":"Februari!C13","v":0},{"$f":"Mars!C13","v":0},{"$f":"April!C13","v":0},{"$f":"Maj!C13","v":0},{"$f":"Juni!C13","v":0},{"$f":"Juli!C13","v":0},{"$f":"Augusti!C13","v":0},{"$f":"September!C13","v":0},{"$f":"Oktober!C13","v":0},{"$f":"November!C13","v":0},{"$f":"December!C13","v":0}]
[null,null,null,null,null,null,null,null,null,null,null,null,null,null,null,null,null,null,null,null,null,null,null,null,null,null,null,null,null,{"$f":"Januari!C14","v":0},{"$f":"Februari!C14","v":0},{"$f":"Mars!C14","v":0},{"$f":"April!C14","v":0},{"$f":"Maj!C14","v":0},{"$f":"Juni!C14","v":0},{"$f":"Juli!C14","v":0},{"$f":"Augusti!C14","v":0},{"$f":"September!C14","v":0},{"$f":"Oktober!C14","v":0},{"$f":"November!C14","v":0},{"$f":"December!C14","v":0}]
[null,null,null,null,null,null,null,null,null,null,null,null,null,null,null,null,null,null,null,null,null,null,null,null,null,null,null,null,null,{"$f":"Januari!C15","v":0},{"$f":"Februari!C15","v":0},{"$f":"Mars!C15","v":0},{"$f":"April!C15","v":0},{"$f":"Maj!C15","v":0},{"$f":"Juni!C15","v":0},{"$f":"Juli!C15","v":0},{"$f":"Augusti!C15","v":0},{"$f":"September!C15","v":0},{"$f":"Oktober!C15","v":0},{"$f":"November!C15","v":0},{"$f":"December!C15","v":0}]
[null,null,null,null,null,null,null,null,null,null,null,null,null,null,null,null,null,null,null,null,null,null,null,null,null,null,null,null,null,{"$f":"Januari!C16","v":0},{"$f":"Februari!C16","v":0},{"$f":"Mars!C16","v":0},{"$f":"April!C16","v":0},{"$f":"Maj!C16","v":0},{"$f":"Juni!C16","v":0},{"$f":"Juli!C16","v":0},{"$f":"Augusti!C16","v":0},{"$f":"September!C16","v":0},{"$f":"Oktober!C16","v":0},{"$f":"November!C16","v":0},{"$f":"December!C16","v":0}]
[null,null,null,null,null,null,null,null,null,null,null,null,null,null,null,null,null,null,null,null,null,null,null,null,null,null,null,null,null,{"$f":"Januari!C17","v":0},{"$f":"Februari!C17","v":0},{"$f":"Mars!C17","v":0},{"$f":"April!C17","v":0},{"$f":"Maj!C17","v":0},{"$f":"Juni!C17","v":0},{"$f":"Juli!C17","v":0},{"$f":"Augusti!C17","v":0},{"$f":"September!C17","v":0},{"$f":"Oktober!C17","v":0},{"$f":"November!C17","v":0},{"$f":"December!C17","v":0}]
[null,null,null,null,null,null,null,null,null,null,null,null,null,null,null,null,null,null,null,null,null,null,null,null,null,null,null,null,null,{"$f":"Januari!C18","v":0},{"$f":"Februari!C18","v":0},{"$f":"Mars!C18","v":0},{"$f":"April!C18","v":0},{"$f":"Maj!C18","v":0},{"$f":"Juni!C18","v":0},{"$f":"Juli!C18","v":0},{"$f":"Augusti!C18","v":0},{"$f":"September!C18","v":0},{"$f":"Oktober!C18","v":0},{"$f":"November!C18","v":0},{"$f":"December!C18","v":0}]
[null,null,null,null,null,null,null,null,null,null,null,null,null,null,null,null,null,null,null,null,null,null,null,null,null,null,null,null,null,{"$f":"Januari!C19","v":0},{"$f":"Februari!C19","v":0},{"$f":"Mars!C19","v":0},{"$f":"April!C19","v":0},{"$f":"Maj!C19","v":0},{"$f":"Juni!C19","v":0},{"$f":"Juli!C19","v":0},{"$f":"Augusti!C19","v":0},{"$f":"September!C19","v":0},{"$f":"Oktober!C19","v":0},{"$f":"November!C19","v":0},{"$f":"December!C19","v":0}]
[null,null,null,null,null,null,null,null,null,null,null,null,null,null,null,null,null,null,null,null,null,null,null,null,null,null,null,null,null,{"$f":"Januari!C20","v":0},{"$f":"Februari!C20","v":0},{"$f":"Mars!C20","v":0},{"$f":"April!C20","v":0},{"$f":"Maj!C20","v":0},{"$f":"Juni!C20","v":0},{"$f":"Juli!C20","v":0},{"$f":"Augusti!C20","v":0},{"$f":"September!C20","v":0},{"$f":"Oktober!C20","v":0},{"$f":"November!C20","v":0},{"$f":"December!C20","v":0}]
[null,null,null,null,null,null,null,null,null,null,null,null,null,null,null,null,null,null,null,null,null,null,null,null,null,null,null,null,null,{"$f":"Januari!C21","v":0},{"$f":"Februari!C21","v":0},{"$f":"Mars!C21","v":0},{"$f":"April!C21","v":0},{"$f":"Maj!C21","v":0},{"$f":"Juni!C21","v":0},{"$f":"Juli!C21","v":0},{"$f":"Augusti!C21","v":0},{"$f":"September!C21","v":0},{"$f":"Oktober!C21","v":0},{"$f":"November!C21","v":0},{"$f":"December!C21","v":0}]
[null,null,null,null,null,null,null,null,null,null,null,null,null,null,null,null,null,null,null,null,null,null,null,null,null,null,null,null,null,{"$f":"Januari!C22","v":0},{"$f":"Februari!C22","v":0},{"$f":"Mars!C22","v":0},{"$f":"April!C22","v":0},{"$f":"Maj!C22","v":0},{"$f":"Juni!C22","v":0},{"$f":"Juli!C22","v":0},{"$f":"Augusti!C22","v":0},{"$f":"September!C22","v":0},{"$f":"Oktober!C22","v":0},{"$f":"November!C22","v":0},{"$f":"December!C22","v":0}]
[null,null,null,null,null,null,null,null,null,null,null,null,null,null,null,null,null,null,null,null,null,null,null,null,null,null,null,null,null,{"$f":"Januari!C23","v":0},{"$f":"Februari!C23","v":0},{"$f":"Mars!C23","v":0},{"$f":"April!C23","v":0},{"$f":"Maj!C23","v":0},{"$f":"Juni!C23","v":0},{"$f":"Juli!C23","v":0},{"$f":"Augusti!C23","v":0},{"$f":"September!C23","v":0},{"$f":"Oktober!C23","v":0},{"$f":"November!C23","v":0},{"$f":"December!C23","v":0}]
[null,null,null,null,null,null,null,null,null,null,null,null,null,null,null,null,null,null,null,null,null,null,null,null,null,null,null,null,null,{"$f":"Januari!C24","v":0},{"$f":"Februari!C24","v":0},{"$f":"Mars!C24","v":0},{"$f":"April!C24","v":0},{"$f":"Maj!C24","v":0},{"$f":"Juni!C24","v":0},{"$f":"Juli!C24","v":0},{"$f":"Augusti!C24","v":0},{"$f":"September!C24","v":0},{"$f":"Oktober!C24","v":0},{"$f":"November!C24","v":0},{"$f":"December!C24","v":0}]
[null,null,null,null,null,null,null,null,null,null,null,null,null,null,null,null,null,null,null,null,null,null,null,null,null,null,null,null,null,{"$f":"Januari!C25","v":0},{"$f":"Februari!C25","v":0},{"$f":"Mars!C25","v":0},{"$f":"April!C25","v":0},{"$f":"Maj!C25","v":0},{"$f":"Juni!C25","v":0},{"$f":"Juli!C25","v":0},{"$f":"Augusti!C25","v":0},{"$f":"September!C25","v":0},{"$f":"Oktober!C25","v":0},{"$f":"November!C25","v":0},{"$f":"December!C25","v":0}]
[null,null,null,null,null,null,null,null,null,null,null,null,null,null,null,null,null,null,null,null,null,null,null,null,null,null,null,null,null,{"$f":"Januari!C26","v":0},{"$f":"Februari!C26","v":0},{"$f":"Mars!C26","v":0},{"$f":"April!C26","v":0},{"$f":"Maj!C26","v":0},{"$f":"Juni!C26","v":0},{"$f":"Juli!C26","v":0},{"$f":"Augusti!C26","v":0},{"$f":"September!C26","v":0},{"$f":"Oktober!C26","v":0},{"$f":"November!C26","v":0},{"$f":"December!C26","v":0}]
[null,null,null,null,null,null,null,null,null,null,null,null,null,null,null,null,null,null,null,null,null,null,null,null,null,null,null,null,null,{"$f":"Januari!C27","v":0},{"$f":"Februari!C27","v":0},{"$f":"Mars!C27","v":0},{"$f":"April!C27","v":0},{"$f":"Maj!C27","v":0},{"$f":"Juni!C27","v":0},{"$f":"Juli!C27","v":0},{"$f":"Augusti!C27","v":0},{"$f":"September!C27","v":0},{"$f":"Oktober!C27","v":0},{"$f":"November!C27","v":0},{"$f":"December!C27","v":0}]
[null,null,null,null,null,null,null,null,null,null,null,null,null,null,null,null,null,null,null,null,null,null,null,null,null,null,null,null,null,{"$f":"Januari!C28","v":0},{"$f":"Februari!C28","v":0},{"$f":"Mars!C28","v":0},{"$f":"April!C28","v":0},{"$f":"Maj!C28","v":0},{"$f":"Juni!C28","v":0},{"$f":"Juli!C28","v":0},{"$f":"Augusti!C28","v":0},{"$f":"September!C28","v":0},{"$f":"Oktober!C28","v":0},{"$f":"November!C28","v":0},{"$f":"December!C28","v":0}]
[null,null,null,null,null,null,null,null,null,null,null,null,null,null,null,null,null,null,null,null,null,null,null,null,null,null,null,null,null,{"$f":"Januari!C29","v":0},{"$f":"Februari!C29","v":0},{"$f":"Mars!C29","v":0},{"$f":"April!C29","v":0},{"$f":"Maj!C29","v":0},{"$f":"Juni!C29","v":0},{"$f":"Juli!C29","v":0},{"$f":"Augusti!C29","v":0},{"$f":"September!C29","v":0},{"$f":"Oktober!C29","v":0},{"$f":"November!C29","v":0},{"$f":"December!C29","v":0}]
[null,null,null,null,null,null,null,null,null,null,null,null,null,null,null,null,null,null,null,null,null,null,null,null,null,null,null,null,null,{"$f":"Januari!C30","v":0},{"$f":"Februari!C30","v":0},{"$f":"Mars!C30","v":0},{"$f":"April!C30","v":0},{"$f":"Maj!C30","v":0},{"$f":"Juni!C30","v":0},{"$f":"Juli!C30","v":0},{"$f":"Augusti!C30","v":0},{"$f":"September!C30","v":0},{"$f":"Oktober!C30","v":0},{"$f":"November!C30","v":0},{"$f":"December!C30","v":0}]
[null,null,null,null,null,null,null,null,null,null,null,null,null,null,null,null,null,null,null,null,null,null,null,null,null,null,null,null,null,{"$f":"Januari!C31","v":0},{"$f":"Februari!C31","v":0},{"$f":"Mars!C31","v":0},{"$f":"April!C31","v":0},{"$f":"Maj!C31","v":0},{"$f":"Juni!C31","v":0},{"$f":"Juli!C31","v":0},{"$f":"Augusti!C31","v":0},{"$f":"September!C31","v":0},{"$f":"Oktober!C31","v":0},{"$f":"November!C31","v":0},{"$f":"December!C31","v":0}]
[null,null,null,null,null,null,null,null,null,null,null,null,null,null,null,null,null,null,null,null,null,null,null,null,null,null,null,null,null,{"$f":"Januari!C32","v":0},{"$f":"Februari!#REF!","v":{"$error":"#REF!"}},{"$f":"Mars!C32","v":0},{"$f":"April!C32","v":0},{"$f":"Maj!C32","v":0},{"$f":"Juni!C32","v":0},{"$f":"Juli!C32","v":0},{"$f":"Augusti!C32","v":0},{"$f":"September!C32","v":0},{"$f":"Oktober!C32","v":0},{"$f":"November!C32","v":0},{"$f":"December!C32","v":0}]
[null,null,null,null,null,null,null,null,null,null,null,null,null,null,null,null,null,null,null,null,null,null,null,null,null,null,null,null,null,{"$f":"Januari!C33","v":0},{"$f":"Februari!C32","v":0},{"$f":"Mars!C33","v":0},{"$f":"April!C33","v":0},{"$f":"Maj!C33","v":0},{"$f":"Juni!C33","v":0},{"$f":"Juli!C33","v":0},{"$f":"Augusti!C33","v":0},{"$f":"September!C33","v":0},{"$f":"Oktober!C33","v":0},{"$f":"November!C33","v":0},{"$f":"December!C33","v":0}]
[null,null,null,null,null,null,null,null,null,null,null,null,null,null,null,null,null,null,null,null,null,null,null,null,null,null,null,null,null,{"$f":"Januari!C34","v":0},{"$f":"Februari!C34","v":0},{"$f":"Mars!C34","v":0},{"$f":"April!C34","v":0},{"$f":"Maj!C34","v":0},{"$f":"Juni!C34","v":0},{"$f":"Juli!C34","v":0},{"$f":"Augusti!C34","v":0},{"$f":"September!C34","v":0},{"$f":"Oktober!C34","v":0},{"$f":"November!C34","v":0},{"$f":"December!C34","v":0}]
[null,null,null,null,null,null,null,null,null,null,null,null,null,null,null,null,null,null,null,null,null,null,null,null,null,null,null,null,null,{"$f":"COUNTIF(AD38:AD68,\"=Se\")","v":0},{"$f":"COUNTIF(AE38:AE68,\"=Se\")","v":0},0,0,0,0,0,0,0,0,0,0]

{"sheet":"Januari","index":4,"n_rows":38,"n_cols":17,"rows_kept":38,"cut":false,"hidden":false,"merged":[[0,13,1,13],[0,14,1,14],[0,15,1,15]]}
[null,{"$f":"PROPER(TEXT(B4,\"MMMM ÅÅÅÅ\"))","v":"Januari 2026"},null,null,null,{"$f":"IF(Uppgifter!$C$6=\"\",\"\",Uppgifter!$C$6)","v":""},null,null,null,null,null,null,null,"Dagsumma","Dagbalans","Vdag"]
[]
[null,"Datum","Kod","In","Ut","Lunch","Planerat","Ledighet","Arbetstid",null,"Flextid","Anteckningar",null,null,{"$f":"IF(Uppgifter!D12<>\"\",Uppgifter!D12,Uppgifter!D13*-1)","v":0}]
[null,{"$f":"DATEVALUE(Uppgifter!C4 & \"-01-01\")","v":"2026-01-01"},null,null,null,null,null,null,{"$f":"IF(N4<0,-N4,N4)","v":0},{"$f":"IF(O4>=0,\"+\",\"-\")","v":"+"},{"$f":"IF(O4<0,-O4,O4)","v":0},null,null,{"$f":"IF(E4>0,E4-D4-F4-H4,IF(C4=\"\",0,IF(C4=\"F\",0,Årsarbetsschema!$C5)))","v":0},{"$f":"ROUND(IF(N4>0,I4-G4,IF(C4=\"F\",I4-G4,0)),15)","v":0},{"$f":"Årsarbetsschema!Q5","v":-1},"F"]
[null,{"$f":"B4+1","v":"2026-01-02"},null,null,null,null,null,null,{"$f":"IF(N5<0,-N5,N5)","v":0},"+",0,null,null,{"$f":"IF(E5>0,E5-D5-F5-H5,IF(C5=\"\",0,IF(C5=\"F\",0,Årsarbetsschema!$C6)))","v":0},0,{"$f":"Årsarbetsschema!Q6","v":5},"Se"]
[null,{"$f":"B5+1","v":"2026-01-03"},null,null,null,null,null,null,0,"+",0,null,null,{"$f":"IF(E6>0,E6-D6-F6-H6,IF(C6=\"\",0,IF(C6=\"F\",0,Årsarbetsschema!$C7)))","v":0},0,{"$f":"Årsarbetsschema!Q7","v":6},"Sj"]
[null,"2026-01-04",null,null,null,null,null,null,0,"+",0,null,null,{"$f":"IF(E7>0,E7-D7-F7-H7,IF(C7=\"\",0,IF(C7=\"F\",0,Årsarbetsschema!$C8)))","v":0},0,{"$f":"Årsarbetsschema!Q8","v":7},"Tj"]
[null,"2026-01-05",null,null,null,null,null,null,0,"+",0,null,null,{"$f":"IF(E8>0,E8-D8-F8-H8,IF(C8=\"\",0,IF(C8=\"F\",0,Årsarbetsschema!$C9)))","v":0},0,{"$f":"Årsarbetsschema!Q9","v":1},"VB"]
[null,"2026-01-06",null,null,null,null,null,null,0,"+",0,null,null,{"$f":"IF(E9>0,E9-D9-F9-H9,IF(C9=\"\",0,IF(C9=\"F\",0,Årsarbetsschema!$C10)))","v":0},0,{"$f":"Årsarbetsschema!Q10","v":-1},"FL"]
[null,"2026-01-07",null,null,null,null,null,null,0,"+",0,null,null,{"$f":"IF(E10>0,E10-D10-F10-H10,IF(C10=\"\",0,IF(C10=\"F\",0,Årsarbetsschema!$C11)))","v":0},0,{"$f":"Årsarbetsschema!Q11","v":3}]
[null,"2026-01-08",null,null,null,null,null,null,0,"+",0,null,null,{"$f":"IF(E11>0,E11-D11-F11-H11,IF(C11=\"\",0,IF(C11=\"F\",0,Årsarbetsschema!$C12)))","v":0},0,{"$f":"Årsarbetsschema!Q12","v":4}]
[null,"2026-01-09",null,null,null,null,null,null,0,"+",0,null,null,{"$f":"IF(E12>0,E12-D12-F12-H12,IF(C12=\"\",0,IF(C12=\"F\",0,Årsarbetsschema!$C13)))","v":0},0,{"$f":"Årsarbetsschema!Q13","v":5}]
[null,"2026-01-10",null,null,null,null,null,null,0,"+",0,null,null,{"$f":"IF(E13>0,E13-D13-F13-H13,IF(C13=\"\",0,IF(C13=\"F\",0,Årsarbetsschema!$C14)))","v":0},0,{"$f":"Årsarbetsschema!Q14","v":6}]
[null,"2026-01-11",null,null,null,null,null,null,0,"+",0,null,null,{"$f":"IF(E14>0,E14-D14-F14-H14,IF(C14=\"\",0,IF(C14=\"F\",0,Årsarbetsschema!$C15)))","v":0},0,{"$f":"Årsarbetsschema!Q15","v":7}]
[null,"2026-01-12",null,null,null,null,null,null,0,"+",0,null,null,{"$f":"IF(E15>0,E15-D15-F15-H15,IF(C15=\"\",0,IF(C15=\"F\",0,Årsarbetsschema!$C16)))","v":0},0,{"$f":"Årsarbetsschema!Q16","v":1}]
[null,"2026-01-13",null,null,null,null,null,null,0,"+",0,null,null,{"$f":"IF(E16>0,E16-D16-F16-H16,IF(C16=\"\",0,IF(C16=\"F\",0,Årsarbetsschema!$C17)))","v":0},0,{"$f":"Årsarbetsschema!Q17","v":2}]
[null,"2026-01-14",null,null,null,null,null,null,0,"+",0,null,null,{"$f":"IF(E17>0,E17-D17-F17-H17,IF(C17=\"\",0,IF(C17=\"F\",0,Årsarbetsschema!$C18)))","v":0},0,{"$f":"Årsarbetsschema!Q18","v":3}]
[null,"2026-01-15",null,null,null,null,null,null,0,"+",0,null,null,{"$f":"IF(E18>0,E18-D18-F18-H18,IF(C18=\"\",0,IF(C18=\"F\",0,Årsarbetsschema!$C19)))","v":0},0,{"$f":"Årsarbetsschema!Q19","v":4}]
[null,"2026-01-16",null,null,null,null,null,null,0,"+",0,null,null,{"$f":"IF(E19>0,E19-D19-F19-H19,IF(C19=\"\",0,IF(C19=\"F\",0,Årsarbetsschema!$C20)))","v":0},0,{"$f":"Årsarbetsschema!Q20","v":5}]
[null,"2026-01-17",null,null,null,null,null,null,0,"+",0,null,null,{"$f":"IF(E20>0,E20-D20-F20-H20,IF(C20=\"\",0,IF(C20=\"F\",0,Årsarbetsschema!$C21)))","v":0},0,{"$f":"Årsarbetsschema!Q21","v":6}]
[null,"2026-01-18",null,null,null,null,null,null,0,"+",0,null,null,{"$f":"IF(E21>0,E21-D21-F21-H21,IF(C21=\"\",0,IF(C21=\"F\",0,Årsarbetsschema!$C22)))","v":0},0,{"$f":"Årsarbetsschema!Q22","v":7}]
[null,"2026-01-19",null,null,null,null,null,null,0,"+",0,null,null,{"$f":"IF(E22>0,E22-D22-F22-H22,IF(C22=\"\",0,IF(C22=\"F\",0,Årsarbetsschema!$C23)))","v":0},0,{"$f":"Årsarbetsschema!Q23","v":1}]
[null,"2026-01-20",null,null,null,null,null,null,0,"+",0,null,null,{"$f":"IF(E23>0,E23-D23-F23-H23,IF(C23=\"\",0,IF(C23=\"F\",0,Årsarbetsschema!$C24)))","v":0},0,{"$f":"Årsarbetsschema!Q24","v":2}]
[null,"2026-01-21",null,null,null,null,null,null,0,"+",0,null,null,{"$f":"IF(E24>0,E24-D24-F24-H24,IF(C24=\"\",0,IF(C24=\"F\",0,Årsarbetsschema!$C25)))","v":0},0,{"$f":"Årsarbetsschema!Q25","v":3}]
[null,"2026-01-22",null,null,null,null,null,null,0,"+",0,null,null,{"$f":"IF(E25>0,E25-D25-F25-H25,IF(C25=\"\",0,IF(C25=\"F\",0,Årsarbetsschema!$C26)))","v":0},0,{"$f":"Årsarbetsschema!Q26","v":4}]
[null,"2026-01-23",null,null,null,null,null,null,0,"+",0,null,null,{"$f":"IF(E26>0,E26-D26-F26-H26,IF(C26=\"\",0,IF(C26=\"F\",0,Årsarbetsschema!$C27)))","v":0},0,{"$f":"Årsarbetsschema!Q27","v":5}]
[null,"2026-01-24",null,null,null,null,null,null,0,"+",0,null,null,{"$f":"IF(E27>0,E27-D27-F27-H27,IF(C27=\"\",0,IF(C27=\"F\",0,Årsarbetsschema!$C28)))","v":0},0,{"$f":"Årsarbetsschema!Q28","v":6}]
[null,"2026-01-25",null,null,null,null,null,null,0,"+",0,null,null,{"$f":"IF(E28>0,E28-D28-F28-H28,IF(C28=\"\",0,IF(C28=\"F\",0,Årsarbetsschema!$C29)))","v":0},0,{"$f":"Årsarbetsschema!Q29","v":7}]
[null,"2026-01-26",null,null,null,null,null,null,0,"+",0,null,null,{"$f":"IF(E29>0,E29-D29-F29-H29,IF(C29=\"\",0,IF(C29=\"F\",0,Årsarbetsschema!$C30)))","v":0},0,{"$f":"Årsarbetsschema!Q30","v":1}]
[null,"2026-01-27",null,null,null,null,null,null,0,"+",0,null,null,{"$f":"IF(E30>0,E30-D30-F30-H30,IF(C30=\"\",0,IF(C30=\"F\",0,Årsarbetsschema!$C31)))","v":0},0,{"$f":"Årsarbetsschema!Q31","v":2}]
[null,"2026-01-28",null,null,null,null,null,null,0,"+",0,null,null,{"$f":"IF(E31>0,E31-D31-F31-H31,IF(C31=\"\",0,IF(C31=\"F\",0,Årsarbetsschema!$C32)))","v":0},0,{"$f":"Årsarbetsschema!Q32","v":3}]
[null,"2026-01-29",null,null,null,null,null,null,0,"+",0,null,null,{"$f":"IF(E32>0,E32-D32-F32-H32,IF(C32=\"\",0,IF(C32=\"F\",0,Årsarbetsschema!$C33)))","v":0},0,{"$f":"Årsarbetsschema!Q33","v":4}]
[null,"2026-01-30",null,null,null,null,null,null,0,"+",0,null,null,{"$f":"IF(E33>0,E33-D33-F33-H33,IF(C33=\"\",0,IF(C33=\"F\",0,Årsarbetsschema!$C34)))","v":0},0,{"$f":"Årsarbetsschema!Q34","v":5}]
[null,"2026-01-31",null,null,null,null,null,null,0,"+",0,null,null,{"$f":"IF(E34>0,E34-D34-F34-H34,IF(C34=\"\",0,IF(C34=\"F\",0,Årsarbetsschema!$C35)))","v":0},0,{"$f":"Årsarbetsschema!Q35","v":6}]
[null,null,null,null,null,null,null,"Månad",{"$f":"IF(N35<0,-N35,N35)","v":0},{"$f":"IF(O35>=0,\"+\",\"-\")","v":"+"},{"$f":"IF(O35<0,-O35,O35)","v":0},null,null,{"$f":"SUM(N4:N34)","v":0},{"$f":"SUM(O4:O34)","v":0}]
[null,null,null,null,null,null,null,"Totalt",0,"+",{"$f":"IF(O36<0,-O36,O36)","v":0},null,null,{"$f":"N35","v":0},{"$f":"O35+O3","v":0}]
[null,null,null,null,null,null,null,null,null,"=",{"$f":"O36*24","v":0}]
[null,{"$f":"IF(Uppgifter!$C$6=\"\",\"\",Uppgifter!$C$6)","v":""}]

{"sheet":"Februari","index":5,"n_rows":38,"n_cols":17,"rows_kept":38,"cut":false,"hidden":false,"merged":[]}
[null,{"$f":"PROPER(TEXT(B4,\"MMMM ÅÅÅÅ\"))","v":"Februari 2026"},null,null,null,null,{"$f":"IF(Uppgifter!$C$6=\"\",\"\",Uppgifter!$C$6)","v":""}]
[null,null,null,null,null,null,null,null,null,null,null,null,null,"Dagsumma","Dagbalans","Vdag"]
[null,"Datum","Kod","In","Ut","Lunch","Planerat","Ledighet","Arbetstid",null,"Flextid","Anteckningar",null,{"$f":"Januari!N36","v":0},{"$f":"Januari!O36","v":0}]
[null,{"$f":"DATEVALUE(Uppgifter!C4 & \"-02-01\")","v":"2026-02-01"},null,null,null,null,null,null,{"$f":"IF(N4<0,-N4,N4)","v":0},{"$f":"IF(O4>=0,\"+\",\"-\")","v":"+"},{"$f":"IF(O4<0,-O4,O4)","v":0},null,null,{"$f":"IF(E4>0,E4-D4-F4-H4,IF(C4=\"\",0,IF(C4=\"F\",0,Årsarbetsschema!$D5)))","v":0},{"$f":"ROUND(IF(N4>0,I4-G4,IF(C4=\"F\",I4-G4,0)),15)","v":0},{"$f":"Årsarbetsschema!R5","v":7},"F"]
[null,{"$f":"B4+1","v":"2026-02-02"},null,null,null,null,null,null,{"$f":"IF(N5<0,-N5,N5)","v":0},"+",0,null,null,{"$f":"IF(E5>0,E5-D5-F5-H5,IF(C5=\"\",0,IF(C5=\"F\",0,Årsarbetsschema!$D6)))","v":0},0,{"$f":"Årsarbetsschema!R6","v":1},"Se"]
[null,{"$f":"B5+1","v":"2026-02-03"},null,null,null,null,null,null,0,"+",0,null,null,{"$f":"IF(E6>0,E6-D6-F6-H6,IF(C6=\"\",0,IF(C6=\"F\",0,Årsarbetsschema!$D7)))","v":0},0,{"$f":"Årsarbetsschema!R7","v":2},"Sj"]
[null,"2026-02-04",null,null,null,null,null,null,0,"+",0,null,null,{"$f":"IF(E7>0,E7-D7-F7-H7,IF(C7=\"\",0,IF(C7=\"F\",0,Årsarbetsschema!$D8)))","v":0},0,{"$f":"Årsarbetsschema!R8","v":3},"Tj"]
[null,"2026-02-05",null,null,null,null,null,null,0,"+",0,null,null,{"$f":"IF(E8>0,E8-D8-F8-H8,IF(C8=\"\",0,IF(C8=\"F\",0,Årsarbetsschema!$D9)))","v":0},0,{"$f":"Årsarbetsschema!R9","v":4},"VB"]
[null,"2026-02-06",null,null,null,null,null,null,0,"+",0,null,null,{"$f":"IF(E9>0,E9-D9-F9-H9,IF(C9=\"\",0,IF(C9=\"F\",0,Årsarbetsschema!$D10)))","v":0},0,{"$f":"Årsarbetsschema!R10","v":5},"FL"]
[null,"2026-02-07",null,null,null,null,null,null,0,"+",0,null,null,{"$f":"IF(E10>0,E10-D10-F10-H10,IF(C10=\"\",0,IF(C10=\"F\",0,Årsarbetsschema!$D11)))","v":0},0,{"$f":"Årsarbetsschema!R11","v":6}]
[null,"2026-02-08",null,null,null,null,null,null,0,"+",0,null,null,{"$f":"IF(E11>0,E11-D11-F11-H11,IF(C11=\"\",0,IF(C11=\"F\",0,Årsarbetsschema!$D12)))","v":0},0,{"$f":"Årsarbetsschema!R12","v":7}]
[null,"2026-02-09",null,null,null,null,null,null,0,"+",0,null,null,{"$f":"IF(E12>0,E12-D12-F12-H12,IF(C12=\"\",0,IF(C12=\"F\",0,Årsarbetsschema!$D13)))","v":0},0,{"$f":"Årsarbetsschema!R13","v":1}]
[null,"2026-02-10",null,null,null,null,null,null,0,"+",0,null,null,{"$f":"IF(E13>0,E13-D13-F13-H13,IF(C13=\"\",0,IF(C13=\"F\",0,Årsarbetsschema!$D14)))","v":0},0,{"$f":"Årsarbetsschema!R14","v":2}]
[null,"2026-02-11",null,null,null,null,null,null,0,"+",0,null,null,{"$f":"IF(E14>0,E14-D14-F14-H14,IF(C14=\"\",0,IF(C14=\"F\",0,Årsarbetsschema!$D15)))","v":0},0,{"$f":"Årsarbetsschema!R15","v":3}]
[null,"2026-02-12",null,null,null,null,null,null,0,"+",0,null,null,{"$f":"IF(E15>0,E15-D15-F15-H15,IF(C15=\"\",0,IF(C15=\"F\",0,Årsarbetsschema!$D16)))","v":0},0,{"$f":"Årsarbetsschema!R16","v":4}]
[null,"2026-02-13",null,null,null,null,null,null,0,"+",0,null,null,{"$f":"IF(E16>0,E16-D16-F16-H16,IF(C16=\"\",0,IF(C16=\"F\",0,Årsarbetsschema!$D17)))","v":0},0,{"$f":"Årsarbetsschema!R17","v":5}]
[null,"2026-02-14",null,null,null,null,null,null,0,"+",0,null,null,{"$f":"IF(E17>0,E17-D17-F17-H17,IF(C17=\"\",0,IF(C17=\"F\",0,Årsarbetsschema!$D18)))","v":0},0,{"$f":"Årsarbetsschema!R18","v":6}]
[null,"2026-02-15",null,null,null,null,null,null,0,"+",0,null,null,{"$f":"IF(E18>0,E18-D18-F18-H18,IF(C18=\"\",0,IF(C18=\"F\",0,Årsarbetsschema!$D19)))","v":0},0,{"$f":"Årsarbetsschema!R19","v":7}]
[null,"2026-02-16",null,null,null,null,null,null,0,"+",0,null,null,{"$f":"IF(E19>0,E19-D19-F19-H19,IF(C19=\"\",0,IF(C19=\"F\",0,Årsarbetsschema!$D20)))","v":0},0,{"$f":"Årsarbetsschema!R20","v":1}]
[null,"2026-02-17",null,null,null,null,null,null,0,"+",0,null,null,{"$f":"IF(E20>0,E20-D20-F20-H20,IF(C20=\"\",0,IF(C20=\"F\",0,Årsarbetsschema!$D21)))","v":0},0,{"$f":"Årsarbetsschema!R21","v":2}]
[null,"2026-02-18",null,null,null,null,null,null,0,"+",0,null,null,{"$f":"IF(E21>0,E21-D21-F21-H21,IF(C21=\"\",0,IF(C21=\"F\",0,Årsarbetsschema!$D22)))","v":0},0,{"$f":"Årsarbetsschema!R22","v":3}]
[null,"2026-02-19",null,null,null,null,null,null,0,"+",0,null,null,{"$f":"IF(E22>0,E22-D22-F22-H22,IF(C22=\"\",0,IF(C22=\"F\",0,Årsarbetsschema!$D23)))","v":0},0,{"$f":"Årsarbetsschema!R23","v":4}]
[null,"2026-02-20",null,null,null,null,null,null,0,"+",0,null,null,{"$f":"IF(E23>0,E23-D23-F23-H23,IF(C23=\"\",0,IF(C23=\"F\",0,Årsarbetsschema!$D24)))","v":0},0,{"$f":"Årsarbetsschema!R24","v":5}]
[null,"2026-02-21",null,null,null,null,null,null,0,"+",0,null,null,{"$f":"IF(E24>0,E24-D24-F24-H24,IF(C24=\"\",0,IF(C24=\"F\",0,Årsarbetsschema!$D25)))","v":0},0,{"$f":"Årsarbetsschema!R25","v":6}]
[null,"2026-02-22",null,null,null,null,null,null,0,"+",0,null,null,{"$f":"IF(E25>0,E25-D25-F25-H25,IF(C25=\"\",0,IF(C25=\"F\",0,Årsarbetsschema!$D26)))","v":0},0,{"$f":"Årsarbetsschema!R26","v":7}]
[null,"2026-02-23",null,null,null,null,null,null,0,"+",0,null,null,{"$f":"IF(E26>0,E26-D26-F26-H26,IF(C26=\"\",0,IF(C26=\"F\",0,Årsarbetsschema!$D27)))","v":0},0,{"$f":"Årsarbetsschema!R27","v":1}]
[null,"2026-02-24",null,null,null,null,null,null,0,"+",0,null,null,{"$f":"IF(E27>0,E27-D27-F27-H27,IF(C27=\"\",0,IF(C27=\"F\",0,Årsarbetsschema!$D28)))","v":0},0,{"$f":"Årsarbetsschema!R28","v":2}]
[null,"2026-02-25",null,null,null,null,null,null,0,"+",0,null,null,{"$f":"IF(E28>0,E28-D28-F28-H28,IF(C28=\"\",0,IF(C28=\"F\",0,Årsarbetsschema!$D29)))","v":0},0,{"$f":"Årsarbetsschema!R29","v":3}]
[null,"2026-02-26",null,null,null,null,null,null,0,"+",0,null,null,{"$f":"IF(E29>0,E29-D29-F29-H29,IF(C29=\"\",0,IF(C29=\"F\",0,Årsarbetsschema!$D30)))","v":0},0,{"$f":"Årsarbetsschema!R30","v":4}]
[null,"2026-02-27",null,null,null,null,null,null,{"$f":"IF(N30<0,-N30,N30)","v":0},{"$f":"IF(O30>=0,\"+\",\"-\")","v":"+"},{"$f":"IF(O30<0,-O30,O30)","v":0},null,null,{"$f":"IF(E30>0,E30-D30-F30-H30,IF(C30=\"\",0,IF(C30=\"F\",0,Årsarbetsschema!$D31)))","v":0},0,{"$f":"Årsarbetsschema!R31","v":5}]
[null,"2026-02-28",null,null,null,null,null,null,0,"+",0,null,null,{"$f":"IF(E31>0,E31-D31-F31-H31,IF(C31=\"\",0,IF(C31=\"F\",0,Årsarbetsschema!$D32)))","v":0},0,{"$f":"Årsarbetsschema!R32","v":6}]
[null,{"$f":"B31+1","v":"2026-03-01"},null,null,null,null,null,null,0,"+",0,null,null,{"$f":"IF(E32>0,E32-D32-F32-H32,IF(C32=\"\",0,IF(C32=\"F\",0,Årsarbetsschema!$D33)))","v":0},0,{"$f":"Årsarbetsschema!R33","v":0}]
[null,{"$f":"B32+1","v":"2026-03-02"},null,null,null,null,null,null,{"$f":"IF(N33<0,-N33,N33)","v":0},{"$f":"IF(O33>=0,\"+\",\"-\")","v":"+"},{"$f":"IF(O33<0,-O33,O33)","v":0},null,null,0,0,{"$f":"WEEKDAY(B33,2)","v":1}]
[null,{"$f":"B33+1","v":"2026-03-03"},null,null,null,null,null,null,{"$f":"IF(N34<0,-N34,N34)","v":0},{"$f":"IF(O34>=0,\"+\",\"-\")","v":"+"},{"$f":"IF(O34<0,-O34,O34)","v":0},null,null,0,0,{"$f":"WEEKDAY(B34,2)","v":2}]
[null,null,null,null,null,null,null,"Månad",{"$f":"IF(N35<0,-N35,N35)","v":0},{"$f":"IF(O35>=0,\"+\",\"-\")","v":"+"},{"$f":"IF(O35<0,-O35,O35)","v":0},null,null,{"$f":"SUM(N4:N31)","v":0},{"$f":"SUM(O4:O31)","v":0}]
[null,null,null,null,null,null,null,"Totalt",{"$f":"IF(N36<0,-N36,N36)","v":0},{"$f":"IF(O36>=0,\"+\",\"-\")","v":"+"},{"$f":"IF(O36<0,-O36,O36)","v":0},null,null,{"$f":"N35+N3","v":0},{"$f":"O35+O3","v":0}]
[null,null,null,null,null,null,null,null,null,"=",{"$f":"O36*24","v":0}]
[null,{"$f":"IF(Uppgifter!$C$6=\"\",\"\",Uppgifter!$C$6)","v":""}]

{"sheet":"Mars","index":6,"n_rows":38,"n_cols":17,"rows_kept":38,"cut":false,"hidden":false,"merged":[]}
[null,{"$f":"PROPER(TEXT(B4,\"MMMM ÅÅÅÅ\"))","v":"Mars 2026"},null,null,null,null,{"$f":"IF(Uppgifter!$C$6=\"\",\"\",Uppgifter!$C$6)","v":""}]
[null,null,null,null,null,null,null,null,null,null,null,null,null,"Dagsumma","Dagbalans","Vdag"]
[null,"Datum","Kod","In","Ut","Lunch","Planerat","Ledighet","Arbetstid",null,"Flextid","Anteckningar",null,{"$f":"Februari!N36","v":0},{"$f":"Februari!O36","v":0}]
[null,{"$f":"DATEVALUE(Uppgifter!C4 & \"-03-01\")","v":"2026-03-01"},null,null,null,null,null,null,{"$f":"IF(N4<0,-N4,N4)","v":0},{"$f":"IF(O4>=0,\"+\",\"-\")","v":"+"},{"$f":"IF(O4<0,-O4,O4)","v":0},null,null,{"$f":"IF(E4>0,E4-D4-F4-H4,IF(C4=\"\",0,IF(C4=\"F\",0,Årsarbetsschema!$E5)))","v":0},{"$f":"ROUND(IF(N4>0,I4-G4,IF(C4=\"F\",I4-G4,0)),15)","v":0},{"$f":"Årsarbetsschema!S5","v":7},"F"]
[null,{"$f":"B4+1","v":"2026-03-02"},null,null,null,null,null,null,{"$f":"IF(N5<0,-N5,N5)","v":0},"+",0,null,null,{"$f":"IF(E5>0,E5-D5-F5-H5,IF(C5=\"\",0,IF(C5=\"F\",0,Årsarbetsschema!$E6)))","v":0},{"$f":"ROUND(IF(N5>0,I5-G5,IF(C5=\"F\",I5-G5,0)),15)","v":0},{"$f":"Årsarbetsschema!S6","v":1},"Se"]
[null,{"$f":"B5+1","v":"2026-03-03"},null,null,null,null,null,null,0,"+",0,null,null,{"$f":"IF(E6>0,E6-D6-F6-H6,IF(C6=\"\",0,IF(C6=\"F\",0,Årsarbetsschema!$E7)))","v":0},0,{"$f":"Årsarbetsschema!S7","v":2},"Sj"]
[null,"2026-03-04",null,null,null,null,null,null,0,"+",0,null,null,{"$f":"IF(E7>0,E7-D7-F7-H7,IF(C7=\"\",0,IF(C7=\"F\",0,Årsarbetsschema!$E8)))","v":0},0,{"$f":"Årsarbetsschema!S8","v":3},"Tj"]
[null,"2026-03-05",null,null,null,null,null,null,0,"+",0,null,null,{"$f":"IF(E8>0,E8-D8-F8-H8,IF(C8=\"\",0,IF(C8=\"F\",0,Årsarbetsschema!$E9)))","v":0},0,{"$f":"Årsarbetsschema!S9","v":4},"VB"]
[null,"2026-03-06",null,null,null,null,null,null,0,"+",0,null,null,{"$f":"IF(E9>0,E9-D9-F9-H9,IF(C9=\"\",0,IF(C9=\"F\",0,Årsarbetsschema!$E10)))","v":0},0,{"$f":"Årsarbetsschema!S10","v":5},"FL"]
[null,"2026-03-07",null,null,null,null,null,null,0,"+",0,null,null,{"$f":"IF(E10>0,E10-D10-F10-H10,IF(C10=\"\",0,IF(C10=\"F\",0,Årsarbetsschema!$E11)))","v":0},0,{"$f":"Årsarbetsschema!S11","v":6}]
[null,"2026-03-08",null,null,null,null,null,null,0,"+",0,null,null,{"$f":"IF(E11>0,E11-D11-F11-H11,IF(C11=\"\",0,IF(C11=\"F\",0,Årsarbetsschema!$E12)))","v":0},0,{"$f":"Årsarbetsschema!S12","v":7}]
[null,"2026-03-09",null,null,null,null,null,null,0,"+",0,null,null,{"$f":"IF(E12>0,E12-D12-F12-H12,IF(C12=\"\",0,IF(C12=\"F\",0,Årsarbetsschema!$E13)))","v":0},0,{"$f":"Årsarbetsschema!S13","v":1}]
[null,"2026-03-10",null,null,null,null,null,null,0,"+",0,null,null,{"$f":"IF(E13>0,E13-D13-F13-H13,IF(C13=\"\",0,IF(C13=\"F\",0,Årsarbetsschema!$E14)))","v":0},0,{"$f":"Årsarbetsschema!S14","v":2}]
[null,"2026-03-11",null,null,null,null,null,null,0,"+",0,null,null,{"$f":"IF(E14>0,E14-D14-F14-H14,IF(C14=\"\",0,IF(C14=\"F\",0,Årsarbetsschema!$E15)))","v":0},0,{"$f":"Årsarbetsschema!S15","v":3}]
[null,"2026-03-12",null,null,null,null,null,null,0,"+",0,null,null,{"$f":"IF(E15>0,E15-D15-F15-H15,IF(C15=\"\",0,IF(C15=\"F\",0,Årsarbetsschema!$E16)))","v":0},0,{"$f":"Årsarbetsschema!S16","v":4}]
[null,"2026-03-13",null,null,null,null,null,null,0,"+",0,null,null,{"$f":"IF(E16>0,E16-D16-F16-H16,IF(C16=\"\",0,IF(C16=\"F\",0,Årsarbetsschema!$E17)))","v":0},0,{"$f":"Årsarbetsschema!S17","v":5}]
[null,"2026-03-14",null,null,null,null,null,null,0,"+",0,null,null,{"$f":"IF(E17>0,E17-D17-F17-H17,IF(C17=\"\",0,IF(C17=\"F\",0,Årsarbetsschema!$E18)))","v":0},0,{"$f":"Årsarbetsschema!S18","v":6}]
[null,"2026-03-15",null,null,null,null,null,null,0,"+",0,null,null,{"$f":"IF(E18>0,E18-D18-F18-H18,IF(C18=\"\",0,IF(C18=\"F\",0,Årsarbetsschema!$E19)))","v":0},0,{"$f":"Årsarbetsschema!S19","v":7}]
[null,"2026-03-16",null,null,null,null,null,null,0,"+",0,null,null,{"$f":"IF(E19>0,E19-D19-F19-H19,IF(C19=\"\",0,IF(C19=\"F\",0,Årsarbetsschema!$E20)))","v":0},0,{"$f":"Årsarbetsschema!S20","v":1}]
[null,"2026-03-17",null,null,null,null,null,null,0,"+",0,null,null,{"$f":"IF(E20>0,E20-D20-F20-H20,IF(C20=\"\",0,IF(C20=\"F\",0,Årsarbetsschema!$E21)))","v":0},0,{"$f":"Årsarbetsschema!S21","v":2}]
[null,"2026-03-18",null,null,null,null,null,null,0,"+",0,null,null,{"$f":"IF(E21>0,E21-D21-F21-H21,IF(C21=\"\",0,IF(C21=\"F\",0,Årsarbetsschema!$E22)))","v":0},0,{"$f":"Årsarbetsschema!S22","v":3}]
[null,"2026-03-19",null,null,null,null,null,null,0,"+",0,null,null,{"$f":"IF(E22>0,E22-D22-F22-H22,IF(C22=\"\",0,IF(C22=\"F\",0,Årsarbetsschema!$E23)))","v":0},0,{"$f":"Årsarbetsschema!S23","v":4}]
[null,"2026-03-20",null,null,null,null,null,null,0,"+",0,null,null,{"$f":"IF(E23>0,E23-D23-F23-H23,IF(C23=\"\",0,IF(C23=\"F\",0,Årsarbetsschema!$E24)))","v":0},0,{"$f":"Årsarbetsschema!S24","v":5}]
[null,"2026-03-21",null,null,null,null,null,null,0,"+",0,null,null,{"$f":"IF(E24>0,E24-D24-F24-H24,IF(C24=\"\",0,IF(C24=\"F\",0,Årsarbetsschema!$E25)))","v":0},0,{"$f":"Årsarbetsschema!S25","v":6}]
[null,"2026-03-22",null,null,null,null,null,null,0,"+",0,null,null,{"$f":"IF(E25>0,E25-D25-F25-H25,IF(C25=\"\",0,IF(C25=\"F\",0,Årsarbetsschema!$E26)))","v":0},0,{"$f":"Årsarbetsschema!S26","v":7}]
[null,"2026-03-23",null,null,null,null,null,null,0,"+",0,null,null,{"$f":"IF(E26>0,E26-D26-F26-H26,IF(C26=\"\",0,IF(C26=\"F\",0,Årsarbetsschema!$E27)))","v":0},0,{"$f":"Årsarbetsschema!S27","v":1}]
[null,{"$f":"B26+1","v":"2026-03-24"},null,null,null,null,null,null,{"$f":"IF(N27<0,-N27,N27)","v":0},{"$f":"IF(O27>=0,\"+\",\"-\")","v":"+"},{"$f":"IF(O27<0,-O27,O27)","v":0},null,null,{"$f":"IF(E27>0,E27-D27-F27-H27,IF(C27=\"\",0,IF(C27=\"F\",0,Årsarbetsschema!$E28)))","v":0},0,{"$f":"Årsarbetsschema!S28","v":2}]
[null,"2026-03-25",null,null,null,null,null,null,0,"+",0,null,null,{"$f":"IF(E28>0,E28-D28-F28-H28,IF(C28=\"\",0,IF(C28=\"F\",0,Årsarbetsschema!$E29)))","v":0},0,{"$f":"Årsarbetsschema!S29","v":3}]
[null,"2026-03-26",null,null,null,null,null,null,0,"+",0,null,null,{"$f":"IF(E29>0,E29-D29-F29-H29,IF(C29=\"\",0,IF(C29=\"F\",0,Årsarbetsschema!$E30)))","v":0},0,{"$f":"Årsarbetsschema!S30","v":4}]
[null,"2026-03-27",null,null,null,null,null,null,0,"+",0,null,null,{"$f":"IF(E30>0,E30-D30-F30-H30,IF(C30=\"\",0,IF(C30=\"F\",0,Årsarbetsschema!$E31)))","v":0},0,{"$f":"Årsarbetsschema!S31","v":5}]
[null,"2026-03-28",null,null,null,null,null,null,0,"+",0,null,null,{"$f":"IF(E31>0,E31-D31-F31-H31,IF(C31=\"\",0,IF(C31=\"F\",0,Årsarbetsschema!$E32)))","v":0},0,{"$f":"Årsarbetsschema!S32","v":6}]
[null,"2026-03-29",null,null,null,null,null,null,0,"+",0,null,null,{"$f":"IF(E32>0,E32-D32-F32-H32,IF(C32=\"\",0,IF(C32=\"F\",0,Årsarbetsschema!$E33)))","v":0},0,{"$f":"Årsarbetsschema!S33","v":7}]
[null,"2026-03-30",null,null,null,null,null,null,0,"+",0,null,null,{"$f":"IF(E33>0,E33-D33-F33-H33,IF(C33=\"\",0,IF(C33=\"F\",0,Årsarbetsschema!$E34)))","v":0},0,{"$f":"Årsarbetsschema!S34","v":1}]
[null,"2026-03-31",null,null,null,null,null,null,0,"+",0,null,null,{"$f":"IF(E34>0,E34-D34-F34-H34,IF(C34=\"\",0,IF(C34=\"F\",0,Årsarbetsschema!$E35)))","v":0},0,{"$f":"Årsarbetsschema!S35","v":2}]
[null,null,null,null,null,null,null,"Månad",{"$f":"IF(N35<0,-N35,N35)","v":0},"+",{"$f":"IF(O35<0,-O35,O35)","v":0},null,null,{"$f":"SUM(N4:N34)","v":0},{"$f":"SUM(O4:O34)","v":0}]
[null,null,null,null,null,null,null,"Totalt",0,"+",{"$f":"IF(O36<0,-O36,O36)","v":0},null,null,{"$f":"N35+N3","v":0},{"$f":"O35+O3","v":0}]
[null,null,null,null,null,null,null,null,null,"=",{"$f":"O36*24","v":0}]
[null,{"$f":"IF(Uppgifter!$C$6=\"\",\"\",Uppgifter!$C$6)","v":""}]

{"sheet":"April","index":7,"n_rows":38,"n_cols":17,"rows_kept":38,"cut":false,"hidden":false,"merged":[]}
[null,{"$f":"PROPER(TEXT(B4,\"MMMM ÅÅÅÅ\"))","v":"April 2026"},null,null,null,null,{"$f":"IF(Uppgifter!$C$6=\"\",\"\",Uppgifter!$C$6)","v":""}]
[null,null,null,null,null,null,null,null,null,null,null,null,null,"Dagsumma","Dagbalans","Vdag"]
[null,"Datum","Kod","In","Ut","Lunch","Planerat","Ledighet","Arbetstid",null,"Flextid","Anteckningar",null,{"$f":"Mars!N36","v":0},{"$f":"Mars!O36","v":0}]
[null,{"$f":"DATEVALUE(Uppgifter!C4 & \"-04-01\")","v":"2026-04-01"},null,null,null,null,null,null,{"$f":"IF(N4<0,-N4,N4)","v":0},{"$f":"IF(O4>=0,\"+\",\"-\")","v":"+"},{"$f":"IF(O4<0,-O4,O4)","v":0},null,null,{"$f":"IF(E4>0,E4-D4-F4-H4,IF(C4=\"\",0,IF(C4=\"F\",0,Årsarbetsschema!$F5)))","v":0},{"$f":"ROUND(IF(N4>0,I4-G4,IF(C4=\"F\",I4-G4,0)),15)","v":0},{"$f":"Årsarbetsschema!T5","v":3},"F"]
[null,{"$f":"B4+1","v":"2026-04-02"},null,null,null,null,null,null,{"$f":"IF(N5<0,-N5,N5)","v":0},"+",0,null,null,{"$f":"IF(E5>0,E5-D5-F5-H5,IF(C5=\"\",0,IF(C5=\"F\",0,Årsarbetsschema!$F6)))","v":0},{"$f":"ROUND(IF(N5>0,I5-G5,IF(C5=\"F\",I5-G5,0)),15)","v":0},{"$f":"Årsarbetsschema!T6","v":4},"Se"]
[null,{"$f":"B5+1","v":"2026-04-03"},null,null,null,null,null,null,0,"+",0,null,null,{"$f":"IF(E6>0,E6-D6-F6-H6,IF(C6=\"\",0,IF(C6=\"F\",0,Årsarbetsschema!$F7)))","v":0},0,{"$f":"Årsarbetsschema!T7","v":-1},"Sj"]
[null,"2026-04-04",null,null,null,null,null,null,0,"+",0,null,null,{"$f":"IF(E7>0,E7-D7-F7-H7,IF(C7=\"\",0,IF(C7=\"F\",0,Årsarbetsschema!$F8)))","v":0},0,{"$f":"Årsarbetsschema!T8","v":6},"Tj"]
[null,"2026-04-05",null,null,null,null,null,null,0,"+",0,null,null,{"$f":"IF(E8>0,E8-D8-F8-H8,IF(C8=\"\",0,IF(C8=\"F\",0,Årsarbetsschema!$F9)))","v":0},0,{"$f":"Årsarbetsschema!T9","v":7},"VB"]
[null,"2026-04-06",null,null,null,null,null,null,0,"+",0,null,null,{"$f":"IF(E9>0,E9-D9-F9-H9,IF(C9=\"\",0,IF(C9=\"F\",0,Årsarbetsschema!$F10)))","v":0},0,{"$f":"Årsarbetsschema!T10","v":-1},"FL"]
[null,"2026-04-07",null,null,null,null,null,null,0,"+",0,null,null,{"$f":"IF(E10>0,E10-D10-F10-H10,IF(C10=\"\",0,IF(C10=\"F\",0,Årsarbetsschema!$F11)))","v":0},0,{"$f":"Årsarbetsschema!T11","v":2}]
[null,"2026-04-08",null,null,null,null,null,null,0,"+",0,null,null,{"$f":"IF(E11>0,E11-D11-F11-H11,IF(C11=\"\",0,IF(C11=\"F\",0,Årsarbetsschema!$F12)))","v":0},0,{"$f":"Årsarbetsschema!T12","v":3}]
[null,"2026-04-09",null,null,null,null,null,null,0,"+",0,null,null,{"$f":"IF(E12>0,E12-D12-F12-H12,IF(C12=\"\",0,IF(C12=\"F\",0,Årsarbetsschema!$F13)))","v":0},0,{"$f":"Årsarbetsschema!T13","v":4}]
[null,"2026-04-10",null,null,null,null,null,null,0,"+",0,null,null,{"$f":"IF(E13>0,E13-D13-F13-H13,IF(C13=\"\",0,IF(C13=\"F\",0,Årsarbetsschema!$F14)))","v":0},0,{"$f":"Årsarbetsschema!T14","v":5}]
[null,"2026-04-11",null,null,null,null,null,null,0,"+",0,null,null,{"$f":"IF(E14>0,E14-D14-F14-H14,IF(C14=\"\",0,IF(C14=\"F\",0,Årsarbetsschema!$F15)))","v":0},0,{"$f":"Årsarbetsschema!T15","v":6}]
[null,"2026-04-12",null,null,null,null,null,null,0,"+",0,null,null,{"$f":"IF(E15>0,E15-D15-F15-H15,IF(C15=\"\",0,IF(C15=\"F\",0,Årsarbetsschema!$F16)))","v":0},0,{"$f":"Årsarbetsschema!T16","v":7}]
[null,"2026-04-13",null,null,null,null,null,null,0,"+",0,null,null,{"$f":"IF(E16>0,E16-D16-F16-H16,IF(C16=\"\",0,IF(C16=\"F\",0,Årsarbetsschema!$F17)))","v":0},0,{"$f":"Årsarbetsschema!T17","v":1}]
[null,"2026-04-14",null,null,null,null,null,null,0,"+",0,null,null,{"$f":"IF(E17>0,E17-D17-F17-H17,IF(C17=\"\",0,IF(C17=\"F\",0,Årsarbetsschema!$F18)))","v":0},0,{"$f":"Årsarbetsschema!T18","v":2}]
[null,"2026-04-15",null,null,null,null,null,null,0,"+",0,null,null,{"$f":"IF(E18>0,E18-D18-F18-H18,IF(C18=\"\",0,IF(C18=\"F\",0,Årsarbetsschema!$F19)))","v":0},0,{"$f":"Årsarbetsschema!T19","v":3}]
[null,"2026-04-16",null,null,null,null,null,null,0,"+",0,null,null,{"$f":"IF(E19>0,E19-D19-F19-H19,IF(C19=\"\",0,IF(C19=\"F\",0,Årsarbetsschema!$F20)))","v":0},0,{"$f":"Årsarbetsschema!T20","v":4}]
[null,"2026-04-17",null,null,null,null,null,null,0,"+",0,null,null,{"$f":"IF(E20>0,E20-D20-F20-H20,IF(C20=\"\",0,IF(C20=\"F\",0,Årsarbetsschema!$F21)))","v":0},0,{"$f":"Årsarbetsschema!T21","v":5}]
[null,"2026-04-18",null,null,null,null,null,null,0,"+",0,null,null,{"$f":"IF(E21>0,E21-D21-F21-H21,IF(C21=\"\",0,IF(C21=\"F\",0,Årsarbetsschema!$F22)))","v":0},0,{"$f":"Årsarbetsschema!T22","v":6}]
[null,"2026-04-19",null,null,null,null,null,null,0,"+",0,null,null,{"$f":"IF(E22>0,E22-D22-F22-H22,IF(C22=\"\",0,IF(C22=\"F\",0,Årsarbetsschema!$F23)))","v":0},0,{"$f":"Årsarbetsschema!T23","v":7}]
[null,"2026-04-20",null,null,null,null,null,null,0,"+",0,null,null,{"$f":"IF(E23>0,E23-D23-F23-H23,IF(C23=\"\",0,IF(C23=\"F\",0,Årsarbetsschema!$F24)))","v":0},0,{"$f":"Årsarbetsschema!T24","v":1}]
[null,"2026-04-21",null,null,null,null,null,null,0,"+",0,null,null,{"$f":"IF(E24>0,E24-D24-F24-H24,IF(C24=\"\",0,IF(C24=\"F\",0,Årsarbetsschema!$F25)))","v":0},0,{"$f":"Årsarbetsschema!T25","v":2}]
[null,"2026-04-22",null,null,null,null,null,null,0,"+",0,null,null,{"$f":"IF(E25>0,E25-D25-F25-H25,IF(C25=\"\",0,IF(C25=\"F\",0,Årsarbetsschema!$F26)))","v":0},0,{"$f":"Årsarbetsschema!T26","v":3}]
[null,"2026-04-23",null,null,null,null,null,null,0,"+",0,null,null,{"$f":"IF(E26>0,E26-D26-F26-H26,IF(C26=\"\",0,IF(C26=\"F\",0,Årsarbetsschema!$F27)))","v":0},0,{"$f":"Årsarbetsschema!T27","v":4}]
[null,"2026-04-24",null,null,null,null,null,null,0,"+",0,null,null,{"$f":"IF(E27>0,E27-D27-F27-H27,IF(C27=\"\",0,IF(C27=\"F\",0,Årsarbetsschema!$F28)))","v":0},0,{"$f":"Årsarbetsschema!T28","v":5}]
[null,"2026-04-25",null,null,null,null,null,null,0,"+",0,null,null,{"$f":"IF(E28>0,E28-D28-F28-H28,IF(C28=\"\",0,IF(C28=\"F\",0,Årsarbetsschema!$F29)))","v":0},0,{"$f":"Årsarbetsschema!T29","v":6}]
[null,"2026-04-26",null,null,null,null,null,null,0,"+",0,null,null,{"$f":"IF(E29>0,E29-D29-F29-H29,IF(C29=\"\",0,IF(C29=\"F\",0,Årsarbetsschema!$F30)))","v":0},0,{"$f":"Årsarbetsschema!T30","v":7}]
[null,"2026-04-27",null,null,null,null,null,null,0,"+",0,null,null,{"$f":"IF(E30>0,E30-D30-F30-H30,IF(C30=\"\",0,IF(C30=\"F\",0,Årsarbetsschema!$F31)))","v":0},0,{"$f":"Årsarbetsschema!T31","v":1}]
[null,"2026-04-28",null,null,null,null,null,null,0,"+",0,null,null,{"$f":"IF(E31>0,E31-D31-F31-H31,IF(C31=\"\",0,IF(C31=\"F\",0,Årsarbetsschema!$F32)))","v":0},0,{"$f":"Årsarbetsschema!T32","v":2}]
[null,"2026-04-29",null,null,null,null,null,null,0,"+",0,null,null,{"$f":"IF(E32>0,E32-D32-F32-H32,IF(C32=\"\",0,IF(C32=\"F\",0,Årsarbetsschema!$F33)))","v":0},0,{"$f":"Årsarbetsschema!T33","v":3}]
[null,"2026-04-30",null,null,null,null,null,null,{"$f":"IF(N33<0,-N33,N33)","v":0},{"$f":"IF(O33>=0,\"+\",\"-\")","v":"+"},{"$f":"IF(O33<0,-O33,O33)","v":0},null,null,{"$f":"IF(E33>0,E33-D33-F33-H33,IF(C33=\"\",0,IF(C33=\"F\",0,Årsarbetsschema!$F34)))","v":0},{"$f":"ROUND(IF(N33>0,I33-G33,IF(C33=\"F\",I33-G33,0)),15)","v":0},{"$f":"Årsarbetsschema!T34","v":4}]
[null,"2026-05-01",null,null,null,null,null,null,0,"+",0,null,null,{"$f":"IF(E34>0,E34-D34-F34-H34,IF(C34=\"\",0,IF(C34=\"F\",0,Årsarbetsschema!$D$39)))","v":0},0,{"$f":"WEEKDAY(B34,2)","v":5}]
[null,null,null,null,null,null,null,"Månad",{"$f":"IF(N35<0,-N35,N35)","v":0},{"$f":"IF(O35>=0,\"+\",\"-\")","v":"+"},{"$f":"IF(O35<0,-O35,O35)","v":0},null,null,{"$f":"SUM(N4:N34)","v":0},{"$f":"SUM(O4:O34)","v":0}]
[null,null,null,null,null,null,null,"Totalt",0,{"$f":"IF(O36>=0,\"+\",\"-\")","v":"+"},{"$f":"IF(O36<0,-O36,O36)","v":0},null,null,{"$f":"N35+N3","v":0},{"$f":"O35+O3","v":0}]
[null,null,null,null,null,null,null,null,null,"=",{"$f":"O36*24","v":0}]
[null,{"$f":"IF(Uppgifter!$C$6=\"\",\"\",Uppgifter!$C$6)","v":""}]

{"sheet":"Maj","index":8,"n_rows":38,"n_cols":17,"rows_kept":38,"cut":false,"hidden":false,"merged":[]}
[null,{"$f":"PROPER(TEXT(B4,\"MMMM ÅÅÅÅ\"))","v":"Maj 2026"},null,null,null,null,{"$f":"IF(Uppgifter!$C$6=\"\",\"\",Uppgifter!$C$6)","v":""}]
[null,null,null,null,null,null,null,null,null,null,null,null,null,"Dagsumma","Dagbalans","Vdag"]
[null,"Datum","Kod","In","Ut","Lunch","Planerat","Ledighet","Arbetstid",null,"Flextid","Anteckningar",null,{"$f":"April!N36","v":0},{"$f":"April!O36","v":0}]
[null,{"$f":"DATEVALUE(Uppgifter!C4 & \"-05-01\")","v":"2026-05-01"},null,null,null,null,null,null,{"$f":"IF(N4<0,-N4,N4)","v":0},{"$f":"IF(O4>=0,\"+\",\"-\")","v":"+"},{"$f":"IF(O4<0,-O4,O4)","v":0},null,null,{"$f":"IF(E4>0,E4-D4-F4-H4,IF(C4=\"\",0,IF(C4=\"F\",0,Årsarbetsschema!$G5)))","v":0},{"$f":"ROUND(IF(N4>0,I4-G4,IF(C4=\"F\",I4-G4,0)),15)","v":0},{"$f":"Årsarbetsschema!U5","v":-1},"F"]
[null,{"$f":"B4+1","v":"2026-05-02"},null,null,null,null,null,null,{"$f":"IF(N5<0,-N5,N5)","v":0},"+",0,null,null,{"$f":"IF(E5>0,E5-D5-F5-H5,IF(C5=\"\",0,IF(C5=\"F\",0,Årsarbetsschema!$G6)))","v":0},0,{"$f":"Årsarbetsschema!U6","v":6},"Se"]
[null,{"$f":"B5+1","v":"2026-05-03"},null,null,null,null,null,null,0,"+",0,null,null,{"$f":"IF(E6>0,E6-D6-F6-H6,IF(C6=\"\",0,IF(C6=\"F\",0,Årsarbetsschema!$G7)))","v":0},0,{"$f":"Årsarbetsschema!U7","v":7},"Sj"]
[null,"2026-05-04",null,null,null,null,null,null,0,"+",0,null,null,{"$f":"IF(E7>0,E7-D7-F7-H7,IF(C7=\"\",0,IF(C7=\"F\",0,Årsarbetsschema!$G8)))","v":0},0,{"$f":"Årsarbetsschema!U8","v":1},"Tj"]
[null,"2026-05-05",null,null,null,null,null,null,0,"+",0,null,null,{"$f":"IF(E8>0,E8-D8-F8-H8,IF(C8=\"\",0,IF(C8=\"F\",0,Årsarbetsschema!$G9)))","v":0},0,{"$f":"Årsarbetsschema!U9","v":2},"VB"]
[null,"2026-05-06",null,null,null,null,null,null,0,"+",0,null,null,{"$f":"IF(E9>0,E9-D9-F9-H9,IF(C9=\"\",0,IF(C9=\"F\",0,Årsarbetsschema!$G10)))","v":0},0,{"$f":"Årsarbetsschema!U10","v":3},"FL"]
[null,"2026-05-07",null,null,null,null,null,null,0,"+",0,null,null,{"$f":"IF(E10>0,E10-D10-F10-H10,IF(C10=\"\",0,IF(C10=\"F\",0,Årsarbetsschema!$G11)))","v":0},0,{"$f":"Årsarbetsschema!U11","v":4}]
[null,"2026-05-08",null,null,null,null,null,null,0,"+",0,null,null,{"$f":"IF(E11>0,E11-D11-F11-H11,IF(C11=\"\",0,IF(C11=\"F\",0,Årsarbetsschema!$G12)))","v":0},0,{"$f":"Årsarbetsschema!U12","v":5}]
[null,"2026-05-09",null,null,null,null,null,null,0,"+",0,null,null,{"$f":"IF(E12>0,E12-D12-F12-H12,IF(C12=\"\",0,IF(C12=\"F\",0,Årsarbetsschema!$G13)))","v":0},0,{"$f":"Årsarbetsschema!U13","v":6}]
[null,"2026-05-10",null,null,null,null,null,null,0,"+",0,null,null,{"$f":"IF(E13>0,E13-D13-F13-H13,IF(C13=\"\",0,IF(C13=\"F\",0,Årsarbetsschema!$G14)))","v":0},0,{"$f":"Årsarbetsschema!U14","v":7}]
[null,"2026-05-11",null,null,null,null,null,null,0,"+",0,null,null,{"$f":"IF(E14>0,E14-D14-F14-H14,IF(C14=\"\",0,IF(C14=\"F\",0,Årsarbetsschema!$G15)))","v":0},0,{"$f":"Årsarbetsschema!U15","v":1}]
[null,"2026-05-12",null,null,null,null,null,null,0,"+",0,null,null,{"$f":"IF(E15>0,E15-D15-F15-H15,IF(C15=\"\",0,IF(C15=\"F\",0,Årsarbetsschema!$G16)))","v":0},0,{"$f":"Årsarbetsschema!U16","v":2}]
[null,"2026-05-13",null,null,null,null,null,null,0,"+",0,null,null,{"$f":"IF(E16>0,E16-D16-F16-H16,IF(C16=\"\",0,IF(C16=\"F\",0,Årsarbetsschema!$G17)))","v":0},0,{"$f":"Årsarbetsschema!U17","v":3}]
[null,"2026-05-14",null,null,null,null,null,null,0,"+",0,null,null,{"$f":"IF(E17>0,E17-D17-F17-H17,IF(C17=\"\",0,IF(C17=\"F\",0,Årsarbetsschema!$G18)))","v":0},0,{"$f":"Årsarbetsschema!U18","v":-1}]
[null,"2026-05-15",null,null,null,null,null,null,0,"+",0,null,null,{"$f":"IF(E18>0,E18-D18-F18-H18,IF(C18=\"\",0,IF(C18=\"F\",0,Årsarbetsschema!$G19)))","v":0},0,{"$f":"Årsarbetsschema!U19","v":5}]
[null,"2026-05-16",null,null,null,null,null,null,0,"+",0,null,null,{"$f":"IF(E19>0,E19-D19-F19-H19,IF(C19=\"\",0,IF(C19=\"F\",0,Årsarbetsschema!$G20)))","v":0},0,{"$f":"Årsarbetsschema!U20","v":6}]
[null,"2026-05-17",null,null,null,null,null,null,0,"+",0,null,null,{"$f":"IF(E20>0,E20-D20-F20-H20,IF(C20=\"\",0,IF(C20=\"F\",0,Årsarbetsschema!$G21)))","v":0},0,{"$f":"Årsarbetsschema!U21","v":7}]
[null,"2026-05-18",null,null,null,null,null,null,0,"+",0,null,null,{"$f":"IF(E21>0,E21-D21-F21-H21,IF(C21=\"\",0,IF(C21=\"F\",0,Årsarbetsschema!$G22)))","v":0},0,{"$f":"Årsarbetsschema!U22","v":1}]
[null,"2026-05-19",null,null,null,null,null,null,0,"+",0,null,null,{"$f":"IF(E22>0,E22-D22-F22-H22,IF(C22=\"\",0,IF(C22=\"F\",0,Årsarbetsschema!$G23)))","v":0},0,{"$f":"Årsarbetsschema!U23","v":2}]
[null,"2026-05-20",null,null,null,null,null,null,0,"+",0,null,null,{"$f":"IF(E23>0,E23-D23-F23-H23,IF(C23=\"\",0,IF(C23=\"F\",0,Årsarbetsschema!$G24)))","v":0},0,{"$f":"Årsarbetsschema!U24","v":3}]
[null,"2026-05-21",null,null,null,null,null,null,0,"+",0,null,null,{"$f":"IF(E24>0,E24-D24-F24-H24,IF(C24=\"\",0,IF(C24=\"F\",0,Årsarbetsschema!$G25)))","v":0},0,{"$f":"Årsarbetsschema!U25","v":4}]
[null,"2026-05-22",null,null,null,null,null,null,0,"+",0,null,null,{"$f":"IF(E25>0,E25-D25-F25-H25,IF(C25=\"\",0,IF(C25=\"F\",0,Årsarbetsschema!$G26)))","v":0},0,{"$f":"Årsarbetsschema!U26","v":5}]
[null,"2026-05-23",null,null,null,null,null,null,0,"+",0,null,null,{"$f":"IF(E26>0,E26-D26-F26-H26,IF(C26=\"\",0,IF(C26=\"F\",0,Årsarbetsschema!$G27)))","v":0},0,{"$f":"Årsarbetsschema!U27","v":6}]
[null,"2026-05-24",null,null,null,null,null,null,0,"+",0,null,null,{"$f":"IF(E27>0,E27-D27-F27-H27,IF(C27=\"\",0,IF(C27=\"F\",0,Årsarbetsschema!$G28)))","v":0},0,{"$f":"Årsarbetsschema!U28","v":7}]
[null,"2026-05-25",null,null,null,null,null,null,0,"+",0,null,null,{"$f":"IF(E28>0,E28-D28-F28-H28,IF(C28=\"\",0,IF(C28=\"F\",0,Årsarbetsschema!$G29)))","v":0},0,{"$f":"Årsarbetsschema!U29","v":1}]
[null,"2026-05-26",null,null,null,null,null,null,0,"+",0,null,null,{"$f":"IF(E29>0,E29-D29-F29-H29,IF(C29=\"\",0,IF(C29=\"F\",0,Årsarbetsschema!$G30)))","v":0},0,{"$f":"Årsarbetsschema!U30","v":2}]
[null,"2026-05-27",null,null,null,null,null,null,0,"+",0,null,null,{"$f":"IF(E30>0,E30-D30-F30-H30,IF(C30=\"\",0,IF(C30=\"F\",0,Årsarbetsschema!$G31)))","v":0},0,{"$f":"Årsarbetsschema!U31","v":3}]
[null,"2026-05-28",null,null,null,null,null,null,0,"+",0,null,null,{"$f":"IF(E31>0,E31-D31-F31-H31,IF(C31=\"\",0,IF(C31=\"F\",0,Årsarbetsschema!$G32)))","v":0},0,{"$f":"Årsarbetsschema!U32","v":4}]
[null,"2026-05-29",null,null,null,null,null,null,0,"+",0,null,null,{"$f":"IF(E32>0,E32-D32-F32-H32,IF(C32=\"\",0,IF(C32=\"F\",0,Årsarbetsschema!$G33)))","v":0},0,{"$f":"Årsarbetsschema!U33","v":5}]
[null,"2026-05-30",null,null,null,null,null,null,0,"+",0,null,null,{"$f":"IF(E33>0,E33-D33-F33-H33,IF(C33=\"\",0,IF(C33=\"F\",0,Årsarbetsschema!$G34)))","v":0},0,{"$f":"Årsarbetsschema!U34","v":6}]
[null,"2026-05-31",null,null,null,null,null,null,0,"+",0,null,null,{"$f":"IF(E34>0,E34-D34-F34-H34,IF(C34=\"\",0,IF(C34=\"F\",0,Årsarbetsschema!$G35)))","v":0},0,{"$f":"Årsarbetsschema!U35","v":7}]
[null,null,null,null,null,null,null,"Månad",0,"+",{"$f":"IF(O35<0,-O35,O35)","v":0},null,null,{"$f":"SUM(N4:N34)","v":0},{"$f":"SUM(O4:O34)","v":0}]
[null,null,null,null,null,null,null,"Totalt",0,"+",{"$f":"IF(O36<0,-O36,O36)","v":0},null,null,{"$f":"N35+N3","v":0},{"$f":"O35+O3","v":0}]
[null,null,null,null,null,null,null,null,null,"=",{"$f":"O36*24","v":0}]
[null,{"$f":"IF(Uppgifter!$C$6=\"\",\"\",Uppgifter!$C$6)","v":""}]

{"sheet":"Juni","index":9,"n_rows":38,"n_cols":17,"rows_kept":38,"cut":false,"hidden":false,"merged":[]}
[null,{"$f":"PROPER(TEXT(B4,\"MMMM ÅÅÅÅ\"))","v":"Juni 2026"},null,null,null,null,{"$f":"IF(Uppgifter!$C$6=\"\",\"\",Uppgifter!$C$6)","v":""}]
[null,null,null,null,null,null,null,null,null,null,null,null,null,"Dagsumma","Dagbalans","Vdag"]
[null,"Datum","Kod","In","Ut","Lunch","Planerat","Ledighet","Arbetstid",null,"Flextid","Anteckningar",null,{"$f":"Maj!N36","v":0},{"$f":"Maj!O36","v":0}]
[null,{"$f":"DATEVALUE(Uppgifter!C4 & \"-06-01\")","v":"2026-06-01"},null,null,null,null,null,null,{"$f":"IF(N4<0,-N4,N4)","v":0},{"$f":"IF(O4>=0,\"+\",\"-\")","v":"+"},{"$f":"IF(O4<0,-O4,O4)","v":0},null,null,{"$f":"IF(E4>0,E4-D4-F4-H4,IF(C4=\"\",0,IF(C4=\"F\",0,Årsarbetsschema!$H5)))","v":0},{"$f":"ROUND(IF(N4>0,I4-G4,IF(C4=\"F\",I4-G4,0)),15)","v":0},{"$f":"Årsarbetsschema!V5","v":1},"F"]
[null,{"$f":"B4+1","v":"2026-06-02"},null,null,null,null,null,null,{"$f":"IF(N5<0,-N5,N5)","v":0},"+",0,null,null,{"$f":"IF(E5>0,E5-D5-F5-H5,IF(C5=\"\",0,IF(C5=\"F\",0,Årsarbetsschema!$H6)))","v":0},{"$f":"ROUND(IF(N5>0,I5-G5,IF(C5=\"F\",I5-G5,0)),15)","v":0},{"$f":"Årsarbetsschema!V6","v":2},"Se"]
[null,{"$f":"B5+1","v":"2026-06-03"},null,null,null,null,null,null,0,"+",0,null,null,{"$f":"IF(E6>0,E6-D6-F6-H6,IF(C6=\"\",0,IF(C6=\"F\",0,Årsarbetsschema!$H7)))","v":0},0,{"$f":"Årsarbetsschema!V7","v":3},"Sj"]
[null,"2026-06-04",null,null,null,null,null,null,0,"+",0,null,null,{"$f":"IF(E7>0,E7-D7-F7-H7,IF(C7=\"\",0,IF(C7=\"F\",0,Årsarbetsschema!$H8)))","v":0},0,{"$f":"Årsarbetsschema!V8","v":4},"Tj"]
[null,"2026-06-05",null,null,null,null,null,null,0,"+",0,null,null,{"$f":"IF(E8>0,E8-D8-F8-H8,IF(C8=\"\",0,IF(C8=\"F\",0,Årsarbetsschema!$H9)))","v":0},0,{"$f":"Årsarbetsschema!V9","v":5},"VB"]
[null,"2026-06-06",null,null,null,null,null,null,0,"+",0,null,null,{"$f":"IF(E9>0,E9-D9-F9-H9,IF(C9=\"\",0,IF(C9=\"F\",0,Årsarbetsschema!$H10)))","v":0},0,{"$f":"Årsarbetsschema!V10","v":6},"FL"]
[null,"2026-06-07",null,null,null,null,null,null,0,"+",0,null,null,{"$f":"IF(E10>0,E10-D10-F10-H10,IF(C10=\"\",0,IF(C10=\"F\",0,Årsarbetsschema!$H11)))","v":0},0,{"$f":"Årsarbetsschema!V11","v":7}]
[null,"2026-06-08",null,null,null,null,null,null,0,"+",0,null,null,{"$f":"IF(E11>0,E11-D11-F11-H11,IF(C11=\"\",0,IF(C11=\"F\",0,Årsarbetsschema!$H12)))","v":0},0,{"$f":"Årsarbetsschema!V12","v":1}]
[null,"2026-06-09",null,null,null,null,null,null,0,"+",0,null,null,{"$f":"IF(E12>0,E12-D12-F12-H12,IF(C12=\"\",0,IF(C12=\"F\",0,Årsarbetsschema!$H13)))","v":0},0,{"$f":"Årsarbetsschema!V13","v":2}]
[null,"2026-06-10",null,null,null,null,null,null,0,"+",0,null,null,{"$f":"IF(E13>0,E13-D13-F13-H13,IF(C13=\"\",0,IF(C13=\"F\",0,Årsarbetsschema!$H14)))","v":0},0,{"$f":"Årsarbetsschema!V14","v":3}]
[null,"2026-06-11",null,null,null,null,null,null,0,"+",0,null,null,{"$f":"IF(E14>0,E14-D14-F14-H14,IF(C14=\"\",0,IF(C14=\"F\",0,Årsarbetsschema!$H15)))","v":0},0,{"$f":"Årsarbetsschema!V15","v":4}]
[null,"2026-06-12",null,null,null,null,null,null,0,"+",0,null,null,{"$f":"IF(E15>0,E15-D15-F15-H15,IF(C15=\"\",0,IF(C15=\"F\",0,Årsarbetsschema!$H16)))","v":0},0,{"$f":"Årsarbetsschema!V16","v":5}]
[null,"2026-06-13",null,null,null,null,null,null,0,"+",0,null,null,{"$f":"IF(E16>0,E16-D16-F16-H16,IF(C16=\"\",0,IF(C16=\"F\",0,Årsarbetsschema!$H17)))","v":0},0,{"$f":"Årsarbetsschema!V17","v":6}]
[null,"2026-06-14",null,null,null,null,null,null,0,"+",0,null,null,{"$f":"IF(E17>0,E17-D17-F17-H17,IF(C17=\"\",0,IF(C17=\"F\",0,Årsarbetsschema!$H18)))","v":0},0,{"$f":"Årsarbetsschema!V18","v":7}]
[null,"2026-06-15",null,null,null,null,null,null,0,"+",0,null,null,{"$f":"IF(E18>0,E18-D18-F18-H18,IF(C18=\"\",0,IF(C18=\"F\",0,Årsarbetsschema!$H19)))","v":0},0,{"$f":"Årsarbetsschema!V19","v":1}]
[null,"2026-06-16",null,null,null,null,null,null,0,"+",0,null,null,{"$f":"IF(E19>0,E19-D19-F19-H19,IF(C19=\"\",0,IF(C19=\"F\",0,Årsarbetsschema!$H20)))","v":0},0,{"$f":"Årsarbetsschema!V20","v":2}]
[null,"2026-06-17",null,null,null,null,null,null,0,"+",0,null,null,{"$f":"IF(E20>0,E20-D20-F20-H20,IF(C20=\"\",0,IF(C20=\"F\",0,Årsarbetsschema!$H21)))","v":0},0,{"$f":"Årsarbetsschema!V21","v":3}]
[null,"2026-06-18",null,null,null,null,null,null,0,"+",0,null,null,{"$f":"IF(E21>0,E21-D21-F21-H21,IF(C21=\"\",0,IF(C21=\"F\",0,Årsarbetsschema!$H22)))","v":0},0,{"$f":"Årsarbetsschema!V22","v":4}]
[null,"2026-06-19",null,null,null,null,null,null,0,"+",0,null,null,{"$f":"IF(E22>0,E22-D22-F22-H22,IF(C22=\"\",0,IF(C22=\"F\",0,Årsarbetsschema!$H23)))","v":0},0,{"$f":"Årsarbetsschema!V23","v":-1}]
[null,"2026-06-20",null,null,null,null,null,null,0,"+",0,null,null,{"$f":"IF(E23>0,E23-D23-F23-H23,IF(C23=\"\",0,IF(C23=\"F\",0,Årsarbetsschema!$H24)))","v":0},0,{"$f":"Årsarbetsschema!V24","v":6}]
[null,"2026-06-21",null,null,null,null,null,null,0,"+",0,null,null,{"$f":"IF(E24>0,E24-D24-F24-H24,IF(C24=\"\",0,IF(C24=\"F\",0,Årsarbetsschema!$H25)))","v":0},0,{"$f":"Årsarbetsschema!V25","v":7}]
[null,"2026-06-22",null,null,null,null,null,null,0,"+",0,null,null,{"$f":"IF(E25>0,E25-D25-F25-H25,IF(C25=\"\",0,IF(C25=\"F\",0,Årsarbetsschema!$H26)))","v":0},0,{"$f":"Årsarbetsschema!V26","v":1}]
[null,"2026-06-23",null,null,null,null,null,null,0,"+",0,null,null,{"$f":"IF(E26>0,E26-D26-F26-H26,IF(C26=\"\",0,IF(C26=\"F\",0,Årsarbetsschema!$H27)))","v":0},0,{"$f":"Årsarbetsschema!V27","v":2}]
[null,"2026-06-24",null,null,null,null,null,null,0,"+",0,null,null,{"$f":"IF(E27>0,E27-D27-F27-H27,IF(C27=\"\",0,IF(C27=\"F\",0,Årsarbetsschema!$H28)))","v":0},0,{"$f":"Årsarbetsschema!V28","v":3}]
[null,"2026-06-25",null,null,null,null,null,null,0,"+",0,null,null,{"$f":"IF(E28>0,E28-D28-F28-H28,IF(C28=\"\",0,IF(C28=\"F\",0,Årsarbetsschema!$H29)))","v":0},0,{"$f":"Årsarbetsschema!V29","v":4}]
[null,"2026-06-26",null,null,null,null,null,null,0,"+",0,null,null,{"$f":"IF(E29>0,E29-D29-F29-H29,IF(C29=\"\",0,IF(C29=\"F\",0,Årsarbetsschema!$H30)))","v":0},0,{"$f":"Årsarbetsschema!V30","v":5}]
[null,"2026-06-27",null,null,null,null,null,null,0,"+",0,null,null,{"$f":"IF(E30>0,E30-D30-F30-H30,IF(C30=\"\",0,IF(C30=\"F\",0,Årsarbetsschema!$H31)))","v":0},0,{"$f":"Årsarbetsschema!V31","v":6}]
[null,"2026-06-28",null,null,null,null,null,null,0,"+",0,null,null,{"$f":"IF(E31>0,E31-D31-F31-H31,IF(C31=\"\",0,IF(C31=\"F\",0,Årsarbetsschema!$H32)))","v":0},0,{"$f":"Årsarbetsschema!V32","v":7}]
[null,"2026-06-29",null,null,null,null,null,null,0,"+",0,null,null,{"$f":"IF(E32>0,E32-D32-F32-H32,IF(C32=\"\",0,IF(C32=\"F\",0,Årsarbetsschema!$H33)))","v":0},0,{"$f":"Årsarbetsschema!V33","v":1}]
[null,"2026-06-30",null,null,null,null,null,null,{"$f":"IF(N33<0,-N33,N33)","v":0},{"$f":"IF(O33>=0,\"+\",\"-\")","v":"+"},{"$f":"IF(O33<0,-O33,O33)","v":0},null,null,{"$f":"IF(E33>0,E33-D33-F33-H33,IF(C33=\"\",0,IF(C33=\"F\",0,Årsarbetsschema!$H34)))","v":0},{"$f":"ROUND(IF(N33>0,I33-G33,IF(C33=\"F\",I33-G33,0)),15)","v":0},{"$f":"Årsarbetsschema!V34","v":2}]
[null,"2026-07-01",null,null,null,null,null,null,0,"+",0,null,null,{"$f":"IF(E34>0,E34-D34-F34-H34,IF(C34=\"\",0,IF(C34=\"F\",0,Årsarbetsschema!$H35)))","v":0},0,{"$f":"WEEKDAY(B34,2)","v":3}]
[null,null,null,null,null,null,null,"Månad",0,{"$f":"IF(O35>=0,\"+\",\"-\")","v":"+"},{"$f":"IF(O35<0,-O35,O35)","v":0},null,null,{"$f":"SUM(N4:N34)","v":0},{"$f":"SUM(O4:O34)","v":0}]
[null,null,null,null,null,null,null,"Totalt",0,{"$f":"IF(O36>=0,\"+\",\"-\")","v":"+"},{"$f":"IF(O36<0,-O36,O36)","v":0},null,null,{"$f":"N35+N3","v":0},{"$f":"O35+O3","v":0}]
[null,null,null,null,null,null,null,null,null,"=",{"$f":"O36*24","v":0}]
[null,{"$f":"IF(Uppgifter!$C$6=\"\",\"\",Uppgifter!$C$6)","v":""}]

{"sheet":"Juli","index":10,"n_rows":38,"n_cols":17,"rows_kept":38,"cut":false,"hidden":false,"merged":[]}
[null,{"$f":"PROPER(TEXT(B4,\"MMMM ÅÅÅÅ\"))","v":"Juli 2026"},null,null,null,null,{"$f":"IF(Uppgifter!$C$6=\"\",\"\",Uppgifter!$C$6)","v":""}]
[null,null,null,null,null,null,null,null,null,null,null,null,null,"Dagsumma","Dagbalans","Vdag"]
[null,"Datum","Kod","In","Ut","Lunch","Planerat","Ledighet","Arbetstid",null,"Flextid","Anteckningar",null,{"$f":"Juni!N36","v":0},{"$f":"Juni!O36","v":0}]
[null,{"$f":"DATEVALUE(Uppgifter!C4 & \"-07-01\")","v":"2026-07-01"},null,null,null,null,null,null,{"$f":"IF(N4<0,-N4,N4)","v":0},{"$f":"IF(O4>=0,\"+\",\"-\")","v":"+"},{"$f":"IF(O4<0,-O4,O4)","v":0},null,null,{"$f":"IF(E4>0,E4-D4-F4-H4,IF(C4=\"\",0,IF(C4=\"F\",0,Årsarbetsschema!$I5)))","v":0},{"$f":"ROUND(IF(N4>0,I4-G4,IF(C4=\"F\",I4-G4,0)),15)","v":0},{"$f":"Årsarbetsschema!W5","v":3},"F"]
[null,{"$f":"B4+1","v":"2026-07-02"},null,null,null,null,null,null,{"$f":"IF(N5<0,-N5,N5)","v":0},"+",0,null,null,{"$f":"IF(E5>0,E5-D5-F5-H5,IF(C5=\"\",0,IF(C5=\"F\",0,Årsarbetsschema!$I6)))","v":0},{"$f":"ROUND(IF(N5>0,I5-G5,IF(C5=\"F\",I5-G5,0)),15)","v":0},{"$f":"Årsarbetsschema!W6","v":4},"Se"]
[null,{"$f":"B5+1","v":"2026-07-03"},null,null,null,null,null,null,0,"+",0,null,null,{"$f":"IF(E6>0,E6-D6-F6-H6,IF(C6=\"\",0,IF(C6=\"F\",0,Årsarbetsschema!$I7)))","v":0},0,{"$f":"Årsarbetsschema!W7","v":5},"Sj"]
[null,"2026-07-04",null,null,null,null,null,null,0,"+",0,null,null,{"$f":"IF(E7>0,E7-D7-F7-H7,IF(C7=\"\",0,IF(C7=\"F\",0,Årsarbetsschema!$I8)))","v":0},0,{"$f":"Årsarbetsschema!W8","v":6},"Tj"]
[null,"2026-07-05",null,null,null,null,null,null,0,"+",0,null,null,{"$f":"IF(E8>0,E8-D8-F8-H8,IF(C8=\"\",0,IF(C8=\"F\",0,Årsarbetsschema!$I9)))","v":0},0,{"$f":"Årsarbetsschema!W9","v":7},"VB"]
[null,"2026-07-06",null,null,null,null,null,null,0,"+",0,null,null,{"$f":"IF(E9>0,E9-D9-F9-H9,IF(C9=\"\",0,IF(C9=\"F\",0,Årsarbetsschema!$I10)))","v":0},0,{"$f":"Årsarbetsschema!W10","v":1},"FL"]
[null,"2026-07-07",null,null,null,null,null,null,0,"+",0,null,null,{"$f":"IF(E10>0,E10-D10-F10-H10,IF(C10=\"\",0,IF(C10=\"F\",0,Årsarbetsschema!$I11)))","v":0},0,{"$f":"Årsarbetsschema!W11","v":2}]
[null,"2026-07-08",null,null,null,null,null,null,0,"+",0,null,null,{"$f":"IF(E11>0,E11-D11-F11-H11,IF(C11=\"\",0,IF(C11=\"F\",0,Årsarbetsschema!$I12)))","v":0},0,{"$f":"Årsarbetsschema!W12","v":3}]
[null,"2026-07-09",null,null,null,null,null,null,0,"+",0,null,null,{"$f":"IF(E12>0,E12-D12-F12-H12,IF(C12=\"\",0,IF(C12=\"F\",0,Årsarbetsschema!$I13)))","v":0},0,{"$f":"Årsarbetsschema!W13","v":4}]
[null,"2026-07-10",null,null,null,null,null,null,0,"+",0,null,null,{"$f":"IF(E13>0,E13-D13-F13-H13,IF(C13=\"\",0,IF(C13=\"F\",0,Årsarbetsschema!$I14)))","v":0},0,{"$f":"Årsarbetsschema!W14","v":5}]
[null,"2026-07-11",null,null,null,null,null,null,0,"+",0,null,null,{"$f":"IF(E14>0,E14-D14-F14-H14,IF(C14=\"\",0,IF(C14=\"F\",0,Årsarbetsschema!$I15)))","v":0},0,{"$f":"Årsarbetsschema!W15","v":6}]
[null,"2026-07-12",null,null,null,null,null,null,0,"+",0,null,null,{"$f":"IF(E15>0,E15-D15-F15-H15,IF(C15=\"\",0,IF(C15=\"F\",0,Årsarbetsschema!$I16)))","v":0},0,{"$f":"Årsarbetsschema!W16","v":7}]
[null,"2026-07-13",null,null,null,null,null,null,0,"+",0,null,null,{"$f":"IF(E16>0,E16-D16-F16-H16,IF(C16=\"\",0,IF(C16=\"F\",0,Årsarbetsschema!$I17)))","v":0},0,{"$f":"Årsarbetsschema!W17","v":1}]
[null,"2026-07-14",null,null,null,null,null,null,0,"+",0,null,null,{"$f":"IF(E17>0,E17-D17-F17-H17,IF(C17=\"\",0,IF(C17=\"F\",0,Årsarbetsschema!$I18)))","v":0},0,{"$f":"Årsarbetsschema!W18","v":2}]
[null,"2026-07-15",null,null,null,null,null,null,0,"+",0,null,null,{"$f":"IF(E18>0,E18-D18-F18-H18,IF(C18=\"\",0,IF(C18=\"F\",0,Årsarbetsschema!$I19)))","v":0},0,{"$f":"Årsarbetsschema!W19","v":3}]
[null,"2026-07-16",null,null,null,null,null,null,0,"+",0,null,null,{"$f":"IF(E19>0,E19-D19-F19-H19,IF(C19=\"\",0,IF(C19=\"F\",0,Årsarbetsschema!$I20)))","v":0},0,{"$f":"Årsarbetsschema!W20","v":4}]
[null,"2026-07-17",null,null,null,null,null,null,0,"+",0,null,null,{"$f":"IF(E20>0,E20-D20-F20-H20,IF(C20=\"\",0,IF(C20=\"F\",0,Årsarbetsschema!$I21)))","v":0},0,{"$f":"Årsarbetsschema!W21","v":5}]
[null,"2026-07-18",null,null,null,null,null,null,0,"+",0,null,null,{"$f":"IF(E21>0,E21-D21-F21-H21,IF(C21=\"\",0,IF(C21=\"F\",0,Årsarbetsschema!$I22)))","v":0},0,{"$f":"Årsarbetsschema!W22","v":6}]
[null,"2026-07-19",null,null,null,null,null,null,0,"+",0,null,null,{"$f":"IF(E22>0,E22-D22-F22-H22,IF(C22=\"\",0,IF(C22=\"F\",0,Årsarbetsschema!$I23)))","v":0},0,{"$f":"Årsarbetsschema!W23","v":7}]
[null,"2026-07-20",null,null,null,null,null,null,0,"+",0,null,null,{"$f":"IF(E23>0,E23-D23-F23-H23,IF(C23=\"\",0,IF(C23=\"F\",0,Årsarbetsschema!$I24)))","v":0},0,{"$f":"Årsarbetsschema!W24","v":1}]
[null,"2026-07-21",null,null,null,null,null,null,0,"+",0,null,null,{"$f":"IF(E24>0,E24-D24-F24-H24,IF(C24=\"\",0,IF(C24=\"F\",0,Årsarbetsschema!$I25)))","v":0},0,{"$f":"Årsarbetsschema!W25","v":2}]
[null,"2026-07-22",null,null,null,null,null,null,0,"+",0,null,null,{"$f":"IF(E25>0,E25-D25-F25-H25,IF(C25=\"\",0,IF(C25=\"F\",0,Årsarbetsschema!$I26)))","v":0},0,{"$f":"Årsarbetsschema!W26","v":3}]
[null,"2026-07-23",null,null,null,null,null,null,0,"+",0,null,null,{"$f":"IF(E26>0,E26-D26-F26-H26,IF(C26=\"\",0,IF(C26=\"F\",0,Årsarbetsschema!$I27)))","v":0},0,{"$f":"Årsarbetsschema!W27","v":4}]
[null,"2026-07-24",null,null,null,null,null,null,0,"+",0,null,null,{"$f":"IF(E27>0,E27-D27-F27-H27,IF(C27=\"\",0,IF(C27=\"F\",0,Årsarbetsschema!$I28)))","v":0},0,{"$f":"Årsarbetsschema!W28","v":5}]
[null,"2026-07-25",null,null,null,null,null,null,0,"+",0,null,null,{"$f":"IF(E28>0,E28-D28-F28-H28,IF(C28=\"\",0,IF(C28=\"F\",0,Årsarbetsschema!$I29)))","v":0},0,{"$f":"Årsarbetsschema!W29","v":6}]
[null,"2026-07-26",null,null,null,null,null,null,0,"+",0,null,null,{"$f":"IF(E29>0,E29-D29-F29-H29,IF(C29=\"\",0,IF(C29=\"F\",0,Årsarbetsschema!$I30)))","v":0},0,{"$f":"Årsarbetsschema!W30","v":7}]
[null,"2026-07-27",null,null,null,null,null,null,0,"+",0,null,null,{"$f":"IF(E30>0,E30-D30-F30-H30,IF(C30=\"\",0,IF(C30=\"F\",0,Årsarbetsschema!$I31)))","v":0},0,{"$f":"Årsarbetsschema!W31","v":1}]
[null,"2026-07-28",null,null,null,null,null,null,0,"+",0,null,null,{"$f":"IF(E31>0,E31-D31-F31-H31,IF(C31=\"\",0,IF(C31=\"F\",0,Årsarbetsschema!$I32)))","v":0},0,{"$f":"Årsarbetsschema!W32","v":2}]
[null,"2026-07-29",null,null,null,null,null,null,0,"+",0,null,null,{"$f":"IF(E32>0,E32-D32-F32-H32,IF(C32=\"\",0,IF(C32=\"F\",0,Årsarbetsschema!$I33)))","v":0},0,{"$f":"Årsarbetsschema!W33","v":3}]
[null,"2026-07-30",null,null,null,null,null,null,0,"+",0,null,null,{"$f":"IF(E33>0,E33-D33-F33-H33,IF(C33=\"\",0,IF(C33=\"F\",0,Årsarbetsschema!$I34)))","v":0},0,{"$f":"Årsarbetsschema!W34","v":4}]
[null,"2026-07-31",null,null,null,null,null,null,0,"+",0,null,null,{"$f":"IF(E34>0,E34-D34-F34-H34,IF(C34=\"\",0,IF(C34=\"F\",0,Årsarbetsschema!$I35)))","v":0},0,{"$f":"Årsarbetsschema!W35","v":5}]
[null,null,null,null,null,null,null,"Månad",0,"+",{"$f":"IF(O35<0,-O35,O35)","v":0},null,null,{"$f":"SUM(N4:N34)","v":0},{"$f":"SUM(O4:O34)","v":0}]
[null,null,null,null,null,null,null,"Totalt",0,"+",{"$f":"IF(O36<0,-O36,O36)","v":0},null,null,{"$f":"N35+N3","v":0},{"$f":"O35+O3","v":0}]
[null,null,null,null,null,null,null,null,null,"=",{"$f":"O36*24","v":0}]
[null,{"$f":"IF(Uppgifter!$C$6=\"\",\"\",Uppgifter!$C$6)","v":""}]

{"sheet":"Augusti","index":11,"n_rows":38,"n_cols":17,"rows_kept":38,"cut":false,"hidden":false,"merged":[]}
[null,{"$f":"PROPER(TEXT(B4,\"MMMM ÅÅÅÅ\"))","v":"Augusti 2026"},null,null,null,null,{"$f":"IF(Uppgifter!$C$6=\"\",\"\",Uppgifter!$C$6)","v":""}]
[null,null,null,null,null,null,null,null,null,null,null,null,null,"Dagsumma","Dagbalans","Vdag"]
[null,"Datum","Kod","In","Ut","Lunch","Planerat","Ledighet","Arbetstid",null,"Flextid","Anteckningar",null,{"$f":"Juli!N36","v":0},{"$f":"Juli!O36","v":0}]
[null,{"$f":"DATEVALUE(Uppgifter!C4 & \"-08-01\")","v":"2026-08-01"},null,null,null,null,null,null,{"$f":"IF(N4<0,-N4,N4)","v":0},{"$f":"IF(O4>=0,\"+\",\"-\")","v":"+"},{"$f":"IF(O4<0,-O4,O4)","v":0},null,null,{"$f":"IF(E4>0,E4-D4-F4-H4,IF(C4=\"\",0,IF(C4=\"F\",0,Årsarbetsschema!$J5)))","v":0},{"$f":"ROUND(IF(N4>0,I4-G4,IF(C4=\"F\",I4-G4,0)),15)","v":0},{"$f":"Årsarbetsschema!X5","v":6},"F"]
[null,{"$f":"B4+1","v":"2026-08-02"},null,null,null,null,null,null,{"$f":"IF(N5<0,-N5,N5)","v":0},"+",0,null,null,{"$f":"IF(E5>0,E5-D5-F5-H5,IF(C5=\"\",0,IF(C5=\"F\",0,Årsarbetsschema!$J6)))","v":0},{"$f":"ROUND(IF(N5>0,I5-G5,IF(C5=\"F\",I5-G5,0)),15)","v":0},{"$f":"Årsarbetsschema!X6","v":7},"Se"]
[null,{"$f":"B5+1","v":"2026-08-03"},null,null,null,null,null,null,0,"+",0,null,null,{"$f":"IF(E6>0,E6-D6-F6-H6,IF(C6=\"\",0,IF(C6=\"F\",0,Årsarbetsschema!$J7)))","v":0},0,{"$f":"Årsarbetsschema!X7","v":1},"Sj"]
[null,"2026-08-04",null,null,null,null,null,null,0,"+",0,null,null,{"$f":"IF(E7>0,E7-D7-F7-H7,IF(C7=\"\",0,IF(C7=\"F\",0,Årsarbetsschema!$J8)))","v":0},0,{"$f":"Årsarbetsschema!X8","v":2},"Tj"]
[null,"2026-08-05",null,null,null,null,null,null,0,"+",0,null,null,{"$f":"IF(E8>0,E8-D8-F8-H8,IF(C8=\"\",0,IF(C8=\"F\",0,Årsarbetsschema!$J9)))","v":0},0,{"$f":"Årsarbetsschema!X9","v":3},"VB"]
[null,"2026-08-06",null,null,null,null,null,null,0,"+",0,null,null,{"$f":"IF(E9>0,E9-D9-F9-H9,IF(C9=\"\",0,IF(C9=\"F\",0,Årsarbetsschema!$J10)))","v":0},0,{"$f":"Årsarbetsschema!X10","v":4},"FL"]
[null,"2026-08-07",null,null,null,null,null,null,0,"+",0,null,null,{"$f":"IF(E10>0,E10-D10-F10-H10,IF(C10=\"\",0,IF(C10=\"F\",0,Årsarbetsschema!$J11)))","v":0},0,{"$f":"Årsarbetsschema!X11","v":5}]
[null,"2026-08-08",null,null,null,null,null,null,0,"+",0,null,null,{"$f":"IF(E11>0,E11-D11-F11-H11,IF(C11=\"\",0,IF(C11=\"F\",0,Årsarbetsschema!$J12)))","v":0},0,{"$f":"Årsarbetsschema!X12","v":6}]
[null,"2026-08-09",null,null,null,null,null,null,0,"+",0,null,null,{"$f":"IF(E12>0,E12-D12-F12-H12,IF(C12=\"\",0,IF(C12=\"F\",0,Årsarbetsschema!$J13)))","v":0},0,{"$f":"Årsarbetsschema!X13","v":7}]
[null,"2026-08-10",null,null,null,null,null,null,0,"+",0,null,null,{"$f":"IF(E13>0,E13-D13-F13-H13,IF(C13=\"\",0,IF(C13=\"F\",0,Årsarbetsschema!$J14)))","v":0},0,{"$f":"Årsarbetsschema!X14","v":1}]
[null,"2026-08-11",null,null,null,null,null,null,0,"+",0,null,null,{"$f":"IF(E14>0,E14-D14-F14-H14,IF(C14=\"\",0,IF(C14=\"F\",0,Årsarbetsschema!$J15)))","v":0},0,{"$f":"Årsarbetsschema!X15","v":2}]
[null,"2026-08-12",null,null,null,null,null,null,0,"+",0,null,null,{"$f":"IF(E15>0,E15-D15-F15-H15,IF(C15=\"\",0,IF(C15=\"F\",0,Årsarbetsschema!$J16)))","v":0},0,{"$f":"Årsarbetsschema!X16","v":3}]
[null,"2026-08-13",null,null,null,null,null,null,0,"+",0,null,null,{"$f":"IF(E16>0,E16-D16-F16-H16,IF(C16=\"\",0,IF(C16=\"F\",0,Årsarbetsschema!$J17)))","v":0},0,{"$f":"Årsarbetsschema!X17","v":4}]
[null,"2026-08-14",null,null,null,null,null,null,0,"+",0,null,null,{"$f":"IF(E17>0,E17-D17-F17-H17,IF(C17=\"\",0,IF(C17=\"F\",0,Årsarbetsschema!$J18)))","v":0},0,{"$f":"Årsarbetsschema!X18","v":5}]
[null,"2026-08-15",null,null,null,null,null,null,0,"+",0,null,null,{"$f":"IF(E18>0,E18-D18-F18-H18,IF(C18=\"\",0,IF(C18=\"F\",0,Årsarbetsschema!$J19)))","v":0},0,{"$f":"Årsarbetsschema!X19","v":6}]
[null,"2026-08-16",null,null,null,null,null,null,0,"+",0,null,null,{"$f":"IF(E19>0,E19-D19-F19-H19,IF(C19=\"\",0,IF(C19=\"F\",0,Årsarbetsschema!$J20)))","v":0},0,{"$f":"Årsarbetsschema!X20","v":7}]
[null,"2026-08-17",null,null,null,null,null,null,0,"+",0,null,null,{"$f":"IF(E20>0,E20-D20-F20-H20,IF(C20=\"\",0,IF(C20=\"F\",0,Årsarbetsschema!$J21)))","v":0},0,{"$f":"Årsarbetsschema!X21","v":1}]
[null,"2026-08-18",null,null,null,null,null,null,0,"+",0,null,null,{"$f":"IF(E21>0,E21-D21-F21-H21,IF(C21=\"\",0,IF(C21=\"F\",0,Årsarbetsschema!$J22)))","v":0},0,{"$f":"Årsarbetsschema!X22","v":2}]
[null,"2026-08-19",null,null,null,null,null,null,0,"+",0,null,null,{"$f":"IF(E22>0,E22-D22-F22-H22,IF(C22=\"\",0,IF(C22=\"F\",0,Årsarbetsschema!$J23)))","v":0},0,{"$f":"Årsarbetsschema!X23","v":3}]
[null,"2026-08-20",null,null,null,null,null,null,0,"+",0,null,null,{"$f":"IF(E23>0,E23-D23-F23-H23,IF(C23=\"\",0,IF(C23=\"F\",0,Årsarbetsschema!$J24)))","v":0},0,{"$f":"Årsarbetsschema!X24","v":4}]
[null,"2026-08-21",null,null,null,null,null,null,0,"+",0,null,null,{"$f":"IF(E24>0,E24-D24-F24-H24,IF(C24=\"\",0,IF(C24=\"F\",0,Årsarbetsschema!$J25)))","v":0},0,{"$f":"Årsarbetsschema!X25","v":5}]
[null,"2026-08-22",null,null,null,null,null,null,0,"+",0,null,null,{"$f":"IF(E25>0,E25-D25-F25-H25,IF(C25=\"\",0,IF(C25=\"F\",0,Årsarbetsschema!$J26)))","v":0},0,{"$f":"Årsarbetsschema!X26","v":6}]
[null,"2026-08-23",null,null,null,null,null,null,0,"+",0,null,null,{"$f":"IF(E26>0,E26-D26-F26-H26,IF(C26=\"\",0,IF(C26=\"F\",0,Årsarbetsschema!$J27)))","v":0},0,{"$f":"Årsarbetsschema!X27","v":7}]
[null,"2026-08-24",null,null,null,null,null,null,0,"+",0,null,null,{"$f":"IF(E27>0,E27-D27-F27-H27,IF(C27=\"\",0,IF(C27=\"F\",0,Årsarbetsschema!$J28)))","v":0},0,{"$f":"Årsarbetsschema!X28","v":1}]
[null,"2026-08-25",null,null,null,null,null,null,0,"+",0,null,null,{"$f":"IF(E28>0,E28-D28-F28-H28,IF(C28=\"\",0,IF(C28=\"F\",0,Årsarbetsschema!$J29)))","v":0},0,{"$f":"Årsarbetsschema!X29","v":2}]
[null,"2026-08-26",null,null,null,null,null,null,0,"+",0,null,null,{"$f":"IF(E29>0,E29-D29-F29-H29,IF(C29=\"\",0,IF(C29=\"F\",0,Årsarbetsschema!$J30)))","v":0},0,{"$f":"Årsarbetsschema!X30","v":3}]
[null,"2026-08-27",null,null,null,null,null,null,0,"+",0,null,null,{"$f":"IF(E30>0,E30-D30-F30-H30,IF(C30=\"\",0,IF(C30=\"F\",0,Årsarbetsschema!$J31)))","v":0},0,{"$f":"Årsarbetsschema!X31","v":4}]
[null,"2026-08-28",null,null,null,null,null,null,0,"+",0,null,null,{"$f":"IF(E31>0,E31-D31-F31-H31,IF(C31=\"\",0,IF(C31=\"F\",0,Årsarbetsschema!$J32)))","v":0},0,{"$f":"Årsarbetsschema!X32","v":5}]
[null,"2026-08-29",null,null,null,null,null,null,0,"+",0,null,null,{"$f":"IF(E32>0,E32-D32-F32-H32,IF(C32=\"\",0,IF(C32=\"F\",0,Årsarbetsschema!$J33)))","v":0},0,{"$f":"Årsarbetsschema!X33","v":6}]
[null,"2026-08-30",null,null,null,null,null,null,0,"+",0,null,null,{"$f":"IF(E33>0,E33-D33-F33-H33,IF(C33=\"\",0,IF(C33=\"F\",0,Årsarbetsschema!$J34)))","v":0},0,{"$f":"Årsarbetsschema!X34","v":7}]
[null,"2026-08-31",null,null,null,null,null,null,0,"+",0,null,null,{"$f":"IF(E34>0,E34-D34-F34-H34,IF(C34=\"\",0,IF(C34=\"F\",0,Årsarbetsschema!$J35)))","v":0},0,{"$f":"Årsarbetsschema!X35","v":1}]
[null,null,null,null,null,null,null,"Månad",0,"+",{"$f":"IF(O35<0,-O35,O35)","v":0},null,null,{"$f":"SUM(N4:N34)","v":0},{"$f":"SUM(O4:O34)","v":0}]
[null,null,null,null,null,null,null,"Totalt",0,"+",{"$f":"IF(O36<0,-O36,O36)","v":0},null,null,{"$f":"N35+N3","v":0},{"$f":"O35+O3","v":0}]
[null,null,null,null,null,null,null,null,null,"=",{"$f":"O36*24","v":0}]
[null,{"$f":"IF(Uppgifter!$C$6=\"\",\"\",Uppgifter!$C$6)","v":""}]

{"sheet":"September","index":12,"n_rows":38,"n_cols":17,"rows_kept":38,"cut":false,"hidden":false,"merged":[]}
[null,{"$f":"PROPER(TEXT(B4,\"MMMM ÅÅÅÅ\"))","v":"September 2026"},null,null,null,null,{"$f":"IF(Uppgifter!$C$6=\"\",\"\",Uppgifter!$C$6)","v":""}]
[null,null,null,null,null,null,null,null,null,null,null,null,null,"Dagsumma","Dagbalans","Vdag"]
[null,"Datum","Kod","In","Ut","Lunch","Planerat","Ledighet","Arbetstid",null,"Flextid","Anteckningar",null,{"$f":"Augusti!N36","v":0},{"$f":"Augusti!O36","v":0}]
[null,{"$f":"DATEVALUE(Uppgifter!C4 & \"-09-01\")","v":"2026-09-01"},null,null,null,null,null,null,{"$f":"IF(N4<0,-N4,N4)","v":0},{"$f":"IF(O4>=0,\"+\",\"-\")","v":"+"},{"$f":"IF(O4<0,-O4,O4)","v":0},null,null,{"$f":"IF(E4>0,E4-D4-F4-H4,IF(C4=\"\",0,IF(C4=\"F\",0,Årsarbetsschema!$K5)))","v":0},{"$f":"ROUND(IF(N4>0,I4-G4,IF(C4=\"F\",I4-G4,0)),15)","v":0},{"$f":"Årsarbetsschema!Y5","v":2},"F"]
[null,{"$f":"B4+1","v":"2026-09-02"},null,null,null,null,null,null,{"$f":"IF(N5<0,-N5,N5)","v":0},"+",0,null,null,{"$f":"IF(E5>0,E5-D5-F5-H5,IF(C5=\"\",0,IF(C5=\"F\",0,Årsarbetsschema!$K6)))","v":0},{"$f":"ROUND(IF(N5>0,I5-G5,IF(C5=\"F\",I5-G5,0)),15)","v":0},{"$f":"Årsarbetsschema!Y6","v":3},"Se"]
[null,{"$f":"B5+1","v":"2026-09-03"},null,null,null,null,null,null,0,"+",0,null,null,{"$f":"IF(E6>0,E6-D6-F6-H6,IF(C6=\"\",0,IF(C6=\"F\",0,Årsarbetsschema!$K7)))","v":0},0,{"$f":"Årsarbetsschema!Y7","v":4},"Sj"]
[null,"2026-09-04",null,null,null,null,null,null,0,"+",0,null,null,{"$f":"IF(E7>0,E7-D7-F7-H7,IF(C7=\"\",0,IF(C7=\"F\",0,Årsarbetsschema!$K8)))","v":0},0,{"$f":"Årsarbetsschema!Y8","v":5},"Tj"]
[null,"2026-09-05",null,null,null,null,null,null,0,"+",0,null,null,{"$f":"IF(E8>0,E8-D8-F8-H8,IF(C8=\"\",0,IF(C8=\"F\",0,Årsarbetsschema!$K9)))","v":0},0,{"$f":"Årsarbetsschema!Y9","v":6},"VB"]
[null,"2026-09-06",null,null,null,null,null,null,0,"+",0,null,null,{"$f":"IF(E9>0,E9-D9-F9-H9,IF(C9=\"\",0,IF(C9=\"F\",0,Årsarbetsschema!$K10)))","v":0},0,{"$f":"Årsarbetsschema!Y10","v":7},"FL"]
[null,"2026-09-07",null,null,null,null,null,null,0,"+",0,null,null,{"$f":"IF(E10>0,E10-D10-F10-H10,IF(C10=\"\",0,IF(C10=\"F\",0,Årsarbetsschema!$K11)))","v":0},0,{"$f":"Årsarbetsschema!Y11","v":1}]
[null,"2026-09-08",null,null,null,null,null,null,0,"+",0,null,null,{"$f":"IF(E11>0,E11-D11-F11-H11,IF(C11=\"\",0,IF(C11=\"F\",0,Årsarbetsschema!$K12)))","v":0},0,{"$f":"Årsarbetsschema!Y12","v":2}]
[null,"2026-09-09",null,null,null,null,null,null,0,"+",0,null,null,{"$f":"IF(E12>0,E12-D12-F12-H12,IF(C12=\"\",0,IF(C12=\"F\",0,Årsarbetsschema!$K13)))","v":0},0,{"$f":"Årsarbetsschema!Y13","v":3}]
[null,"2026-09-10",null,null,null,null,null,null,0,"+",0,null,null,{"$f":"IF(E13>0,E13-D13-F13-H13,IF(C13=\"\",0,IF(C13=\"F\",0,Årsarbetsschema!$K14)))","v":0},0,{"$f":"Årsarbetsschema!Y14","v":4}]
[null,"2026-09-11",null,null,null,null,null,null,0,"+",0,null,null,{"$f":"IF(E14>0,E14-D14-F14-H14,IF(C14=\"\",0,IF(C14=\"F\",0,Årsarbetsschema!$K15)))","v":0},0,{"$f":"Årsarbetsschema!Y15","v":5}]
[null,"2026-09-12",null,null,null,null,null,null,0,"+",0,null,null,{"$f":"IF(E15>0,E15-D15-F15-H15,IF(C15=\"\",0,IF(C15=\"F\",0,Årsarbetsschema!$K16)))","v":0},0,{"$f":"Årsarbetsschema!Y16","v":6}]
[null,"2026-09-13",null,null,null,null,null,null,0,"+",0,null,null,{"$f":"IF(E16>0,E16-D16-F16-H16,IF(C16=\"\",0,IF(C16=\"F\",0,Årsarbetsschema!$K17)))","v":0},0,{"$f":"Årsarbetsschema!Y17","v":7}]
[null,"2026-09-14",null,null,null,null,null,null,0,"+",0,null,null,{"$f":"IF(E17>0,E17-D17-F17-H17,IF(C17=\"\",0,IF(C17=\"F\",0,Årsarbetsschema!$K18)))","v":0},0,{"$f":"Årsarbetsschema!Y18","v":1}]
[null,"2026-09-15",null,null,null,null,null,null,0,"+",0,null,null,{"$f":"IF(E18>0,E18-D18-F18-H18,IF(C18=\"\",0,IF(C18=\"F\",0,Årsarbetsschema!$K19)))","v":0},0,{"$f":"Årsarbetsschema!Y19","v":2}]
[null,"2026-09-16",null,null,null,null,null,null,0,"+",0,null,null,{"$f":"IF(E19>0,E19-D19-F19-H19,IF(C19=\"\",0,IF(C19=\"F\",0,Årsarbetsschema!$K20)))","v":0},0,{"$f":"Årsarbetsschema!Y20","v":3}]
[null,"2026-09-17",null,null,null,null,null,null,0,"+",0,null,null,{"$f":"IF(E20>0,E20-D20-F20-H20,IF(C20=\"\",0,IF(C20=\"F\",0,Årsarbetsschema!$K21)))","v":0},0,{"$f":"Årsarbetsschema!Y21","v":4}]
[null,"2026-09-18",null,null,null,null,null,null,0,"+",0,null,null,{"$f":"IF(E21>0,E21-D21-F21-H21,IF(C21=\"\",0,IF(C21=\"F\",0,Årsarbetsschema!$K22)))","v":0},0,{"$f":"Årsarbetsschema!Y22","v":5}]
[null,"2026-09-19",null,null,null,null,null,null,0,"+",0,null,null,{"$f":"IF(E22>0,E22-D22-F22-H22,IF(C22=\"\",0,IF(C22=\"F\",0,Årsarbetsschema!$K23)))","v":0},0,{"$f":"Årsarbetsschema!Y23","v":6}]
[null,"2026-09-20",null,null,null,null,null,null,0,"+",0,null,null,{"$f":"IF(E23>0,E23-D23-F23-H23,IF(C23=\"\",0,IF(C23=\"F\",0,Årsarbetsschema!$K24)))","v":0},0,{"$f":"Årsarbetsschema!Y24","v":7}]
[null,"2026-09-21",null,null,null,null,null,null,0,"+",0,null,null,{"$f":"IF(E24>0,E24-D24-F24-H24,IF(C24=\"\",0,IF(C24=\"F\",0,Årsarbetsschema!$K25)))","v":0},0,{"$f":"Årsarbetsschema!Y25","v":1}]
[null,"2026-09-22",null,null,null,null,null,null,0,"+",0,null,null,{"$f":"IF(E25>0,E25-D25-F25-H25,IF(C25=\"\",0,IF(C25=\"F\",0,Årsarbetsschema!$K26)))","v":0},0,{"$f":"Årsarbetsschema!Y26","v":2}]
[null,"2026-09-23",null,null,null,null,null,null,0,"+",0,null,null,{"$f":"IF(E26>0,E26-D26-F26-H26,IF(C26=\"\",0,IF(C26=\"F\",0,Årsarbetsschema!$K27)))","v":0},0,{"$f":"Årsarbetsschema!Y27","v":3}]
[null,"2026-09-24",null,null,null,null,null,null,0,"+",0,null,null,{"$f":"IF(E27>0,E27-D27-F27-H27,IF(C27=\"\",0,IF(C27=\"F\",0,Årsarbetsschema!$K28)))","v":0},0,{"$f":"Årsarbetsschema!Y28","v":4}]
[null,"2026-09-25",null,null,null,null,null,null,0,"+",0,null,null,{"$f":"IF(E28>0,E28-D28-F28-H28,IF(C28=\"\",0,IF(C28=\"F\",0,Årsarbetsschema!$K29)))","v":0},0,{"$f":"Årsarbetsschema!Y29","v":5}]
[null,"2026-09-26",null,null,null,null,null,null,0,"+",0,null,null,{"$f":"IF(E29>0,E29-D29-F29-H29,IF(C29=\"\",0,IF(C29=\"F\",0,Årsarbetsschema!$K30)))","v":0},0,{"$f":"Årsarbetsschema!Y30","v":6}]
[null,"2026-09-27",null,null,null,null,null,null,0,"+",0,null,null,{"$f":"IF(E30>0,E30-D30-F30-H30,IF(C30=\"\",0,IF(C30=\"F\",0,Årsarbetsschema!$K31)))","v":0},0,{"$f":"Årsarbetsschema!Y31","v":7}]
[null,"2026-09-28",null,null,null,null,null,null,0,"+",0,null,null,{"$f":"IF(E31>0,E31-D31-F31-H31,IF(C31=\"\",0,IF(C31=\"F\",0,Årsarbetsschema!$K32)))","v":0},0,{"$f":"Årsarbetsschema!Y32","v":1}]
[null,"2026-09-29",null,null,null,null,null,null,0,"+",0,null,null,{"$f":"IF(E32>0,E32-D32-F32-H32,IF(C32=\"\",0,IF(C32=\"F\",0,Årsarbetsschema!$K33)))","v":0},{"$f":"ROUND(IF(N32>0,I32-G32,IF(C32=\"F\",I32-G32,0)),15)","v":0},{"$f":"Årsarbetsschema!Y33","v":2}]
[null,"2026-09-30",null,null,null,null,null,null,{"$f":"IF(N33<0,-N33,N33)","v":0},{"$f":"IF(O33>=0,\"+\",\"-\")","v":"+"},{"$f":"IF(O33<0,-O33,O33)","v":0},null,null,{"$f":"IF(E33>0,E33-D33-F33-H33,IF(C33=\"\",0,IF(C33=\"F\",0,Årsarbetsschema!$K34)))","v":0},0,{"$f":"Årsarbetsschema!Y34","v":3}]
[null,"2026-10-01",null,null,null,null,null,null,0,"+",0,null,null,{"$f":"IF(E34>0,E34-D34-F34-H34,IF(C34=\"\",0,IF(C34=\"F\",0,Årsarbetsschema!$D$39)))","v":0},0,{"$f":"WEEKDAY(B34,2)","v":4}]
[null,null,null,null,null,null,null,"Månad",0,{"$f":"IF(O35>=0,\"+\",\"-\")","v":"+"},{"$f":"IF(O35<0,-O35,O35)","v":0},null,null,{"$f":"SUM(N4:N34)","v":0},{"$f":"SUM(O4:O34)","v":0}]
[null,null,null,null,null,null,null,"Totalt",0,{"$f":"IF(O36>=0,\"+\",\"-\")","v":"+"},{"$f":"IF(O36<0,-O36,O36)","v":0},null,null,{"$f":"N35+N3","v":0},{"$f":"O35+O3","v":0}]
[null,null,null,null,null,null,null,null,null,"=",{"$f":"O36*24","v":0}]
[null,{"$f":"IF(Uppgifter!$C$6=\"\",\"\",Uppgifter!$C$6)","v":""}]

{"sheet":"Oktober","index":13,"n_rows":38,"n_cols":17,"rows_kept":38,"cut":false,"hidden":false,"merged":[]}
[null,{"$f":"PROPER(TEXT(B4,\"MMMM ÅÅÅÅ\"))","v":"Oktober 2026"},null,null,null,null,{"$f":"IF(Uppgifter!$C$6=\"\",\"\",Uppgifter!$C$6)","v":""}]
[null,null,null,null,null,null,null,null,null,null,null,null,null,"Dagsumma","Dagbalans","Vdag"]
[null,"Datum","Kod","In","Ut","Lunch","Planerat","Ledighet","Arbetstid",null,"Flextid","Anteckningar",null,{"$f":"September!N36","v":0},{"$f":"September!O36","v":0}]
[null,{"$f":"DATEVALUE(Uppgifter!C4 & \"-10-01\")","v":"2026-10-01"},null,null,null,null,null,null,{"$f":"IF(N4<0,-N4,N4)","v":0},{"$f":"IF(O4>=0,\"+\",\"-\")","v":"+"},{"$f":"IF(O4<0,-O4,O4)","v":0},null,null,{"$f":"IF(E4>0,E4-D4-F4-H4,IF(C4=\"\",0,IF(C4=\"F\",0,Årsarbetsschema!$L5)))","v":0},{"$f":"ROUND(IF(N4>0,I4-G4,IF(C4=\"F\",I4-G4,0)),15)","v":0},{"$f":"Årsarbetsschema!Z5","v":4},"F"]
[null,{"$f":"B4+1","v":"2026-10-02"},null,null,null,null,null,null,0,"+",0,null,null,{"$f":"IF(E5>0,E5-D5-F5-H5,IF(C5=\"\",0,IF(C5=\"F\",0,Årsarbetsschema!$L6)))","v":0},{"$f":"ROUND(IF(N5>0,I5-G5,IF(C5=\"F\",I5-G5,0)),15)","v":0},{"$f":"Årsarbetsschema!Z6","v":5},"Se"]
[null,{"$f":"B5+1","v":"2026-10-03"},null,null,null,null,null,null,0,"+",0,null,null,{"$f":"IF(E6>0,E6-D6-F6-H6,IF(C6=\"\",0,IF(C6=\"F\",0,Årsarbetsschema!$L7)))","v":0},0,{"$f":"Årsarbetsschema!Z7","v":6},"Sj"]
[null,"2026-10-04",null,null,null,null,null,null,0,"+",0,null,null,{"$f":"IF(E7>0,E7-D7-F7-H7,IF(C7=\"\",0,IF(C7=\"F\",0,Årsarbetsschema!$L8)))","v":0},0,{"$f":"Årsarbetsschema!Z8","v":7},"Tj"]
[null,"2026-10-05",null,null,null,null,null,null,0,"+",0,null,null,{"$f":"IF(E8>0,E8-D8-F8-H8,IF(C8=\"\",0,IF(C8=\"F\",0,Årsarbetsschema!$L9)))","v":0},0,{"$f":"Årsarbetsschema!Z9","v":1},"VB"]
[null,"2026-10-06",null,null,null,null,null,null,0,"+",0,null,null,{"$f":"IF(E9>0,E9-D9-F9-H9,IF(C9=\"\",0,IF(C9=\"F\",0,Årsarbetsschema!$L10)))","v":0},0,{"$f":"Årsarbetsschema!Z10","v":2},"FL"]
[null,"2026-10-07",null,null,null,null,null,null,0,"+",0,null,null,{"$f":"IF(E10>0,E10-D10-F10-H10,IF(C10=\"\",0,IF(C10=\"F\",0,Årsarbetsschema!$L11)))","v":0},0,{"$f":"Årsarbetsschema!Z11","v":3}]
[null,"2026-10-08",null,null,null,null,null,null,0,"+",0,null,null,{"$f":"IF(E11>0,E11-D11-F11-H11,IF(C11=\"\",0,IF(C11=\"F\",0,Årsarbetsschema!$L12)))","v":0},0,{"$f":"Årsarbetsschema!Z12","v":4}]
[null,"2026-10-09",null,null,null,null,null,null,0,"+",0,null,null,{"$f":"IF(E12>0,E12-D12-F12-H12,IF(C12=\"\",0,IF(C12=\"F\",0,Årsarbetsschema!$L13)))","v":0},0,{"$f":"Årsarbetsschema!Z13","v":5}]
[null,"2026-10-10",null,null,null,null,null,null,0,"+",0,null,null,{"$f":"IF(E13>0,E13-D13-F13-H13,IF(C13=\"\",0,IF(C13=\"F\",0,Årsarbetsschema!$L14)))","v":0},0,{"$f":"Årsarbetsschema!Z14","v":6}]
[null,"2026-10-11",null,null,null,null,null,null,0,"+",0,null,null,{"$f":"IF(E14>0,E14-D14-F14-H14,IF(C14=\"\",0,IF(C14=\"F\",0,Årsarbetsschema!$L15)))","v":0},0,{"$f":"Årsarbetsschema!Z15","v":7}]
[null,"2026-10-12",null,null,null,null,null,null,0,"+",0,null,null,{"$f":"IF(E15>0,E15-D15-F15-H15,IF(C15=\"\",0,IF(C15=\"F\",0,Årsarbetsschema!$L16)))","v":0},0,{"$f":"Årsarbetsschema!Z16","v":1}]
[null,"2026-10-13",null,null,null,null,null,null,0,"+",0,null,null,{"$f":"IF(E16>0,E16-D16-F16-H16,IF(C16=\"\",0,IF(C16=\"F\",0,Årsarbetsschema!$L17)))","v":0},0,{"$f":"Årsarbetsschema!Z17","v":2}]
[null,"2026-10-14",null,null,null,null,null,null,0,"+",0,null,null,{"$f":"IF(E17>0,E17-D17-F17-H17,IF(C17=\"\",0,IF(C17=\"F\",0,Årsarbetsschema!$L18)))","v":0},0,{"$f":"Årsarbetsschema!Z18","v":3}]
[null,"2026-10-15",null,null,null,null,null,null,0,"+",0,null,null,{"$f":"IF(E18>0,E18-D18-F18-H18,IF(C18=\"\",0,IF(C18=\"F\",0,Årsarbetsschema!$L19)))","v":0},0,{"$f":"Årsarbetsschema!Z19","v":4}]
[null,"2026-10-16",null,null,null,null,null,null,0,"+",0,null,null,{"$f":"IF(E19>0,E19-D19-F19-H19,IF(C19=\"\",0,IF(C19=\"F\",0,Årsarbetsschema!$L20)))","v":0},0,{"$f":"Årsarbetsschema!Z20","v":5}]
[null,"2026-10-17",null,null,null,null,null,null,0,"+",0,null,null,{"$f":"IF(E20>0,E20-D20-F20-H20,IF(C20=\"\",0,IF(C20=\"F\",0,Årsarbetsschema!$L21)))","v":0},0,{"$f":"Årsarbetsschema!Z21","v":6}]
[null,"2026-10-18",null,null,null,null,null,null,0,"+",0,null,null,{"$f":"IF(E21>0,E21-D21-F21-H21,IF(C21=\"\",0,IF(C21=\"F\",0,Årsarbetsschema!$L22)))","v":0},0,{"$f":"Årsarbetsschema!Z22","v":7}]
[null,"2026-10-19",null,null,null,null,null,null,0,"+",0,null,null,{"$f":"IF(E22>0,E22-D22-F22-H22,IF(C22=\"\",0,IF(C22=\"F\",0,Årsarbetsschema!$L23)))","v":0},0,{"$f":"Årsarbetsschema!Z23","v":1}]
[null,"2026-10-20",null,null,null,null,null,null,0,"+",0,null,null,{"$f":"IF(E23>0,E23-D23-F23-H23,IF(C23=\"\",0,IF(C23=\"F\",0,Årsarbetsschema!$L24)))","v":0},0,{"$f":"Årsarbetsschema!Z24","v":2}]
[null,"2026-10-21",null,null,null,null,null,null,0,"+",0,null,null,{"$f":"IF(E24>0,E24-D24-F24-H24,IF(C24=\"\",0,IF(C24=\"F\",0,Årsarbetsschema!$L25)))","v":0},0,{"$f":"Årsarbetsschema!Z25","v":3}]
[null,"2026-10-22",null,null,null,null,null,null,0,"+",0,null,null,{"$f":"IF(E25>0,E25-D25-F25-H25,IF(C25=\"\",0,IF(C25=\"F\",0,Årsarbetsschema!$L26)))","v":0},0,{"$f":"Årsarbetsschema!Z26","v":4}]
[null,"2026-10-23",null,null,null,null,null,null,0,"+",0,null,null,{"$f":"IF(E26>0,E26-D26-F26-H26,IF(C26=\"\",0,IF(C26=\"F\",0,Årsarbetsschema!$L27)))","v":0},0,{"$f":"Årsarbetsschema!Z27","v":5}]
[null,"2026-10-24",null,null,null,null,null,null,0,"+",0,null,null,{"$f":"IF(E27>0,E27-D27-F27-H27,IF(C27=\"\",0,IF(C27=\"F\",0,Årsarbetsschema!$L28)))","v":0},0,{"$f":"Årsarbetsschema!Z28","v":6}]
[null,"2026-10-25",null,null,null,null,null,null,0,"+",0,null,null,{"$f":"IF(E28>0,E28-D28-F28-H28,IF(C28=\"\",0,IF(C28=\"F\",0,Årsarbetsschema!$L29)))","v":0},0,{"$f":"Årsarbetsschema!Z29","v":7}]
[null,"2026-10-26",null,null,null,null,null,null,0,"+",0,null,null,{"$f":"IF(E29>0,E29-D29-F29-H29,IF(C29=\"\",0,IF(C29=\"F\",0,Årsarbetsschema!$L30)))","v":0},0,{"$f":"Årsarbetsschema!Z30","v":1}]
[null,"2026-10-27",null,null,null,null,null,null,0,"+",0,null,null,{"$f":"IF(E30>0,E30-D30-F30-H30,IF(C30=\"\",0,IF(C30=\"F\",0,Årsarbetsschema!$L31)))","v":0},0,{"$f":"Årsarbetsschema!Z31","v":2}]
[null,"2026-10-28",null,null,null,null,null,null,0,"+",0,null,null,{"$f":"IF(E31>0,E31-D31-F31-H31,IF(C31=\"\",0,IF(C31=\"F\",0,Årsarbetsschema!$L32)))","v":0},0,{"$f":"Årsarbetsschema!Z32","v":3}]
[null,"2026-10-29",null,null,null,null,null,null,0,"+",0,null,null,{"$f":"IF(E32>0,E32-D32-F32-H32,IF(C32=\"\",0,IF(C32=\"F\",0,Årsarbetsschema!$L33)))","v":0},0,{"$f":"Årsarbetsschema!Z33","v":4}]
[null,"2026-10-30",null,null,null,null,null,null,0,"+",0,null,null,{"$f":"IF(E33>0,E33-D33-F33-H33,IF(C33=\"\",0,IF(C33=\"F\",0,Årsarbetsschema!$L34)))","v":0},0,{"$f":"Årsarbetsschema!Z34","v":5}]
[null,"2026-10-31",null,null,null,null,null,null,0,"+",0,null,null,{"$f":"IF(E34>0,E34-D34-F34-H34,IF(C34=\"\",0,IF(C34=\"F\",0,Årsarbetsschema!$L35)))","v":0},0,{"$f":"Årsarbetsschema!Z35","v":6}]
[null,null,null,null,null,null,null,"Månad",0,"+",0,null,null,{"$f":"SUM(N4:N34)","v":0},{"$f":"SUM(O4:O34)","v":0}]
[null,null,null,null,null,null,null,"Totalt",0,"+",0,null,null,{"$f":"N35+N3","v":0},{"$f":"O35+O3","v":0}]
[null,null,null,null,null,null,null,null,null,"=",{"$f":"O36*24","v":0}]
[null,{"$f":"IF(Uppgifter!$C$6=\"\",\"\",Uppgifter!$C$6)","v":""}]

{"sheet":"November","index":14,"n_rows":38,"n_cols":17,"rows_kept":38,"cut":false,"hidden":false,"merged":[]}
[null,{"$f":"PROPER(TEXT(B4,\"MMMM ÅÅÅÅ\"))","v":"November 2026"},null,null,null,null,{"$f":"IF(Uppgifter!$C$6=\"\",\"\",Uppgifter!$C$6)","v":""}]
[null,null,null,null,null,null,null,null,null,null,null,null,null,"Dagsumma","Dagbalans","Vdag"]
[null,"Datum","Kod","In","Ut","Lunch","Planerat","Ledighet","Arbetstid",null,"Flextid","Anteckningar",null,{"$f":"Oktober!N36","v":0},{"$f":"Oktober!O36","v":0}]
[null,{"$f":"DATEVALUE(Uppgifter!C4 & \"-11-01\")","v":"2026-11-01"},null,null,null,null,null,null,{"$f":"IF(N4<0,-N4,N4)","v":0},{"$f":"IF(O4>=0,\"+\",\"-\")","v":"+"},{"$f":"IF(O4<0,-O4,O4)","v":0},null,null,{"$f":"IF(E4>0,E4-D4-F4-H4,IF(C4=\"\",0,IF(C4=\"F\",0,Årsarbetsschema!$M5)))","v":0},{"$f":"ROUND(IF(N4>0,I4-G4,IF(C4=\"F\",I4-G4,0)),15)","v":0},{"$f":"Årsarbetsschema!AA5","v":7},"F"]
[null,{"$f":"B4+1","v":"2026-11-02"},null,null,null,null,null,null,{"$f":"IF(N5<0,-N5,N5)","v":0},"+",0,null,null,{"$f":"IF(E5>0,E5-D5-F5-H5,IF(C5=\"\",0,IF(C5=\"F\",0,Årsarbetsschema!$M6)))","v":0},{"$f":"ROUND(IF(N5>0,I5-G5,IF(C5=\"F\",I5-G5,0)),15)","v":0},{"$f":"Årsarbetsschema!AA6","v":1},"Se"]
[null,{"$f":"B5+1","v":"2026-11-03"},null,null,null,null,null,null,0,"+",0,null,null,{"$f":"IF(E6>0,E6-D6-F6-H6,IF(C6=\"\",0,IF(C6=\"F\",0,Årsarbetsschema!$M7)))","v":0},0,{"$f":"Årsarbetsschema!AA7","v":2},"Sj"]
[null,"2026-11-04",null,null,null,null,null,null,0,"+",0,null,null,{"$f":"IF(E7>0,E7-D7-F7-H7,IF(C7=\"\",0,IF(C7=\"F\",0,Årsarbetsschema!$M8)))","v":0},0,{"$f":"Årsarbetsschema!AA8","v":3},"Tj"]
[null,"2026-11-05",null,null,null,null,null,null,0,"+",0,null,null,{"$f":"IF(E8>0,E8-D8-F8-H8,IF(C8=\"\",0,IF(C8=\"F\",0,Årsarbetsschema!$M9)))","v":0},0,{"$f":"Årsarbetsschema!AA9","v":4},"VB"]
[null,"2026-11-06",null,null,null,null,null,null,0,"+",0,null,null,{"$f":"IF(E9>0,E9-D9-F9-H9,IF(C9=\"\",0,IF(C9=\"F\",0,Årsarbetsschema!$M10)))","v":0},0,{"$f":"Årsarbetsschema!AA10","v":5},"FL"]
[null,"2026-11-07",null,null,null,null,null,null,0,"+",0,null,null,{"$f":"IF(E10>0,E10-D10-F10-H10,IF(C10=\"\",0,IF(C10=\"F\",0,Årsarbetsschema!$M11)))","v":0},0,{"$f":"Årsarbetsschema!AA11","v":6}]
[null,"2026-11-08",null,null,null,null,null,null,0,"+",0,null,null,{"$f":"IF(E11>0,E11-D11-F11-H11,IF(C11=\"\",0,IF(C11=\"F\",0,Årsarbetsschema!$M12)))","v":0},0,{"$f":"Årsarbetsschema!AA12","v":7}]
[null,"2026-11-09",null,null,null,null,null,null,0,"+",0,null,null,{"$f":"IF(E12>0,E12-D12-F12-H12,IF(C12=\"\",0,IF(C12=\"F\",0,Årsarbetsschema!$M13)))","v":0},0,{"$f":"Årsarbetsschema!AA13","v":1}]
[null,"2026-11-10",null,null,null,null,null,null,0,"+",0,null,null,{"$f":"IF(E13>0,E13-D13-F13-H13,IF(C13=\"\",0,IF(C13=\"F\",0,Årsarbetsschema!$M14)))","v":0},0,{"$f":"Årsarbetsschema!AA14","v":2}]
[null,"2026-11-11",null,null,null,null,null,null,0,"+",0,null,null,{"$f":"IF(E14>0,E14-D14-F14-H14,IF(C14=\"\",0,IF(C14=\"F\",0,Årsarbetsschema!$M15)))","v":0},0,{"$f":"Årsarbetsschema!AA15","v":3}]
[null,"2026-11-12",null,null,null,null,null,null,0,"+",0,null,null,{"$f":"IF(E15>0,E15-D15-F15-H15,IF(C15=\"\",0,IF(C15=\"F\",0,Årsarbetsschema!$M16)))","v":0},0,{"$f":"Årsarbetsschema!AA16","v":4}]
[null,"2026-11-13",null,null,null,null,null,null,0,"+",0,null,null,{"$f":"IF(E16>0,E16-D16-F16-H16,IF(C16=\"\",0,IF(C16=\"F\",0,Årsarbetsschema!$M17)))","v":0},0,{"$f":"Årsarbetsschema!AA17","v":5}]
[null,"2026-11-14",null,null,null,null,null,null,0,"+",0,null,null,{"$f":"IF(E17>0,E17-D17-F17-H17,IF(C17=\"\",0,IF(C17=\"F\",0,Årsarbetsschema!$M18)))","v":0},0,{"$f":"Årsarbetsschema!AA18","v":6}]
[null,"2026-11-15",null,null,null,null,null,null,0,"+",0,null,null,{"$f":"IF(E18>0,E18-D18-F18-H18,IF(C18=\"\",0,IF(C18=\"F\",0,Årsarbetsschema!$M19)))","v":0},0,{"$f":"Årsarbetsschema!AA19","v":7}]
[null,"2026-11-16",null,null,null,null,null,null,0,"+",0,null,null,{"$f":"IF(E19>0,E19-D19-F19-H19,IF(C19=\"\",0,IF(C19=\"F\",0,Årsarbetsschema!$M20)))","v":0},0,{"$f":"Årsarbetsschema!AA20","v":1}]
[null,"2026-11-17",null,null,null,null,null,null,0,"+",0,null,null,{"$f":"IF(E20>0,E20-D20-F20-H20,IF(C20=\"\",0,IF(C20=\"F\",0,Årsarbetsschema!$M21)))","v":0},0,{"$f":"Årsarbetsschema!AA21","v":2}]
[null,"2026-11-18",null,null,null,null,null,null,0,"+",0,null,null,{"$f":"IF(E21>0,E21-D21-F21-H21,IF(C21=\"\",0,IF(C21=\"F\",0,Årsarbetsschema!$M22)))","v":0},0,{"$f":"Årsarbetsschema!AA22","v":3}]
[null,"2026-11-19",null,null,null,null,null,null,0,"+",0,null,null,{"$f":"IF(E22>0,E22-D22-F22-H22,IF(C22=\"\",0,IF(C22=\"F\",0,Årsarbetsschema!$M23)))","v":0},0,{"$f":"Årsarbetsschema!AA23","v":4}]
[null,"2026-11-20",null,null,null,null,null,null,0,"+",0,null,null,{"$f":"IF(E23>0,E23-D23-F23-H23,IF(C23=\"\",0,IF(C23=\"F\",0,Årsarbetsschema!$M24)))","v":0},0,{"$f":"Årsarbetsschema!AA24","v":5}]
[null,"2026-11-21",null,null,null,null,null,null,0,"+",0,null,null,{"$f":"IF(E24>0,E24-D24-F24-H24,IF(C24=\"\",0,IF(C24=\"F\",0,Årsarbetsschema!$M25)))","v":0},0,{"$f":"Årsarbetsschema!AA25","v":6}]
[null,"2026-11-22",null,null,null,null,null,null,0,"+",0,null,null,{"$f":"IF(E25>0,E25-D25-F25-H25,IF(C25=\"\",0,IF(C25=\"F\",0,Årsarbetsschema!$M26)))","v":0},0,{"$f":"Årsarbetsschema!AA26","v":7}]
[null,"2026-11-23",null,null,null,null,null,null,0,"+",0,null,null,{"$f":"IF(E26>0,E26-D26-F26-H26,IF(C26=\"\",0,IF(C26=\"F\",0,Årsarbetsschema!$M27)))","v":0},0,{"$f":"Årsarbetsschema!AA27","v":1}]
[null,"2026-11-24",null,null,null,null,null,null,0,"+",0,null,null,{"$f":"IF(E27>0,E27-D27-F27-H27,IF(C27=\"\",0,IF(C27=\"F\",0,Årsarbetsschema!$M28)))","v":0},0,{"$f":"Årsarbetsschema!AA28","v":2}]
[null,"2026-11-25",null,null,null,null,null,null,0,"+",0,null,null,{"$f":"IF(E28>0,E28-D28-F28-H28,IF(C28=\"\",0,IF(C28=\"F\",0,Årsarbetsschema!$M29)))","v":0},0,{"$f":"Årsarbetsschema!AA29","v":3}]
[null,"2026-11-26",null,null,null,null,null,null,0,"+",0,null,null,{"$f":"IF(E29>0,E29-D29-F29-H29,IF(C29=\"\",0,IF(C29=\"F\",0,Årsarbetsschema!$M30)))","v":0},0,{"$f":"Årsarbetsschema!AA30","v":4}]
[null,"2026-11-27",null,null,null,null,null,null,0,"+",0,null,null,{"$f":"IF(E30>0,E30-D30-F30-H30,IF(C30=\"\",0,IF(C30=\"F\",0,Årsarbetsschema!$M31)))","v":0},0,{"$f":"Årsarbetsschema!AA31","v":5}]
[null,"2026-11-28",null,null,null,null,null,null,0,"+",0,null,null,{"$f":"IF(E31>0,E31-D31-F31-H31,IF(C31=\"\",0,IF(C31=\"F\",0,Årsarbetsschema!$M32)))","v":0},0,{"$f":"Årsarbetsschema!AA32","v":6}]
[null,"2026-11-29",null,null,null,null,null,null,0,"+",0,null,null,{"$f":"IF(E32>0,E32-D32-F32-H32,IF(C32=\"\",0,IF(C32=\"F\",0,Årsarbetsschema!$M33)))","v":0},0,{"$f":"Årsarbetsschema!AA33","v":7}]
[null,"2026-11-30",null,null,null,null,null,null,{"$f":"IF(N33<0,-N33,N33)","v":0},{"$f":"IF(O33>=0,\"+\",\"-\")","v":"+"},{"$f":"IF(O33<0,-O33,O33)","v":0},null,null,{"$f":"IF(E33>0,E33-D33-F33-H33,IF(C33=\"\",0,IF(C33=\"F\",0,Årsarbetsschema!$M34)))","v":0},{"$f":"ROUND(IF(N33>0,I33-G33,IF(C33=\"F\",I33-G33,0)),15)","v":0},{"$f":"Årsarbetsschema!AA34","v":1}]
[null,"2026-12-01",null,null,null,null,null,null,0,"+",0,null,null,{"$f":"IF(E34>0,E34-D34-F34-H34,IF(C34=\"\",0,IF(C34=\"F\",0,Årsarbetsschema!$D$39)))","v":0},0,{"$f":"WEEKDAY(B34,2)","v":2}]
[null,null,null,null,null,null,null,"Månad",0,{"$f":"IF(O35>=0,\"+\",\"-\")","v":"+"},{"$f":"IF(O35<0,-O35,O35)","v":0},null,null,{"$f":"SUM(N4:N34)","v":0},{"$f":"SUM(O4:O34)","v":0}]
[null,null,null,null,null,null,null,"Totalt",0,{"$f":"IF(O36>=0,\"+\",\"-\")","v":"+"},{"$f":"IF(O36<0,-O36,O36)","v":0},null,null,{"$f":"N35+N3","v":0},{"$f":"O35+O3","v":0}]
[null,null,null,null,null,null,null,null,null,"=",{"$f":"O36*24","v":0}]
[null,{"$f":"IF(Uppgifter!$C$6=\"\",\"\",Uppgifter!$C$6)","v":""}]

{"sheet":"December","index":15,"n_rows":38,"n_cols":17,"rows_kept":38,"cut":false,"hidden":false,"merged":[]}
[null,{"$f":"PROPER(TEXT(B4,\"MMMM ÅÅÅÅ\"))","v":"December 2026"},null,null,null,null,{"$f":"IF(Uppgifter!$C$6=\"\",\"\",Uppgifter!$C$6)","v":""}]
[null,null,null,null,null,null,null,null,null,null,null,null,null,"Dagsumma","Dagbalans","Vdag"]
[null,"Datum","Kod","In","Ut","Lunch","Planerat","Ledighet","Arbetstid",null,"Flextid","Anteckningar",null,{"$f":"November!N36","v":0},{"$f":"November!O36","v":0}]
[null,{"$f":"DATEVALUE(Uppgifter!C4 & \"-12-01\")","v":"2026-12-01"},null,null,null,null,null,null,{"$f":"IF(N4<0,-N4,N4)","v":0},{"$f":"IF(O4>=0,\"+\",\"-\")","v":"+"},{"$f":"IF(O4<0,-O4,O4)","v":0},null,null,{"$f":"IF(E4>0,E4-D4-F4-H4,IF(C4=\"\",0,IF(C4=\"F\",0,Årsarbetsschema!N5)))","v":0},{"$f":"ROUND(IF(N4>0,I4-G4,IF(C4=\"F\",I4-G4,0)),15)","v":0},{"$f":"Årsarbetsschema!AB5","v":2},"F"]
[null,{"$f":"B4+1","v":"2026-12-02"},null,null,null,null,null,null,{"$f":"IF(N5<0,-N5,N5)","v":0},"+",0,null,null,{"$f":"IF(E5>0,E5-D5-F5-H5,IF(C5=\"\",0,IF(C5=\"F\",0,Årsarbetsschema!N6)))","v":0},{"$f":"ROUND(IF(N5>0,I5-G5,IF(C5=\"F\",I5-G5,0)),15)","v":0},{"$f":"Årsarbetsschema!AB6","v":3},"Se"]
[null,{"$f":"B5+1","v":"2026-12-03"},null,null,null,null,null,null,0,"+",0,null,null,{"$f":"IF(E6>0,E6-D6-F6-H6,IF(C6=\"\",0,IF(C6=\"F\",0,Årsarbetsschema!N7)))","v":0},0,{"$f":"Årsarbetsschema!AB7","v":4},"Sj"]
[null,"2026-12-04",null,null,null,null,null,null,0,"+",0,null,null,{"$f":"IF(E7>0,E7-D7-F7-H7,IF(C7=\"\",0,IF(C7=\"F\",0,Årsarbetsschema!N8)))","v":0},0,{"$f":"Årsarbetsschema!AB8","v":5},"Tj"]
[null,"2026-12-05",null,null,null,null,null,null,0,"+",0,null,null,{"$f":"IF(E8>0,E8-D8-F8-H8,IF(C8=\"\",0,IF(C8=\"F\",0,Årsarbetsschema!N9)))","v":0},0,{"$f":"Årsarbetsschema!AB9","v":6},"VB"]
[null,"2026-12-06",null,null,null,null,null,null,0,"+",0,null,null,{"$f":"IF(E9>0,E9-D9-F9-H9,IF(C9=\"\",0,IF(C9=\"F\",0,Årsarbetsschema!N10)))","v":0},0,{"$f":"Årsarbetsschema!AB10","v":7},"FL"]
[null,"2026-12-07",null,null,null,null,null,null,0,"+",0,null,null,{"$f":"IF(E10>0,E10-D10-F10-H10,IF(C10=\"\",0,IF(C10=\"F\",0,Årsarbetsschema!N11)))","v":0},0,{"$f":"Årsarbetsschema!AB11","v":1}]
[null,"2026-12-08",null,null,null,null,null,null,0,"+",0,null,null,{"$f":"IF(E11>0,E11-D11-F11-H11,IF(C11=\"\",0,IF(C11=\"F\",0,Årsarbetsschema!N12)))","v":0},0,{"$f":"Årsarbetsschema!AB12","v":2}]
[null,"2026-12-09",null,null,null,null,null,null,0,"+",0,null,null,{"$f":"IF(E12>0,E12-D12-F12-H12,IF(C12=\"\",0,IF(C12=\"F\",0,Årsarbetsschema!N13)))","v":0},0,{"$f":"Årsarbetsschema!AB13","v":3}]
[null,"2026-12-10",null,null,null,null,null,null,0,"+",0,null,null,{"$f":"IF(E13>0,E13-D13-F13-H13,IF(C13=\"\",0,IF(C13=\"F\",0,Årsarbetsschema!N14)))","v":0},0,{"$f":"Årsarbetsschema!AB14","v":4}]
[null,"2026-12-11",null,null,null,null,null,null,0,"+",0,null,null,{"$f":"IF(E14>0,E14-D14-F14-H14,IF(C14=\"\",0,IF(C14=\"F\",0,Årsarbetsschema!N15)))","v":0},0,{"$f":"Årsarbetsschema!AB15","v":5}]
[null,"2026-12-12",null,null,null,null,null,null,0,"+",0,null,null,{"$f":"IF(E15>0,E15-D15-F15-H15,IF(C15=\"\",0,IF(C15=\"F\",0,Årsarbetsschema!N16)))","v":0},0,{"$f":"Årsarbetsschema!AB16","v":6}]
[null,"2026-12-13",null,null,null,null,null,null,0,"+",0,null,null,{"$f":"IF(E16>0,E16-D16-F16-H16,IF(C16=\"\",0,IF(C16=\"F\",0,Årsarbetsschema!N17)))","v":0},0,{"$f":"Årsarbetsschema!AB17","v":7}]
[null,"2026-12-14",null,null,null,null,null,null,0,"+",0,null,null,{"$f":"IF(E17>0,E17-D17-F17-H17,IF(C17=\"\",0,IF(C17=\"F\",0,Årsarbetsschema!N18)))","v":0},0,{"$f":"Årsarbetsschema!AB18","v":1}]
[null,"2026-12-15",null,null,null,null,null,null,0,"+",0,null,null,{"$f":"IF(E18>0,E18-D18-F18-H18,IF(C18=\"\",0,IF(C18=\"F\",0,Årsarbetsschema!N19)))","v":0},0,{"$f":"Årsarbetsschema!AB19","v":2}]
[null,"2026-12-16",null,null,null,null,null,null,0,"+",0,null,null,{"$f":"IF(E19>0,E19-D19-F19-H19,IF(C19=\"\",0,IF(C19=\"F\",0,Årsarbetsschema!N20)))","v":0},0,{"$f":"Årsarbetsschema!AB20","v":3}]
[null,"2026-12-17",null,null,null,null,null,null,0,"+",0,null,null,{"$f":"IF(E20>0,E20-D20-F20-H20,IF(C20=\"\",0,IF(C20=\"F\",0,Årsarbetsschema!N21)))","v":0},0,{"$f":"Årsarbetsschema!AB21","v":4}]
[null,"2026-12-18",null,null,null,null,null,null,0,"+",0,null,null,{"$f":"IF(E21>0,E21-D21-F21-H21,IF(C21=\"\",0,IF(C21=\"F\",0,Årsarbetsschema!N22)))","v":0},0,{"$f":"Årsarbetsschema!AB22","v":5}]
[null,"2026-12-19",null,null,null,null,null,null,0,"+",0,null,null,{"$f":"IF(E22>0,E22-D22-F22-H22,IF(C22=\"\",0,IF(C22=\"F\",0,Årsarbetsschema!N23)))","v":0},0,{"$f":"Årsarbetsschema!AB23","v":6}]
[null,"2026-12-20",null,null,null,null,null,null,0,"+",0,null,null,{"$f":"IF(E23>0,E23-D23-F23-H23,IF(C23=\"\",0,IF(C23=\"F\",0,Årsarbetsschema!N24)))","v":0},0,{"$f":"Årsarbetsschema!AB24","v":7}]
[null,"2026-12-21",null,null,null,null,null,null,0,"+",0,null,null,{"$f":"IF(E24>0,E24-D24-F24-H24,IF(C24=\"\",0,IF(C24=\"F\",0,Årsarbetsschema!N25)))","v":0},0,{"$f":"Årsarbetsschema!AB25","v":1}]
[null,"2026-12-22",null,null,null,null,null,null,0,"+",0,null,null,{"$f":"IF(E25>0,E25-D25-F25-H25,IF(C25=\"\",0,IF(C25=\"F\",0,Årsarbetsschema!N26)))","v":0},0,{"$f":"Årsarbetsschema!AB26","v":2}]
[null,"2026-12-23",null,null,null,null,null,null,0,"+",0,null,null,{"$f":"IF(E26>0,E26-D26-F26-H26,IF(C26=\"\",0,IF(C26=\"F\",0,Årsarbetsschema!N27)))","v":0},0,{"$f":"Årsarbetsschema!AB27","v":3}]
[null,"2026-12-24",null,null,null,null,null,null,0,"+",0,null,null,{"$f":"IF(E27>0,E27-D27-F27-H27,IF(C27=\"\",0,IF(C27=\"F\",0,Årsarbetsschema!N28)))","v":0},0,{"$f":"Årsarbetsschema!AB28","v":-1}]
[null,"2026-12-25",null,null,null,null,null,null,0,"+",0,null,null,{"$f":"IF(E28>0,E28-D28-F28-H28,IF(C28=\"\",0,IF(C28=\"F\",0,Årsarbetsschema!N29)))","v":0},0,{"$f":"Årsarbetsschema!AB29","v":-1}]
[null,"2026-12-26",null,null,null,null,null,null,0,"+",0,null,null,{"$f":"IF(E29>0,E29-D29-F29-H29,IF(C29=\"\",0,IF(C29=\"F\",0,Årsarbetsschema!N30)))","v":0},0,{"$f":"Årsarbetsschema!AB30","v":6}]
[null,"2026-12-27",null,null,null,null,null,null,0,"+",0,null,null,{"$f":"IF(E30>0,E30-D30-F30-H30,IF(C30=\"\",0,IF(C30=\"F\",0,Årsarbetsschema!N31)))","v":0},0,{"$f":"Årsarbetsschema!AB31","v":7}]
[null,"2026-12-28",null,null,null,null,null,null,{"$f":"IF(N31<0,-N31,N31)","v":0},"+",0,null,null,{"$f":"IF(E31>0,E31-D31-F31-H31,IF(C31=\"\",0,IF(C31=\"F\",0,Årsarbetsschema!N32)))","v":0},0,{"$f":"Årsarbetsschema!AB32","v":1}]
[null,"2026-12-29",null,null,null,null,null,null,0,"+",0,null,null,{"$f":"IF(E32>0,E32-D32-F32-H32,IF(C32=\"\",0,IF(C32=\"F\",0,Årsarbetsschema!N33)))","v":0},0,{"$f":"Årsarbetsschema!AB33","v":2}]
[null,"2026-12-30",null,null,null,null,null,null,0,"+",0,null,null,{"$f":"IF(E33>0,E33-D33-F33-H33,IF(C33=\"\",0,IF(C33=\"F\",0,Årsarbetsschema!N34)))","v":0},0,{"$f":"Årsarbetsschema!AB34","v":3}]
[null,"2026-12-31",null,null,null,null,null,null,0,"+",0,null,null,{"$f":"IF(E34>0,E34-D34-F34-H34,IF(C34=\"\",0,IF(C34=\"F\",0,Årsarbetsschema!N35)))","v":0},0,{"$f":"Årsarbetsschema!AB35","v":-1}]
[null,null,null,null,null,null,null,"Månad",0,"+",{"$f":"IF(O35<0,-O35,O35)","v":0},null,null,{"$f":"SUM(N4:N34)","v":0},{"$f":"SUM(O4:O34)","v":0}]
[null,null,null,null,null,null,null,"Totalt",0,"+",{"$f":"IF(O36<0,-O36,O36)","v":0},null,null,{"$f":"N35+N3","v":0},{"$f":"O35+O3","v":0}]
[null,null,null,null,null,null,null,null,null,"=",{"$f":"O36*24","v":0}]
[null,{"$f":"IF(Uppgifter!$C$6=\"\",\"\",Uppgifter!$C$6)","v":""}]