{"text_format":"1","workbook":"xlsx","n_sheets":16,"sheets":["Uppgifter","Instruktioner","Årsarbetsschema","Arbetat","Avstämningsperioder","Aug","Sept","Okt","Nov","Dec","Jan","Feb","Mars","April","Maj","Juni"],"not_rendered":{"charts":0,"images":0,"macros":1,"external_links":0,"defined_names":2,"comments":0,"pivot_tables":0},"unopened":[],"bounds":{"document_bytes":16777216,"sheet_cells":100000,"rows_first":2000,"rows_last":500,"rows_between":2000,"halvings":0,"cell_chars":16384,"cell_head_chars":4096},"cells_cut":0,"cells_raw":0,"read":"whole","date_system":"1904"}

{"sheet":"Uppgifter","index":0,"n_rows":29,"n_cols":12,"rows_kept":29,"cut":false,"hidden":false,"merged":[[21,11,26,11],[3,11,4,11],[5,2,5,8],[7,11,8,11],[9,11,11,11],[14,11,18,11]]}
[]
[null,"Årsarebtstid - Lärare"]
[]
[null,"År",2026,2027,null,null,null,null,null,null,null,"Information"]
[]
[null,"Namn"]
[null,null,null,null,null,null,null,null,null,null,null,"I fyllnad av arbetstid"]
[null,"Lunch","00:30:00",null,null,null,null,null,null,null,null,"Denna årsarbetstidsmallen är uppdelad i månadsflikar, och arbetad tid anges dag för dag."]
[null,"(normalt)"]
[null,null,null,null,null,null,null,null,null,null,null,"Detta jämfört med den tidigare mallen som var uppdelad i veckor där hela läsåret syntes i en och samma bild och du fyllde i arbetad tid totalt per vecka."]
[null,"Sysselsättningsgrad;",null,null,1]
[null,"Årsarbetstid;",null,null,1360]
[null,"Årsarbetstid enligt SSG;",null,null,{"$f":"E12*E11","v":1360}]
[null,null,null,null,null,null,null,null,null,null,null,"Avstämningsperioder"]
[null,"Kopiera arbetstid och lunchtid till rapporten för höstterminen",null,null,null,null,{"$f":"C4","v":2026},null,null,null,null,"I den gröna fliken Avstämningsperioder finner du översikten hur perioderna ser ut samt avstämningen för respektive period. Dom är uppdelade så det är 2 perioder per termin. Dom är även fördelade så att antalet aktiva veckor i respektive period är så lika som möjligt."]
[]
[null,"Kopiera arbetstid och lunchtid till rapporten för vårterminen",null,null,null,null,{"$f":"D4","v":2027}]
[]
[]
[null,"1. Fyll i namn, normal lunchtid (minst 30 min.)"]
[null,"2. Fyll i sysselsättningsgrad ovan i den gråa rutan.",null,null,null,null,null,null,null,null,null,"Förtroendetid"]
[null,"3. Fyll i \"Årsarbetsschema\", Blåa fliken. Går bra att fylla i termin för termin.",null,null,null,null,null,null,null,null,null,"I respektive månadsflik finns det en kolumn för förtroendetid. Den är tillagd för din egen skull, om du vill kunna följa den tid du gör. Du fyller i tid på respektive dag och den summeras per månad i respektive blad. Du kan via den gula fliken Arbetat få en sammanställning och översikt över dessa timmar."]
[null,null,"Skriv personnummer och arbetsställe längst upp."]
[null,null,"Om man ej arbetar heltid, justera snitt arbetstiden per dag i cellen Arbetstid/dag som"]
[null,null,"finns under kalenderöversitken för höstterminen. Ex) arbetar 50% = 7h * 0,5 = 3,5 = 3:30 h:min"]
[null,"4. Klicka på knappen \"Kopiera\" ovan. Det finns en knapp för höstterminen och en för vårteminen."]
[]
[null,"Kom ihåg","Fyll inte i Övertid, Restid vid tjänsteresa."]
[null,null,"Samt att skilja på arbetstiden och förtoendetiden."]

{"sheet":"Instruktioner","index":1,"n_rows":38,"n_cols":16,"rows_kept":38,"cut":false,"hidden":false,"merged":[[2,9,2,10]]}
[null,{"$f":"PROPER(TEXT(B4,\"MMMM ÅÅÅÅ\"))","v":"Augusti 2026"},null,null,null,null,{"$f":"IF(Uppgifter!$C$6=\"\",\"\",Uppgifter!$C$6)","v":""}]
[null,null,null,null,null,null,null,null,null,null,null,null,null,"Dagsumma","Vdag"]
[null,"Datum","Kod","In","Ut","Lunch","Planerat","Ledighet","Arbetadtid","Förtroendetid",null,"Anteckningar"]
[null,{"$f":"DATEVALUE(Uppgifter!C4 & \"-08-01\")","v":"2026-08-01"},null,null,null,null,null,null,{"$f":"IF(N4<0,-N4,N4)","v":0},"+",null,null,null,{"$f":"IF(E4>0,E4-D4-F4-H4,IF(C4=\"\",0,IF(C4=\"F\",0,Årsarbetsschema!$D$40)))","v":0},6,"Sj"]
[null,{"$f":"B4+1","v":"2026-08-02"},null,null,null,null,null,null,0,"+",null,null,null,{"$f":"IF(E5>0,E5-D5-F5-H5,IF(C5=\"\",0,IF(C5=\"F\",0,Årsarbetsschema!$D$40)))","v":0},6,"Tj"]
[null,{"$f":"B5+1","v":"2026-08-03"},null,null,null,null,null,null,0,"+",null,null,null,{"$f":"IF(E6>0,E6-D6-F6-H6,IF(C6=\"\",0,IF(C6=\"F\",0,Årsarbetsschema!$D$40)))","v":0},6,"VB"]
[null,"2026-08-04",null,null,null,null,null,null,0,"+",null,null,null,{"$f":"IF(E7>0,E7-D7-F7-H7,IF(C7=\"\",0,IF(C7=\"F\",0,Årsarbetsschema!$D$40)))","v":0},6,"FL"]
[null,"2026-08-05",null,null,null,null,null,null,0,"+",null,null,null,{"$f":"IF(E8>0,E8-D8-F8-H8,IF(C8=\"\",0,IF(C8=\"F\",0,Årsarbetsschema!$D$40)))","v":0},6]
[null,"2026-08-06",null,null,null,null,null,null,0,"+",null,null,null,{"$f":"IF(E9>0,E9-D9-F9-H9,IF(C9=\"\",0,IF(C9=\"F\",0,Årsarbetsschema!$D$40)))","v":0},6]
[null,"2026-08-07",null,null,null,null,null,null,0,"+",null,null,null,{"$f":"IF(E10>0,E10-D10-F10-H10,IF(C10=\"\",0,IF(C10=\"F\",0,Årsarbetsschema!$D$40)))","v":0},7]
[null,"2026-08-08",null,null,null,null,null,null,0,"+",null,null,null,{"$f":"IF(E11>0,E11-D11-F11-H11,IF(C11=\"\",0,IF(C11=\"F\",0,Årsarbetsschema!$D$40)))","v":0},6]
[null,"2026-08-09",null,"07:00:00","15:30:00","00:30:00","08:00:00",null,0.33333333333333337,"+",6.25E-2,null,null,{"$f":"IF(E12>0,E12-D12-F12-H12,IF(C12=\"\",0,IF(C12=\"F\",0,Årsarbetsschema!$D$40)))","v":0.33333333333333337},-1]
[null,"2026-08-10",null,"07:00:00","15:30:00","00:30:00","08:00:00",null,0.33333333333333337,"+",null,null,null,{"$f":"IF(E13>0,E13-D13-F13-H13,IF(C13=\"\",0,IF(C13=\"F\",0,Årsarbetsschema!$D$40)))","v":0.33333333333333337},-1]
[null,"2026-08-11","VB",null,null,"00:30:00","07:00:00",null,0.29166666666666669,"+",null,null,null,{"$f":"IF(E14>0,E14-D14-F14-H14,IF(C14=\"\",0,IF(C14=\"F\",0,Årsarbetsschema!$D$40)))","v":0.29166666666666669},-1]
[null,"2026-08-12",null,"07:00:00","14:30:00","00:30:00","07:00:00",null,0.29166666666666663,"+",null,null,null,{"$f":"IF(E15>0,E15-D15-F15-H15,IF(C15=\"\",0,IF(C15=\"F\",0,Årsarbetsschema!$D$40)))","v":0.29166666666666663},-1]
[null,"2026-08-13",null,null,null,null,null,null,0,"+",null,null,null,{"$f":"IF(E16>0,E16-D16-F16-H16,IF(C16=\"\",0,IF(C16=\"F\",0,Årsarbetsschema!$D$40)))","v":0},6]
[null,"2026-08-14",null,null,null,null,null,null,0,"+",null,null,null,{"$f":"IF(E17>0,E17-D17-F17-H17,IF(C17=\"\",0,IF(C17=\"F\",0,Årsarbetsschema!$D$40)))","v":0},7]
[null,"2026-08-15",null,"07:00:00","14:30:00","00:30:00","07:00:00",null,0.29166666666666663,"+",null,null,null,{"$f":"IF(E18>0,E18-D18-F18-H18,IF(C18=\"\",0,IF(C18=\"F\",0,Årsarbetsschema!$D$40)))","v":0.29166666666666663},-1]
[null,"2026-08-16",null,"07:00:00","14:30:00","00:30:00","07:00:00",null,0.29166666666666663,"+",null,null,null,{"$f":"IF(E19>0,E19-D19-F19-H19,IF(C19=\"\",0,IF(C19=\"F\",0,Årsarbetsschema!$D$40)))","v":0.29166666666666663},2]
[null,"2026-08-17",null,"07:00:00","14:30:00","00:30:00","07:00:00",null,0.29166666666666663,"+",null,null,null,{"$f":"IF(E20>0,E20-D20-F20-H20,IF(C20=\"\",0,IF(C20=\"F\",0,Årsarbetsschema!$D$40)))","v":0.29166666666666663},3]
[null,"2026-08-18",null,"07:00:00","14:30:00","00:30:00","07:00:00","01:00:00",0.24999999999999997,"+",null,"Tandläkaren",null,{"$f":"IF(E21>0,E21-D21-F21-H21,IF(C21=\"\",0,IF(C21=\"F\",0,Årsarbetsschema!$D$40)))","v":0.24999999999999997},4]
[null,"2026-08-19",null,"07:00:00","14:30:00","00:30:00","07:00:00",null,0.29166666666666663,"+",null,null,null,{"$f":"IF(E22>0,E22-D22-F22-H22,IF(C22=\"\",0,IF(C22=\"F\",0,Årsarbetsschema!$D$40)))","v":0.29166666666666663},5]
[null,"2026-08-20",null,null,null,null,null,null,0,"+",null,null,null,{"$f":"IF(E23>0,E23-D23-F23-H23,IF(C23=\"\",0,IF(C23=\"F\",0,Årsarbetsschema!$D$40)))","v":0},6]
[null,"2026-08-21",null,null,null,null,null,null,0,"+",null,null,null,{"$f":"IF(E24>0,E24-D24-F24-H24,IF(C24=\"\",0,IF(C24=\"F\",0,Årsarbetsschema!$D$40)))","v":0},7]
[null,"2026-08-22","Sj",null,null,"00:30:00","07:00:00",null,0.29166666666666669,"+",null,null,null,{"$f":"IF(E25>0,E25-D25-F25-H25,IF(C25=\"\",0,IF(C25=\"F\",0,Årsarbetsschema!$D$40)))","v":0.29166666666666669},1]
[null,"2026-08-23",null,"07:00:00","14:30:00","00:30:00","08:00:00",null,0.29166666666666663,"+",null,null,null,{"$f":"IF(E26>0,E26-D26-F26-H26,IF(C26=\"\",0,IF(C26=\"F\",0,Årsarbetsschema!$D$40)))","v":0.29166666666666663},2]
[null,"2026-08-24",null,"07:00:00","14:30:00","00:30:00","07:00:00",null,0.29166666666666663,"+",null,null,null,{"$f":"IF(E27>0,E27-D27-F27-H27,IF(C27=\"\",0,IF(C27=\"F\",0,Årsarbetsschema!$D$40)))","v":0.29166666666666663},3]
[null,"2026-08-25",null,"07:00:00","14:30:00","00:30:00","07:00:00",null,0.29166666666666663,"+",null,null,null,{"$f":"IF(E28>0,E28-D28-F28-H28,IF(C28=\"\",0,IF(C28=\"F\",0,Årsarbetsschema!$D$40)))","v":0.29166666666666663},4]
[null,"2026-08-26",null,"07:00:00","14:30:00","00:30:00","07:00:00",null,0.29166666666666663,"+",null,null,null,{"$f":"IF(E29>0,E29-D29-F29-H29,IF(C29=\"\",0,IF(C29=\"F\",0,Årsarbetsschema!$D$40)))","v":0.29166666666666663},5]
[null,"2026-08-27",null,null,null,null,null,null,0,"+",null,null,null,{"$f":"IF(E30>0,E30-D30-F30-H30,IF(C30=\"\",0,IF(C30=\"F\",0,Årsarbetsschema!$D$40)))","v":0},6]
[null,"2026-08-28",null,null,null,null,null,null,0,"+",null,null,null,{"$f":"IF(E31>0,E31-D31-F31-H31,IF(C31=\"\",0,IF(C31=\"F\",0,Årsarbetsschema!$D$40)))","v":0},7]
[null,"2026-08-29",null,"07:00:00","14:30:00","00:30:00","07:00:00",null,0.29166666666666663,"+",null,null,null,{"$f":"IF(E32>0,E32-D32-F32-H32,IF(C32=\"\",0,IF(C32=\"F\",0,Årsarbetsschema!$D$40)))","v":0.29166666666666663},1]
[null,"2026-08-30",null,"07:00:00","14:30:00","00:30:00","07:00:00",null,0.29166666666666663,"+",null,null,null,{"$f":"IF(E33>0,E33-D33-F33-H33,IF(C33=\"\",0,IF(C33=\"F\",0,Årsarbetsschema!$D$40)))","v":0.29166666666666663},2]
[null,"2026-08-31",null,"07:00:00","14:30:00","00:30:00","08:00:00",null,0.29166666666666663,"+",null,null,null,{"$f":"IF(E34>0,E34-D34-F34-H34,IF(C34=\"\",0,IF(C34=\"F\",0,Årsarbetsschema!$D$40)))","v":0.29166666666666663},3]
[null,null,null,null,null,null,null,"Månad",5,"+",{"$f":"SUM(K4:K34)","v":6.25E-2},null,null,{"$f":"SUM(N4:N34)","v":5}]
[null,null,null,null,null,null,null,"Totalt",5,"+",{"$f":"K35","v":6.25E-2},null,null,{"$f":"N35+N3","v":5}]
[]
[null,{"$f":"IF(Uppgifter!$C$6=\"\",\"\",Uppgifter!$C$6)","v":""}]

{"sheet":"Årsarbetsschema","index":2,"n_rows":52,"n_cols":29,"rows_kept":52,"cut":false,"hidden":false,"merged":[[43,17,43,27],[44,17,44,27],[38,17,38,27],[40,17,40,29],[39,17,39,29],[40,11,40,12],[39,10,39,12],[41,11,41,12],[41,17,41,27],[42,17,42,27]]}
[null,{"$f":"\"Årsarbetstidsschema \" & Uppgifter!C4  & \"/\" & Uppgifter!D4 & \" för \" & IF(Uppgifter!C6<>\"\",Uppgifter!C6,\"\")","v":"Årsarbetstidsschema 2026/2027 för "}]
[null,null,null,null,null,null,null,null,null,"Personnummer",null,"Arbetsställe",null,null,null,null,null,{"$f":"Uppgifter!C4","v":2026},null,null,null,null,null,{"$f":"Uppgifter!D4","v":2027}]
[]
[null,null,{"$f":"Uppgifter!C4","v":2026},null,null,null,null,null,{"$f":"Uppgifter!D4","v":2027}]
[null,"Datum","Aug","Sept","Okt","Nov","Dec",null,"Jan","Feb","Mars ","April","Maj","Juni",null,null,"DATUM",8,9,10,11,12,null,1,2,3,4,5,6]
[null,1,null,"07:00:00","07:00:00",null,"07:00:00",null,null,"07:00:00","07:00:00",null,null,"07:00:00",null,null,1,6,2,4,7,2,null,6,1,1,6,6,2]
[null,2,null,"07:00:00","07:00:00","07:00:00","07:00:00",null,null,"07:00:00","07:00:00",null,null,"07:00:00",null,null,2,6,3,5,1,3,null,6,2,2,6,7,3]
[null,3,null,"07:00:00",null,"07:00:00","07:00:00",null,null,"07:00:00","07:00:00",null,"07:00:00","07:00:00",null,null,3,6,4,6,2,4,null,6,3,3,6,1,4]
[null,4,null,"07:00:00",null,"07:00:00","07:00:00",null,null,"07:00:00","07:00:00",null,"07:00:00","07:00:00",null,null,4,6,5,7,3,5,null,6,4,4,7,2,5]
[null,5,null,null,"07:00:00","07:00:00",null,null,null,"07:00:00","07:00:00","07:00:00","07:00:00",null,null,null,5,6,6,1,4,6,null,6,5,5,1,3,6]
[null,6,null,null,"07:00:00","07:00:00",null,null,null,null,null,"07:00:00",null,null,null,null,6,6,7,2,5,7,null,6,6,6,2,6,7]
[null,7,null,"07:00:00","07:00:00",null,"07:00:00",null,null,null,null,"07:00:00",null,"07:00:00",null,null,7,6,1,3,6,1,null,6,7,7,3,6,1]
[null,8,null,"07:00:00","07:00:00",null,"07:00:00",null,null,"07:00:00","07:00:00","07:00:00",null,"07:00:00",null,null,8,6,2,4,7,2,null,6,1,1,4,6,2]
[null,9,null,"07:00:00","07:00:00","07:00:00","07:00:00",null,null,"07:00:00","07:00:00","07:00:00",null,"07:00:00",null,null,9,6,3,5,1,3,null,6,2,2,5,7,3]
[null,10,"07:00:00","07:00:00",null,"07:00:00","07:00:00",null,null,"07:00:00","07:00:00",null,"07:00:00","07:00:00",null,null,10,-1,4,6,2,4,null,7,3,3,6,1,4]
[null,11,"07:00:00","07:00:00",null,"07:00:00","07:00:00",null,"07:00:00","07:00:00","07:00:00",null,"07:00:00","07:00:00",null,null,11,-1,5,7,3,5,null,-1,4,4,7,2,-1]
[null,12,"07:00:00",null,"07:00:00","07:00:00",null,null,"07:00:00","07:00:00","07:00:00","07:00:00","07:00:00",null,null,null,12,-1,6,1,4,6,null,-1,5,5,1,3,6]
[null,13,"07:00:00",null,"07:00:00","07:00:00",null,null,"07:00:00",null,null,"07:00:00","07:00:00",null,null,null,13,-1,7,2,5,7,null,3,6,6,2,4,7]
[null,14,"07:00:00","07:00:00","07:00:00",null,"07:00:00",null,"07:00:00",null,null,"07:00:00","07:00:00","07:00:00",null,null,14,-1,1,3,6,1,null,4,7,7,3,5,-1]
[null,15,null,"07:00:00","07:00:00",null,"07:00:00",null,"07:00:00","07:00:00","07:00:00","07:00:00",null,"07:00:00",null,null,15,6,2,4,7,2,null,5,1,1,4,6,-1]
[null,16,null,"07:00:00","07:00:00","07:00:00","07:00:00",null,null,"07:00:00","07:00:00","07:00:00",null,"07:00:00",null,null,16,7,3,5,1,3,null,6,2,2,5,7,-1]
[null,17,"07:00:00","07:00:00",null,"07:00:00","07:00:00",null,null,"07:00:00","07:00:00",null,"07:00:00",null,null,null,17,-1,4,6,2,4,null,7,3,3,6,1,6]
[null,18,"07:00:00","07:00:00",null,"07:00:00","07:00:00",null,"07:00:00","07:00:00","07:00:00",null,"07:00:00",null,null,null,18,2,5,7,3,5,null,1,4,4,7,2,6]
[null,19,"07:00:00",null,"07:00:00","07:00:00",null,null,"07:00:00","07:00:00","07:00:00","07:00:00","07:00:00",null,null,null,19,3,6,1,4,6,null,2,5,5,1,3,6]
[null,20,"07:00:00",null,"07:00:00","07:00:00",null,null,"07:00:00",null,null,"07:00:00","07:00:00",null,null,null,20,4,7,2,5,7,null,3,6,6,2,4,7]
[null,21,"07:00:00","07:00:00","07:00:00",null,"07:00:00",null,"07:00:00",null,null,"07:00:00","07:00:00",null,null,null,21,5,1,3,6,1,null,4,7,7,3,5,6]
[null,22,null,"07:00:00","07:00:00",null,"07:00:00",null,"07:00:00",null,"07:00:00","07:00:00",null,null,null,null,22,6,2,4,7,2,null,5,6,1,4,6,6]
[null,23,null,"07:00:00","07:00:00","07:00:00",null,null,null,null,"07:00:00","07:00:00",null,null,null,null,23,7,3,5,1,6,null,6,6,2,5,7,6]
[null,24,"07:00:00","07:00:00",null,"07:00:00",null,null,null,null,"07:00:00",null,"07:00:00",null,null,null,24,1,4,6,2,6,null,7,6,3,6,1,6]
[null,25,"07:00:00","07:00:00",null,"07:00:00",null,null,"07:00:00",null,"07:00:00",null,"07:00:00",null,null,null,25,2,-1,7,3,6,null,1,6,4,7,2,6]
[null,26,"07:00:00",null,"07:00:00","07:00:00",null,null,"07:00:00",null,null,"07:00:00","07:00:00",null,null,null,26,3,6,-1,4,6,null,2,6,6,1,3,6]
[null,27,"07:00:00",null,"07:00:00","07:00:00",null,null,"07:00:00",null,null,"07:00:00","07:00:00",null,null,null,27,4,7,-1,5,6,null,3,6,6,2,4,6]
[null,28,"07:00:00","07:00:00","07:00:00",null,null,null,"07:00:00",null,null,"07:00:00","07:00:00",null,null,null,28,5,1,-1,6,6,null,4,7,7,3,5,6]
[null,29,null,"07:00:00",null,null,null,null,"07:00:00",null,null,"07:00:00",null,null,null,null,29,6,2,6,7,6,null,5,null,6,4,6,6]
[null,30,null,"07:00:00",null,"07:00:00",null,null,null,null,null,null,null,null,null,null,30,7,3,6,1,6,null,6,null,6,6,7,6]
[null,31,"07:00:00",null,null,null,null,null,null,null,null,null,"07:00:00",null,null,null,31,1,null,6,null,6,null,7,null,6,null,1]
[]
[null,null,{"$f":"SUM(C6:C36)*24","v":112},{"$f":"SUM(D6:D36)*24","v":154.00000000000006},{"$f":"SUM(E6:E36)*24","v":140.00000000000003},{"$f":"SUM(F6:F36)*24","v":147.00000000000006},{"$f":"SUM(G6:G36)*24","v":112},null,{"$f":"SUM(I6:I36)*24","v":105},{"$f":"SUM(J6:J36)*24","v":105},{"$f":"SUM(K6:K36)*24","v":133.00000000000003},{"$f":"SUM(L6:L36)*24","v":133.00000000000003},133.00000000000003,{"$f":"SUM(N6:N36)*24","v":83.999999999999986},{"$f":"SUM(C38:N38)","v":1358.0000000000002}]
[null,null,null,null,null,null,null,null,null,null,null,null,null,null,null,null,null,"-1 Dagar som ska markeras blått är: Kompetensutvecklignsdagar"]
[null,null,"Arbetstid/dag","07:00:00",null,null,{"$f":"\"mindre än \" & TEXT(D40,\"TT:MM\")","v":"mindre än 07:00"},null,{"$f":"IF(D40>0,D40-0.0001,0)","v":"06:59:51.360"},null,{"$f":"\"Årsarbetstid \" & R2 & \"/\" &X2","v":"Årsarbetstid 2026/2027"},null,null,{"$f":"Uppgifter!E13","v":1360},null,null,null,"6 på dagar som lovdagar/feriedagar/helgdag 1,2,3,4,5 dagar mån. tis, ons,tros el fre som är arbetsdag men ej komp.utdag."]
[null,null,{"$f":"Uppgifter!E11*Årsarbetsschema!C51","v":1.4583333333333333},"tim/vecka",null,null,{"$f":"\"mer än \" & TEXT(D40,\"TT:MM\")","v":"mer än 07:00"},null,{"$f":"D40+0.001","v":"07:01:26.400"},null,null,"Utlagda arbetstimmar",null,{"$f":"SUM(C38:N38)","v":1358.0000000000002}]
[null,null,38.799999999999997,"Veckor",null,null,"Arbetsfria dagar",null,null,null,null,"Skillnad",null,{"$f":"N41-N40","v":-1.9999999999997726}]
[null,null,{"$f":"C50","v":38.799999999999997},"Veckor ifyllda",null,null,"Kompetensutvecklingsdagar",null,{"$f":"COUNTIF(R5:AD36,\"-1\")","v":16}]
[]
[]
[]
[null,null,null,null,null,null,"Datum",null,null,"Arbetstagare",null,null,null,"Datum"]
[]
[]
[null,null,{"$f":"SUM((COUNTA($C$6:$N$36)/5))","v":38.799999999999997},"Veckor ifyllda"]
[null,null,1.4583333333333333,"Heltidsmått"]
[null,null,{"$f":"C41/C51","v":1},"Arbetsprocent"]

{"sheet":"Arbetat","index":3,"n_rows":74,"n_cols":41,"rows_kept":74,"cut":false,"hidden":false,"merged":[[45,2,45,6],[3,8,3,10],[3,2,3,4],[3,11,3,13],[3,5,3,6]]}
[]
[]
[]
[null,null,"Hösttermin",null,null,{"$f":"Uppgifter!C4","v":2026},null,null,"Vårtermin ",null,null,{"$f":"Uppgifter!D4","v":2027},null,null,null,null,null,{"$f":"Uppgifter!C4","v":2026},null,null,null,null,{"$f":"Uppgifter!D4","v":2027}]
[null,"Datum","Augusti","September","Oktober","November","December",null,"Januari","Februari","Mars ","April","Maj","Juni",null,null,null,8,9,10,11,12,1,2,3,4,5,6,null,{"$f":"C5","v":"Augusti"},{"$f":"D5","v":"September"},{"$f":"E5","v":"Oktober"},{"$f":"F5","v":"November"},{"$f":"G5","v":"December"},null,{"$f":"I5","v":"Januari"},"Februari","Mars ","April","Maj","Juni"]
[null,1,{"$f":"Aug!$I4","v":"00:00:00"},{"$f":"Sept!$I4","v":"00:00:00"},{"$f":"Okt!$I4","v":"00:00:00"},{"$f":"Nov!$I4","v":"00:00:00"},{"$f":"Dec!$I4","v":"00:00:00"},null,{"$f":"Jan!$I4","v":"00:00:00"},{"$f":"Feb!$I4","v":"00:00:00"},{"$f":"Mars!$I4","v":"00:00:00"},{"$f":"April!$I4","v":"00:00:00"},{"$f":"Maj!$I4","v":"00:00:00"},{"$f":"Juni!$I4","v":"00:00:00"},null,null,null,{"$f":"Årsarbetsschema!R6","v":6},{"$f":"Årsarbetsschema!S6","v":2},{"$f":"Årsarbetsschema!T6","v":4},{"$f":"Årsarbetsschema!U6","v":7},{"$f":"Årsarbetsschema!V6","v":2},{"$f":"Årsarbetsschema!X6","v":6},{"$f":"Årsarbetsschema!Y6","v":1},{"$f":"Årsarbetsschema!Z6","v":1},{"$f":"Årsarbetsschema!AA6","v":6},{"$f":"Årsarbetsschema!AB6","v":6},{"$f":"Årsarbetsschema!AC6","v":2},null,{"$f":"Årsarbetsschema!C6","v":0},{"$f":"Årsarbetsschema!D6","v":0.29166666666666669},{"$f":"Årsarbetsschema!E6","v":0.29166666666666669},{"$f":"Årsarbetsschema!F6","v":0},{"$f":"Årsarbetsschema!G6","v":0.29166666666666669},null,{"$f":"Årsarbetsschema!I6","v":0},{"$f":"Årsarbetsschema!J6","v":0.29166666666666669},{"$f":"Årsarbetsschema!K6","v":0.29166666666666669},{"$f":"Årsarbetsschema!L6","v":0},{"$f":"Årsarbetsschema!M6","v":0},{"$f":"Årsarbetsschema!N6","v":0.29166666666666669}]
[null,2,{"$f":"Aug!$I5","v":"00:00:00"},{"$f":"Sept!$I5","v":"00:00:00"},{"$f":"Okt!$I5","v":"00:00:00"},{"$f":"Nov!$I5","v":"00:00:00"},{"$f":"Dec!$I5","v":"00:00:00"},null,{"$f":"Jan!$I5","v":"00:00:00"},{"$f":"Feb!$I5","v":"00:00:00"},{"$f":"Mars!$I5","v":"00:00:00"},{"$f":"April!$I5","v":"00:00:00"},{"$f":"Maj!$I5","v":"00:00:00"},{"$f":"Juni!$I5","v":"00:00:00"},null,null,null,{"$f":"Årsarbetsschema!R7","v":6},{"$f":"Årsarbetsschema!S7","v":3},{"$f":"Årsarbetsschema!T7","v":5},{"$f":"Årsarbetsschema!U7","v":1},{"$f":"Årsarbetsschema!V7","v":3},{"$f":"Årsarbetsschema!X7","v":6},{"$f":"Årsarbetsschema!Y7","v":2},{"$f":"Årsarbetsschema!Z7","v":2},{"$f":"Årsarbetsschema!AA7","v":6},{"$f":"Årsarbetsschema!AB7","v":7},{"$f":"Årsarbetsschema!AC7","v":3},null,{"$f":"Årsarbetsschema!C7","v":0},{"$f":"Årsarbetsschema!D7","v":0.29166666666666669},{"$f":"Årsarbetsschema!E7","v":0.29166666666666669},{"$f":"Årsarbetsschema!F7","v":0.29166666666666669},{"$f":"Årsarbetsschema!G7","v":0.29166666666666669},null,{"$f":"Årsarbetsschema!I7","v":0},{"$f":"Årsarbetsschema!J7","v":0.29166666666666669},{"$f":"Årsarbetsschema!K7","v":0.29166666666666669},{"$f":"Årsarbetsschema!L7","v":0},{"$f":"Årsarbetsschema!M7","v":0},{"$f":"Årsarbetsschema!N7","v":0.29166666666666669}]
[null,3,{"$f":"Aug!$I6","v":"00:00:00"},{"$f":"Sept!$I6","v":"00:00:00"},{"$f":"Okt!$I6","v":"00:00:00"},{"$f":"Nov!$I6","v":"00:00:00"},{"$f":"Dec!$I6","v":"00:00:00"},null,{"$f":"Jan!$I6","v":"00:00:00"},{"$f":"Feb!$I6","v":"00:00:00"},{"$f":"Mars!$I6","v":"00:00:00"},{"$f":"April!$I6","v":"00:00:00"},{"$f":"Maj!$I6","v":"00:00:00"},{"$f":"Juni!$I6","v":"00:00:00"},null,null,null,{"$f":"Årsarbetsschema!R8","v":6},{"$f":"Årsarbetsschema!S8","v":4},{"$f":"Årsarbetsschema!T8","v":6},{"$f":"Årsarbetsschema!U8","v":2},{"$f":"Årsarbetsschema!V8","v":4},{"$f":"Årsarbetsschema!X8","v":6},{"$f":"Årsarbetsschema!Y8","v":3},{"$f":"Årsarbetsschema!Z8","v":3},{"$f":"Årsarbetsschema!AA8","v":6},{"$f":"Årsarbetsschema!AB8","v":1},{"$f":"Årsarbetsschema!AC8","v":4},null,{"$f":"Årsarbetsschema!C8","v":0},{"$f":"Årsarbetsschema!D8","v":0.29166666666666669},{"$f":"Årsarbetsschema!E8","v":0},{"$f":"Årsarbetsschema!F8","v":0.29166666666666669},{"$f":"Årsarbetsschema!G8","v":0.29166666666666669},null,{"$f":"Årsarbetsschema!I8","v":0},{"$f":"Årsarbetsschema!J8","v":0.29166666666666669},{"$f":"Årsarbetsschema!K8","v":0.29166666666666669},{"$f":"Årsarbetsschema!L8","v":0},{"$f":"Årsarbetsschema!M8","v":0.29166666666666669},{"$f":"Årsarbetsschema!N8","v":0.29166666666666669}]
[null,4,{"$f":"Aug!$I7","v":"00:00:00"},{"$f":"Sept!$I7","v":"00:00:00"},{"$f":"Okt!$I7","v":"00:00:00"},{"$f":"Nov!$I7","v":"00:00:00"},{"$f":"Dec!$I7","v":"00:00:00"},null,{"$f":"Jan!$I7","v":"00:00:00"},{"$f":"Feb!$I7","v":"00:00:00"},{"$f":"Mars!$I7","v":"00:00:00"},{"$f":"April!$I7","v":"00:00:00"},{"$f":"Maj!$I7","v":"00:00:00"},{"$f":"Juni!$I7","v":"00:00:00"},null,null,null,{"$f":"Årsarbetsschema!R9","v":6},{"$f":"Årsarbetsschema!S9","v":5},{"$f":"Årsarbetsschema!T9","v":7},{"$f":"Årsarbetsschema!U9","v":3},{"$f":"Årsarbetsschema!V9","v":5},{"$f":"Årsarbetsschema!X9","v":6},{"$f":"Årsarbetsschema!Y9","v":4},{"$f":"Årsarbetsschema!Z9","v":4},{"$f":"Årsarbetsschema!AA9","v":7},{"$f":"Årsarbetsschema!AB9","v":2},{"$f":"Årsarbetsschema!AC9","v":5},null,{"$f":"Årsarbetsschema!C9","v":0},{"$f":"Årsarbetsschema!D9","v":0.29166666666666669},{"$f":"Årsarbetsschema!E9","v":0},{"$f":"Årsarbetsschema!F9","v":0.29166666666666669},{"$f":"Årsarbetsschema!G9","v":0.29166666666666669},null,{"$f":"Årsarbetsschema!I9","v":0},{"$f":"Årsarbetsschema!J9","v":0.29166666666666669},{"$f":"Årsarbetsschema!K9","v":0.29166666666666669},{"$f":"Årsarbetsschema!L9","v":0},{"$f":"Årsarbetsschema!M9","v":0.29166666666666669},{"$f":"Årsarbetsschema!N9","v":0.29166666666666669}]
[null,5,{"$f":"Aug!$I8","v":"00:00:00"},{"$f":"Sept!$I8","v":"00:00:00"},{"$f":"Okt!$I8","v":"00:00:00"},{"$f":"Nov!$I8","v":"00:00:00"},{"$f":"Dec!$I8","v":"00:00:00"},null,{"$f":"Jan!$I8","v":"00:00:00"},{"$f":"Feb!$I8","v":"00:00:00"},{"$f":"Mars!$I8","v":"00:00:00"},{"$f":"April!$I8","v":"00:00:00"},{"$f":"Maj!$I8","v":"00:00:00"},{"$f":"Juni!$I8","v":"00:00:00"},null,null,null,{"$f":"Årsarbetsschema!R10","v":6},{"$f":"Årsarbetsschema!S10","v":6},{"$f":"Årsarbetsschema!T10","v":1},{"$f":"Årsarbetsschema!U10","v":4},{"$f":"Årsarbetsschema!V10","v":6},{"$f":"Årsarbetsschema!X10","v":6},{"$f":"Årsarbetsschema!Y10","v":5},{"$f":"Årsarbetsschema!Z10","v":5},{"$f":"Årsarbetsschema!AA10","v":1},{"$f":"Årsarbetsschema!AB10","v":3},{"$f":"Årsarbetsschema!AC10","v":6},null,{"$f":"Årsarbetsschema!C10","v":0},{"$f":"Årsarbetsschema!D10","v":0},{"$f":"Årsarbetsschema!E10","v":0.29166666666666669},{"$f":"Årsarbetsschema!F10","v":0.29166666666666669},{"$f":"Årsarbetsschema!G10","v":0},null,{"$f":"Årsarbetsschema!I10","v":0},{"$f":"Årsarbetsschema!J10","v":0.29166666666666669},{"$f":"Årsarbetsschema!K10","v":0.29166666666666669},{"$f":"Årsarbetsschema!L10","v":0.29166666666666669},{"$f":"Årsarbetsschema!M10","v":0.29166666666666669},{"$f":"Årsarbetsschema!N10","v":0}]
[null,6,{"$f":"Aug!$I9","v":"00:00:00"},{"$f":"Sept!$I9","v":"00:00:00"},{"$f":"Okt!$I9","v":"00:00:00"},{"$f":"Nov!$I9","v":"00:00:00"},{"$f":"Dec!$I9","v":"00:00:00"},null,{"$f":"Jan!$I9","v":"00:00:00"},{"$f":"Feb!$I9","v":"00:00:00"},{"$f":"Mars!$I9","v":"00:00:00"},{"$f":"April!$I9","v":"00:00:00"},{"$f":"Maj!$I9","v":"00:00:00"},{"$f":"Juni!$I9","v":"00:00:00"},null,null,null,{"$f":"Årsarbetsschema!R11","v":6},{"$f":"Årsarbetsschema!S11","v":7},{"$f":"Årsarbetsschema!T11","v":2},{"$f":"Årsarbetsschema!U11","v":5},{"$f":"Årsarbetsschema!V11","v":7},{"$f":"Årsarbetsschema!X11","v":6},{"$f":"Årsarbetsschema!Y11","v":6},{"$f":"Årsarbetsschema!Z11","v":6},{"$f":"Årsarbetsschema!AA11","v":2},{"$f":"Årsarbetsschema!AB11","v":6},{"$f":"Årsarbetsschema!AC11","v":7},null,{"$f":"Årsarbetsschema!C11","v":0},{"$f":"Årsarbetsschema!D11","v":0},{"$f":"Årsarbetsschema!E11","v":0.29166666666666669},{"$f":"Årsarbetsschema!F11","v":0.29166666666666669},{"$f":"Årsarbetsschema!G11","v":0},null,{"$f":"Årsarbetsschema!I11","v":0},{"$f":"Årsarbetsschema!J11","v":0},{"$f":"Årsarbetsschema!K11","v":0},{"$f":"Årsarbetsschema!L11","v":0.29166666666666669},{"$f":"Årsarbetsschema!M11","v":0},{"$f":"Årsarbetsschema!N11","v":0}]
[null,7,{"$f":"Aug!$I10","v":"00:00:00"},{"$f":"Sept!$I10","v":"00:00:00"},{"$f":"Okt!$I10","v":"00:00:00"},{"$f":"Nov!$I10","v":"00:00:00"},{"$f":"Dec!$I10","v":"00:00:00"},null,{"$f":"Jan!$I10","v":"00:00:00"},{"$f":"Feb!$I10","v":"00:00:00"},{"$f":"Mars!$I10","v":"00:00:00"},{"$f":"April!$I10","v":"00:00:00"},{"$f":"Maj!$I10","v":"00:00:00"},{"$f":"Juni!$I10","v":"00:00:00"},null,null,null,{"$f":"Årsarbetsschema!R12","v":6},{"$f":"Årsarbetsschema!S12","v":1},{"$f":"Årsarbetsschema!T12","v":3},{"$f":"Årsarbetsschema!U12","v":6},{"$f":"Årsarbetsschema!V12","v":1},{"$f":"Årsarbetsschema!X12","v":6},{"$f":"Årsarbetsschema!Y12","v":7},{"$f":"Årsarbetsschema!Z12","v":7},{"$f":"Årsarbetsschema!AA12","v":3},{"$f":"Årsarbetsschema!AB12","v":6},{"$f":"Årsarbetsschema!AC12","v":1},null,{"$f":"Årsarbetsschema!C12","v":0},{"$f":"Årsarbetsschema!D12","v":0.29166666666666669},{"$f":"Årsarbetsschema!E12","v":0.29166666666666669},{"$f":"Årsarbetsschema!F12","v":0},{"$f":"Årsarbetsschema!G12","v":0.29166666666666669},null,{"$f":"Årsarbetsschema!I12","v":0},{"$f":"Årsarbetsschema!J12","v":0},{"$f":"Årsarbetsschema!K12","v":0},{"$f":"Årsarbetsschema!L12","v":0.29166666666666669},{"$f":"Årsarbetsschema!M12","v":0},{"$f":"Årsarbetsschema!N12","v":0.29166666666666669}]
[null,8,{"$f":"Aug!$I11","v":"00:00:00"},{"$f":"Sept!$I11","v":"00:00:00"},{"$f":"Okt!$I11","v":"00:00:00"},{"$f":"Nov!$I11","v":"00:00:00"},{"$f":"Dec!$I11","v":"00:00:00"},null,{"$f":"Jan!$I11","v":"00:00:00"},{"$f":"Feb!$I11","v":"00:00:00"},{"$f":"Mars!$I11","v":"00:00:00"},{"$f":"April!$I11","v":"00:00:00"},{"$f":"Maj!$I11","v":"00:00:00"},{"$f":"Juni!$I11","v":"00:00:00"},null,null,null,{"$f":"Årsarbetsschema!R13","v":6},{"$f":"Årsarbetsschema!S13","v":2},{"$f":"Årsarbetsschema!T13","v":4},{"$f":"Årsarbetsschema!U13","v":7},{"$f":"Årsarbetsschema!V13","v":2},{"$f":"Årsarbetsschema!X13","v":6},{"$f":"Årsarbetsschema!Y13","v":1},{"$f":"Årsarbetsschema!Z13","v":1},{"$f":"Årsarbetsschema!AA13","v":4},{"$f":"Årsarbetsschema!AB13","v":6},{"$f":"Årsarbetsschema!AC13","v":2},null,{"$f":"Årsarbetsschema!C13","v":0},{"$f":"Årsarbetsschema!D13","v":0.29166666666666669},{"$f":"Årsarbetsschema!E13","v":0.29166666666666669},{"$f":"Årsarbetsschema!F13","v":0},{"$f":"Årsarbetsschema!G13","v":0.29166666666666669},null,{"$f":"Årsarbetsschema!I13","v":0},{"$f":"Årsarbetsschema!J13","v":0.29166666666666669},{"$f":"Årsarbetsschema!K13","v":0.29166666666666669},{"$f":"Årsarbetsschema!L13","v":0.29166666666666669},{"$f":"Årsarbetsschema!M13","v":0},{"$f":"Årsarbetsschema!N13","v":0.29166666666666669}]
[null,9,{"$f":"Aug!$I12","v":"00:00:00"},{"$f":"Sept!$I12","v":"00:00:00"},{"$f":"Okt!$I12","v":"00:00:00"},{"$f":"Nov!$I12","v":"00:00:00"},{"$f":"Dec!$I12","v":"00:00:00"},null,{"$f":"Jan!$I12","v":"00:00:00"},{"$f":"Feb!$I12","v":"00:00:00"},{"$f":"Mars!$I12","v":"00:00:00"},{"$f":"April!$I12","v":"00:00:00"},{"$f":"Maj!$I12","v":"00:00:00"},{"$f":"Juni!$I12","v":"00:00:00"},null,null,null,{"$f":"Årsarbetsschema!R14","v":6},{"$f":"Årsarbetsschema!S14","v":3},{"$f":"Årsarbetsschema!T14","v":5},{"$f":"Årsarbetsschema!U14","v":1},{"$f":"Årsarbetsschema!V14","v":3},{"$f":"Årsarbetsschema!X14","v":6},{"$f":"Årsarbetsschema!Y14","v":2},{"$f":"Årsarbetsschema!Z14","v":2},{"$f":"Årsarbetsschema!AA14","v":5},{"$f":"Årsarbetsschema!AB14","v":7},{"$f":"Årsarbetsschema!AC14","v":3},null,{"$f":"Årsarbetsschema!C14","v":0},{"$f":"Årsarbetsschema!D14","v":0.29166666666666669},{"$f":"Årsarbetsschema!E14","v":0.29166666666666669},{"$f":"Årsarbetsschema!F14","v":0.29166666666666669},{"$f":"Årsarbetsschema!G14","v":0.29166666666666669},null,{"$f":"Årsarbetsschema!I14","v":0},{"$f":"Årsarbetsschema!J14","v":0.29166666666666669},{"$f":"Årsarbetsschema!K14","v":0.29166666666666669},{"$f":"Årsarbetsschema!L14","v":0.29166666666666669},{"$f":"Årsarbetsschema!M14","v":0},{"$f":"Årsarbetsschema!N14","v":0.29166666666666669}]
[null,10,{"$f":"Aug!$I13","v":"00:00:00"},{"$f":"Sept!$I13","v":"00:00:00"},{"$f":"Okt!$I13","v":"00:00:00"},{"$f":"Nov!$I13","v":"00:00:00"},{"$f":"Dec!$I13","v":"00:00:00"},null,{"$f":"Jan!$I13","v":"00:00:00"},{"$f":"Feb!$I13","v":"00:00:00"},{"$f":"Mars!$I13","v":"00:00:00"},{"$f":"April!$I13","v":"00:00:00"},{"$f":"Maj!$I13","v":"00:00:00"},{"$f":"Juni!$I13","v":"00:00:00"},null,null,null,{"$f":"Årsarbetsschema!R15","v":-1},{"$f":"Årsarbetsschema!S15","v":4},{"$f":"Årsarbetsschema!T15","v":6},{"$f":"Årsarbetsschema!U15","v":2},{"$f":"Årsarbetsschema!V15","v":4},{"$f":"Årsarbetsschema!X15","v":7},{"$f":"Årsarbetsschema!Y15","v":3},{"$f":"Årsarbetsschema!Z15","v":3},{"$f":"Årsarbetsschema!AA15","v":6},{"$f":"Årsarbetsschema!AB15","v":1},{"$f":"Årsarbetsschema!AC15","v":4},null,{"$f":"Årsarbetsschema!C15","v":0.29166666666666669},{"$f":"Årsarbetsschema!D15","v":0.29166666666666669},{"$f":"Årsarbetsschema!E15","v":0},{"$f":"Årsarbetsschema!F15","v":0.29166666666666669},{"$f":"Årsarbetsschema!G15","v":0.29166666666666669},null,{"$f":"Årsarbetsschema!I15","v":0},{"$f":"Årsarbetsschema!J15","v":0.29166666666666669},{"$f":"Årsarbetsschema!K15","v":0.29166666666666669},{"$f":"Årsarbetsschema!L15","v":0},{"$f":"Årsarbetsschema!M15","v":0.29166666666666669},{"$f":"Årsarbetsschema!N15","v":0.29166666666666669}]
[null,11,{"$f":"Aug!$I14","v":"00:00:00"},{"$f":"Sept!$I14","v":"00:00:00"},{"$f":"Okt!$I14","v":"00:00:00"},{"$f":"Nov!$I14","v":"00:00:00"},{"$f":"Dec!$I14","v":"00:00:00"},null,{"$f":"Jan!$I14","v":"00:00:00"},{"$f":"Feb!$I14","v":"00:00:00"},{"$f":"Mars!$I14","v":"00:00:00"},{"$f":"April!$I14","v":"00:00:00"},{"$f":"Maj!$I14","v":"00:00:00"},{"$f":"Juni!$I14","v":"00:00:00"},null,null,null,{"$f":"Årsarbetsschema!R16","v":-1},{"$f":"Årsarbetsschema!S16","v":5},{"$f":"Årsarbetsschema!T16","v":7},{"$f":"Årsarbetsschema!U16","v":3},{"$f":"Årsarbetsschema!V16","v":5},{"$f":"Årsarbetsschema!X16","v":-1},{"$f":"Årsarbetsschema!Y16","v":4},{"$f":"Årsarbetsschema!Z16","v":4},{"$f":"Årsarbetsschema!AA16","v":7},{"$f":"Årsarbetsschema!AB16","v":2},{"$f":"Årsarbetsschema!AC16","v":-1},null,{"$f":"Årsarbetsschema!C16","v":0.29166666666666669},{"$f":"Årsarbetsschema!D16","v":0.29166666666666669},{"$f":"Årsarbetsschema!E16","v":0},{"$f":"Årsarbetsschema!F16","v":0.29166666666666669},{"$f":"Årsarbetsschema!G16","v":0.29166666666666669},null,{"$f":"Årsarbetsschema!I16","v":0.29166666666666669},{"$f":"Årsarbetsschema!J16","v":0.29166666666666669},{"$f":"Årsarbetsschema!K16","v":0.29166666666666669},{"$f":"Årsarbetsschema!L16","v":0},{"$f":"Årsarbetsschema!M16","v":0.29166666666666669},{"$f":"Årsarbetsschema!N16","v":0.29166666666666669}]
[null,12,{"$f":"Aug!$I15","v":"00:00:00"},{"$f":"Sept!$I15","v":"00:00:00"},{"$f":"Okt!$I15","v":"00:00:00"},{"$f":"Nov!$I15","v":"00:00:00"},{"$f":"Dec!$I15","v":"00:00:00"},null,{"$f":"Jan!$I15","v":"00:00:00"},{"$f":"Feb!$I15","v":"00:00:00"},{"$f":"Mars!$I15","v":"00:00:00"},{"$f":"April!$I15","v":"00:00:00"},{"$f":"Maj!$I15","v":"00:00:00"},{"$f":"Juni!$I15","v":"00:00:00"},null,null,null,{"$f":"Årsarbetsschema!R17","v":-1},{"$f":"Årsarbetsschema!S17","v":6},{"$f":"Årsarbetsschema!T17","v":1},{"$f":"Årsarbetsschema!U17","v":4},{"$f":"Årsarbetsschema!V17","v":6},{"$f":"Årsarbetsschema!X17","v":-1},{"$f":"Årsarbetsschema!Y17","v":5},{"$f":"Årsarbetsschema!Z17","v":5},{"$f":"Årsarbetsschema!AA17","v":1},{"$f":"Årsarbetsschema!AB17","v":3},{"$f":"Årsarbetsschema!AC17","v":6},null,{"$f":"Årsarbetsschema!C17","v":0.29166666666666669},{"$f":"Årsarbetsschema!D17","v":0},{"$f":"Årsarbetsschema!E17","v":0.29166666666666669},{"$f":"Årsarbetsschema!F17","v":0.29166666666666669},{"$f":"Årsarbetsschema!G17","v":0},null,{"$f":"Årsarbetsschema!I17","v":0.29166666666666669},{"$f":"Årsarbetsschema!J17","v":0.29166666666666669},{"$f":"Årsarbetsschema!K17","v":0.29166666666666669},{"$f":"Årsarbetsschema!L17","v":0.29166666666666669},{"$f":"Årsarbetsschema!M17","v":0.29166666666666669},{"$f":"Årsarbetsschema!N17","v":0}]
[null,13,{"$f":"Aug!$I16","v":"00:00:00"},{"$f":"Sept!$I16","v":"00:00:00"},{"$f":"Okt!$I16","v":"00:00:00"},{"$f":"Nov!$I16","v":"00:00:00"},{"$f":"Dec!$I16","v":"00:00:00"},null,{"$f":"Jan!$I16","v":"00:00:00"},{"$f":"Feb!$I16","v":"00:00:00"},{"$f":"Mars!$I16","v":"00:00:00"},{"$f":"April!$I16","v":"00:00:00"},{"$f":"Maj!$I16","v":"00:00:00"},{"$f":"Juni!$I16","v":"00:00:00"},null,null,null,{"$f":"Årsarbetsschema!R18","v":-1},{"$f":"Årsarbetsschema!S18","v":7},{"$f":"Årsarbetsschema!T18","v":2},{"$f":"Årsarbetsschema!U18","v":5},{"$f":"Årsarbetsschema!V18","v":7},{"$f":"Årsarbetsschema!X18","v":3},{"$f":"Årsarbetsschema!Y18","v":6},{"$f":"Årsarbetsschema!Z18","v":6},{"$f":"Årsarbetsschema!AA18","v":2},{"$f":"Årsarbetsschema!AB18","v":4},{"$f":"Årsarbetsschema!AC18","v":7},null,{"$f":"Årsarbetsschema!C18","v":0.29166666666666669},{"$f":"Årsarbetsschema!D18","v":0},{"$f":"Årsarbetsschema!E18","v":0.29166666666666669},{"$f":"Årsarbetsschema!F18","v":0.29166666666666669},{"$f":"Årsarbetsschema!G18","v":0},null,{"$f":"Årsarbetsschema!I18","v":0.29166666666666669},{"$f":"Årsarbetsschema!J18","v":0},{"$f":"Årsarbetsschema!K18","v":0},{"$f":"Årsarbetsschema!L18","v":0.29166666666666669},{"$f":"Årsarbetsschema!M18","v":0.29166666666666669},{"$f":"Årsarbetsschema!N18","v":0}]
[null,14,{"$f":"Aug!$I17","v":"00:00:00"},{"$f":"Sept!$I17","v":"00:00:00"},{"$f":"Okt!$I17","v":"00:00:00"},{"$f":"Nov!$I17","v":"00:00:00"},{"$f":"Dec!$I17","v":"00:00:00"},null,{"$f":"Jan!$I17","v":"00:00:00"},{"$f":"Feb!$I17","v":"00:00:00"},{"$f":"Mars!$I17","v":"00:00:00"},{"$f":"April!$I17","v":"00:00:00"},{"$f":"Maj!$I17","v":"00:00:00"},{"$f":"Juni!$I17","v":"00:00:00"},null,null,null,{"$f":"Årsarbetsschema!R19","v":-1},{"$f":"Årsarbetsschema!S19","v":1},{"$f":"Årsarbetsschema!T19","v":3},{"$f":"Årsarbetsschema!U19","v":6},{"$f":"Årsarbetsschema!V19","v":1},{"$f":"Årsarbetsschema!X19","v":4},{"$f":"Årsarbetsschema!Y19","v":7},{"$f":"Årsarbetsschema!Z19","v":7},{"$f":"Årsarbetsschema!AA19","v":3},{"$f":"Årsarbetsschema!AB19","v":5},{"$f":"Årsarbetsschema!AC19","v":-1},null,{"$f":"Årsarbetsschema!C19","v":0.29166666666666669},{"$f":"Årsarbetsschema!D19","v":0.29166666666666669},{"$f":"Årsarbetsschema!E19","v":0.29166666666666669},{"$f":"Årsarbetsschema!F19","v":0},{"$f":"Årsarbetsschema!G19","v":0.29166666666666669},null,{"$f":"Årsarbetsschema!I19","v":0.29166666666666669},{"$f":"Årsarbetsschema!J19","v":0},{"$f":"Årsarbetsschema!K19","v":0},{"$f":"Årsarbetsschema!L19","v":0.29166666666666669},{"$f":"Årsarbetsschema!M19","v":0.29166666666666669},{"$f":"Årsarbetsschema!N19","v":0.29166666666666669}]
[null,15,{"$f":"Aug!$I18","v":"00:00:00"},{"$f":"Sept!$I18","v":"00:00:00"},{"$f":"Okt!$I18","v":"00:00:00"},{"$f":"Nov!$I18","v":"00:00:00"},{"$f":"Dec!$I18","v":"00:00:00"},null,{"$f":"Jan!$I18","v":"00:00:00"},{"$f":"Feb!$I18","v":"00:00:00"},{"$f":"Mars!$I18","v":"00:00:00"},{"$f":"April!$I18","v":"00:00:00"},{"$f":"Maj!$I18","v":"00:00:00"},{"$f":"Juni!$I18","v":"00:00:00"},null,null,null,{"$f":"Årsarbetsschema!R20","v":6},{"$f":"Årsarbetsschema!S20","v":2},{"$f":"Årsarbetsschema!T20","v":4},{"$f":"Årsarbetsschema!U20","v":7},{"$f":"Årsarbetsschema!V20","v":2},{"$f":"Årsarbetsschema!X20","v":5},{"$f":"Årsarbetsschema!Y20","v":1},{"$f":"Årsarbetsschema!Z20","v":1},{"$f":"Årsarbetsschema!AA20","v":4},{"$f":"Årsarbetsschema!AB20","v":6},{"$f":"Årsarbetsschema!AC20","v":-1},null,{"$f":"Årsarbetsschema!C20","v":0},{"$f":"Årsarbetsschema!D20","v":0.29166666666666669},{"$f":"Årsarbetsschema!E20","v":0.29166666666666669},{"$f":"Årsarbetsschema!F20","v":0},{"$f":"Årsarbetsschema!G20","v":0.29166666666666669},null,{"$f":"Årsarbetsschema!I20","v":0.29166666666666669},{"$f":"Årsarbetsschema!J20","v":0.29166666666666669},{"$f":"Årsarbetsschema!K20","v":0.29166666666666669},{"$f":"Årsarbetsschema!L20","v":0.29166666666666669},{"$f":"Årsarbetsschema!M20","v":0},{"$f":"Årsarbetsschema!N20","v":0.29166666666666669}]
[null,16,{"$f":"Aug!$I19","v":"00:00:00"},{"$f":"Sept!$I19","v":"00:00:00"},{"$f":"Okt!$I19","v":"00:00:00"},{"$f":"Nov!$I19","v":"00:00:00"},{"$f":"Dec!$I19","v":"00:00:00"},null,{"$f":"Jan!$I19","v":"00:00:00"},{"$f":"Feb!$I19","v":"00:00:00"},{"$f":"Mars!$I19","v":"00:00:00"},{"$f":"April!$I19","v":"00:00:00"},{"$f":"Maj!$I19","v":"00:00:00"},{"$f":"Juni!$I19","v":"00:00:00"},null,null,null,{"$f":"Årsarbetsschema!R21","v":7},{"$f":"Årsarbetsschema!S21","v":3},{"$f":"Årsarbetsschema!T21","v":5},{"$f":"Årsarbetsschema!U21","v":1},{"$f":"Årsarbetsschema!V21","v":3},{"$f":"Årsarbetsschema!X21","v":6},{"$f":"Årsarbetsschema!Y21","v":2},{"$f":"Årsarbetsschema!Z21","v":2},{"$f":"Årsarbetsschema!AA21","v":5},{"$f":"Årsarbetsschema!AB21","v":7},{"$f":"Årsarbetsschema!AC21","v":-1},null,{"$f":"Årsarbetsschema!C21","v":0},{"$f":"Årsarbetsschema!D21","v":0.29166666666666669},{"$f":"Årsarbetsschema!E21","v":0.29166666666666669},{"$f":"Årsarbetsschema!F21","v":0.29166666666666669},{"$f":"Årsarbetsschema!G21","v":0.29166666666666669},null,{"$f":"Årsarbetsschema!I21","v":0},{"$f":"Årsarbetsschema!J21","v":0.29166666666666669},{"$f":"Årsarbetsschema!K21","v":0.29166666666666669},{"$f":"Årsarbetsschema!L21","v":0.29166666666666669},{"$f":"Årsarbetsschema!M21","v":0},{"$f":"Årsarbetsschema!N21","v":0.29166666666666669}]
[null,17,{"$f":"Aug!$I20","v":"00:00:00"},{"$f":"Sept!$I20","v":"00:00:00"},{"$f":"Okt!$I20","v":"00:00:00"},{"$f":"Nov!$I20","v":"00:00:00"},{"$f":"Dec!$I20","v":"00:00:00"},null,{"$f":"Jan!$I20","v":"00:00:00"},{"$f":"Feb!$I20","v":"00:00:00"},{"$f":"Mars!$I20","v":"00:00:00"},{"$f":"April!$I20","v":"00:00:00"},{"$f":"Maj!$I20","v":"00:00:00"},{"$f":"Juni!$I20","v":"00:00:00"},null,null,null,{"$f":"Årsarbetsschema!R22","v":-1},{"$f":"Årsarbetsschema!S22","v":4},{"$f":"Årsarbetsschema!T22","v":6},{"$f":"Årsarbetsschema!U22","v":2},{"$f":"Årsarbetsschema!V22","v":4},{"$f":"Årsarbetsschema!X22","v":7},{"$f":"Årsarbetsschema!Y22","v":3},{"$f":"Årsarbetsschema!Z22","v":3},{"$f":"Årsarbetsschema!AA22","v":6},{"$f":"Årsarbetsschema!AB22","v":1},{"$f":"Årsarbetsschema!AC22","v":6},null,{"$f":"Årsarbetsschema!C22","v":0.29166666666666669},{"$f":"Årsarbetsschema!D22","v":0.29166666666666669},{"$f":"Årsarbetsschema!E22","v":0},{"$f":"Årsarbetsschema!F22","v":0.29166666666666669},{"$f":"Årsarbetsschema!G22","v":0.29166666666666669},null,{"$f":"Årsarbetsschema!I22","v":0},{"$f":"Årsarbetsschema!J22","v":0.29166666666666669},{"$f":"Årsarbetsschema!K22","v":0.29166666666666669},{"$f":"Årsarbetsschema!L22","v":0},{"$f":"Årsarbetsschema!M22","v":0.29166666666666669},{"$f":"Årsarbetsschema!N22","v":0}]
[null,18,{"$f":"Aug!$I21","v":"00:00:00"},{"$f":"Sept!$I21","v":"00:00:00"},{"$f":"Okt!$I21","v":"00:00:00"},{"$f":"Nov!$I21","v":"00:00:00"},{"$f":"Dec!$I21","v":"00:00:00"},null,{"$f":"Jan!$I21","v":"00:00:00"},{"$f":"Feb!$I21","v":"00:00:00"},{"$f":"Mars!$I21","v":"00:00:00"},{"$f":"April!$I21","v":"00:00:00"},{"$f":"Maj!$I21","v":"00:00:00"},{"$f":"Juni!$I21","v":"00:00:00"},null,null,null,{"$f":"Årsarbetsschema!R23","v":2},{"$f":"Årsarbetsschema!S23","v":5},{"$f":"Årsarbetsschema!T23","v":7},{"$f":"Årsarbetsschema!U23","v":3},{"$f":"Årsarbetsschema!V23","v":5},{"$f":"Årsarbetsschema!X23","v":1},{"$f":"Årsarbetsschema!Y23","v":4},{"$f":"Årsarbetsschema!Z23","v":4},{"$f":"Årsarbetsschema!AA23","v":7},{"$f":"Årsarbetsschema!AB23","v":2},{"$f":"Årsarbetsschema!AC23","v":6},null,{"$f":"Årsarbetsschema!C23","v":0.29166666666666669},{"$f":"Årsarbetsschema!D23","v":0.29166666666666669},{"$f":"Årsarbetsschema!E23","v":0},{"$f":"Årsarbetsschema!F23","v":0.29166666666666669},{"$f":"Årsarbetsschema!G23","v":0.29166666666666669},null,{"$f":"Årsarbetsschema!I23","v":0.29166666666666669},{"$f":"Årsarbetsschema!J23","v":0.29166666666666669},{"$f":"Årsarbetsschema!K23","v":0.29166666666666669},{"$f":"Årsarbetsschema!L23","v":0},{"$f":"Årsarbetsschema!M23","v":0.29166666666666669},{"$f":"Årsarbetsschema!N23","v":0}]
[null,19,{"$f":"Aug!$I22","v":"00:00:00"},{"$f":"Sept!$I22","v":"00:00:00"},{"$f":"Okt!$I22","v":"00:00:00"},{"$f":"Nov!$I22","v":"00:00:00"},{"$f":"Dec!$I22","v":"00:00:00"},null,{"$f":"Jan!$I22","v":"00:00:00"},{"$f":"Feb!$I22","v":"00:00:00"},{"$f":"Mars!$I22","v":"00:00:00"},{"$f":"April!$I22","v":"00:00:00"},{"$f":"Maj!$I22","v":"00:00:00"},{"$f":"Juni!$I22","v":"00:00:00"},null,null,null,{"$f":"Årsarbetsschema!R24","v":3},{"$f":"Årsarbetsschema!S24","v":6},{"$f":"Årsarbetsschema!T24","v":1},{"$f":"Årsarbetsschema!U24","v":4},{"$f":"Årsarbetsschema!V24","v":6},{"$f":"Årsarbetsschema!X24","v":2},{"$f":"Årsarbetsschema!Y24","v":5},{"$f":"Årsarbetsschema!Z24","v":5},{"$f":"Årsarbetsschema!AA24","v":1},{"$f":"Årsarbetsschema!AB24","v":3},{"$f":"Årsarbetsschema!AC24","v":6},null,{"$f":"Årsarbetsschema!C24","v":0.29166666666666669},{"$f":"Årsarbetsschema!D24","v":0},{"$f":"Årsarbetsschema!E24","v":0.29166666666666669},{"$f":"Årsarbetsschema!F24","v":0.29166666666666669},{"$f":"Årsarbetsschema!G24","v":0},null,{"$f":"Årsarbetsschema!I24","v":0.29166666666666669},{"$f":"Årsarbetsschema!J24","v":0.29166666666666669},{"$f":"Årsarbetsschema!K24","v":0.29166666666666669},{"$f":"Årsarbetsschema!L24","v":0.29166666666666669},{"$f":"Årsarbetsschema!M24","v":0.29166666666666669},{"$f":"Årsarbetsschema!N24","v":0}]
[null,20,{"$f":"Aug!$I23","v":"00:00:00"},{"$f":"Sept!$I23","v":"00:00:00"},{"$f":"Okt!$I23","v":"00:00:00"},{"$f":"Nov!$I23","v":"00:00:00"},{"$f":"Dec!$I23","v":"00:00:00"},null,{"$f":"Jan!$I23","v":"00:00:00"},{"$f":"Feb!$I23","v":"00:00:00"},{"$f":"Mars!$I23","v":"00:00:00"},{"$f":"April!$I23","v":"00:00:00"},{"$f":"Maj!$I23","v":"00:00:00"},{"$f":"Juni!$I23","v":"00:00:00"},null,null,null,{"$f":"Årsarbetsschema!R25","v":4},{"$f":"Årsarbetsschema!S25","v":7},{"$f":"Årsarbetsschema!T25","v":2},{"$f":"Årsarbetsschema!U25","v":5},{"$f":"Årsarbetsschema!V25","v":7},{"$f":"Årsarbetsschema!X25","v":3},{"$f":"Årsarbetsschema!Y25","v":6},{"$f":"Årsarbetsschema!Z25","v":6},{"$f":"Årsarbetsschema!AA25","v":2},{"$f":"Årsarbetsschema!AB25","v":4},{"$f":"Årsarbetsschema!AC25","v":7},null,{"$f":"Årsarbetsschema!C25","v":0.29166666666666669},{"$f":"Årsarbetsschema!D25","v":0},{"$f":"Årsarbetsschema!E25","v":0.29166666666666669},{"$f":"Årsarbetsschema!F25","v":0.29166666666666669},{"$f":"Årsarbetsschema!G25","v":0},null,{"$f":"Årsarbetsschema!I25","v":0.29166666666666669},{"$f":"Årsarbetsschema!J25","v":0},{"$f":"Årsarbetsschema!K25","v":0},{"$f":"Årsarbetsschema!L25","v":0.29166666666666669},{"$f":"Årsarbetsschema!M25","v":0.29166666666666669},{"$f":"Årsarbetsschema!N25","v":0}]
[null,21,{"$f":"Aug!$I24","v":"00:00:00"},{"$f":"Sept!$I24","v":"00:00:00"},{"$f":"Okt!$I24","v":"00:00:00"},{"$f":"Nov!$I24","v":"00:00:00"},{"$f":"Dec!$I24","v":"00:00:00"},null,{"$f":"Jan!$I24","v":"00:00:00"},{"$f":"Feb!$I24","v":"00:00:00"},{"$f":"Mars!$I24","v":"00:00:00"},{"$f":"April!$I24","v":"00:00:00"},{"$f":"Maj!$I24","v":"00:00:00"},{"$f":"Juni!$I24","v":"00:00:00"},null,null,null,{"$f":"Årsarbetsschema!R26","v":5},{"$f":"Årsarbetsschema!S26","v":1},{"$f":"Årsarbetsschema!T26","v":3},{"$f":"Årsarbetsschema!U26","v":6},{"$f":"Årsarbetsschema!V26","v":1},{"$f":"Årsarbetsschema!X26","v":4},{"$f":"Årsarbetsschema!Y26","v":7},{"$f":"Årsarbetsschema!Z26","v":7},{"$f":"Årsarbetsschema!AA26","v":3},{"$f":"Årsarbetsschema!AB26","v":5},{"$f":"Årsarbetsschema!AC26","v":6},null,{"$f":"Årsarbetsschema!C26","v":0.29166666666666669},{"$f":"Årsarbetsschema!D26","v":0.29166666666666669},{"$f":"Årsarbetsschema!E26","v":0.29166666666666669},{"$f":"Årsarbetsschema!F26","v":0},{"$f":"Årsarbetsschema!G26","v":0.29166666666666669},null,{"$f":"Årsarbetsschema!I26","v":0.29166666666666669},{"$f":"Årsarbetsschema!J26","v":0},{"$f":"Årsarbetsschema!K26","v":0},{"$f":"Årsarbetsschema!L26","v":0.29166666666666669},{"$f":"Årsarbetsschema!M26","v":0.29166666666666669},{"$f":"Årsarbetsschema!N26","v":0}]
[null,22,{"$f":"Aug!$I25","v":"00:00:00"},{"$f":"Sept!$I25","v":"00:00:00"},{"$f":"Okt!$I25","v":"00:00:00"},{"$f":"Nov!$I25","v":"00:00:00"},{"$f":"Dec!$I25","v":"00:00:00"},null,{"$f":"Jan!$I25","v":"00:00:00"},{"$f":"Feb!$I25","v":"00:00:00"},{"$f":"Mars!$I25","v":"00:00:00"},{"$f":"April!$I25","v":"00:00:00"},{"$f":"Maj!$I25","v":"00:00:00"},{"$f":"Juni!$I25","v":"00:00:00"},null,null,null,{"$f":"Årsarbetsschema!R27","v":6},{"$f":"Årsarbetsschema!S27","v":2},{"$f":"Årsarbetsschema!T27","v":4},{"$f":"Årsarbetsschema!U27","v":7},{"$f":"Årsarbetsschema!V27","v":2},{"$f":"Årsarbetsschema!X27","v":5},{"$f":"Årsarbetsschema!Y27","v":6},{"$f":"Årsarbetsschema!Z27","v":1},{"$f":"Årsarbetsschema!AA27","v":4},{"$f":"Årsarbetsschema!AB27","v":6},{"$f":"Årsarbetsschema!AC27","v":6},null,{"$f":"Årsarbetsschema!C27","v":0},{"$f":"Årsarbetsschema!D27","v":0.29166666666666669},{"$f":"Årsarbetsschema!E27","v":0.29166666666666669},{"$f":"Årsarbetsschema!F27","v":0},{"$f":"Årsarbetsschema!G27","v":0.29166666666666669},null,{"$f":"Årsarbetsschema!I27","v":0.29166666666666669},{"$f":"Årsarbetsschema!J27","v":0},{"$f":"Årsarbetsschema!K27","v":0.29166666666666669},{"$f":"Årsarbetsschema!L27","v":0.29166666666666669},{"$f":"Årsarbetsschema!M27","v":0},{"$f":"Årsarbetsschema!N27","v":0}]
[null,23,{"$f":"Aug!$I26","v":"00:00:00"},{"$f":"Sept!$I26","v":"00:00:00"},{"$f":"Okt!$I26","v":"00:00:00"},{"$f":"Nov!$I26","v":"00:00:00"},{"$f":"Dec!$I26","v":"00:00:00"},null,{"$f":"Jan!$I26","v":"00:00:00"},{"$f":"Feb!$I26","v":"00:00:00"},{"$f":"Mars!$I26","v":"00:00:00"},{"$f":"April!$I26","v":"00:00:00"},{"$f":"Maj!$I26","v":"00:00:00"},{"$f":"Juni!$I26","v":"00:00:00"},null,null,null,{"$f":"Årsarbetsschema!R28","v":7},{"$f":"Årsarbetsschema!S28","v":3},{"$f":"Årsarbetsschema!T28","v":5},{"$f":"Årsarbetsschema!U28","v":1},{"$f":"Årsarbetsschema!V28","v":6},{"$f":"Årsarbetsschema!X28","v":6},{"$f":"Årsarbetsschema!Y28","v":6},{"$f":"Årsarbetsschema!Z28","v":2},{"$f":"Årsarbetsschema!AA28","v":5},{"$f":"Årsarbetsschema!AB28","v":7},{"$f":"Årsarbetsschema!AC28","v":6},null,{"$f":"Årsarbetsschema!C28","v":0},{"$f":"Årsarbetsschema!D28","v":0.29166666666666669},{"$f":"Årsarbetsschema!E28","v":0.29166666666666669},{"$f":"Årsarbetsschema!F28","v":0.29166666666666669},{"$f":"Årsarbetsschema!G28","v":0},null,{"$f":"Årsarbetsschema!I28","v":0},{"$f":"Årsarbetsschema!J28","v":0},{"$f":"Årsarbetsschema!K28","v":0.29166666666666669},{"$f":"Årsarbetsschema!L28","v":0.29166666666666669},{"$f":"Årsarbetsschema!M28","v":0},{"$f":"Årsarbetsschema!N28","v":0}]
[null,24,{"$f":"Aug!$I27","v":"00:00:00"},{"$f":"Sept!$I27","v":"00:00:00"},{"$f":"Okt!$I27","v":"00:00:00"},{"$f":"Nov!$I27","v":"00:00:00"},{"$f":"Dec!$I27","v":"00:00:00"},null,{"$f":"Jan!$I27","v":"00:00:00"},{"$f":"Feb!$I27","v":"00:00:00"},{"$f":"Mars!$I27","v":"00:00:00"},{"$f":"April!$I27","v":"00:00:00"},{"$f":"Maj!$I27","v":"00:00:00"},{"$f":"Juni!$I27","v":"00:00:00"},null,null,null,{"$f":"Årsarbetsschema!R29","v":1},{"$f":"Årsarbetsschema!S29","v":4},{"$f":"Årsarbetsschema!T29","v":6},{"$f":"Årsarbetsschema!U29","v":2},{"$f":"Årsarbetsschema!V29","v":6},{"$f":"Årsarbetsschema!X29","v":7},{"$f":"Årsarbetsschema!Y29","v":6},{"$f":"Årsarbetsschema!Z29","v":3},{"$f":"Årsarbetsschema!AA29","v":6},{"$f":"Årsarbetsschema!AB29","v":1},{"$f":"Årsarbetsschema!AC29","v":6},null,{"$f":"Årsarbetsschema!C29","v":0.29166666666666669},{"$f":"Årsarbetsschema!D29","v":0.29166666666666669},{"$f":"Årsarbetsschema!E29","v":0},{"$f":"Årsarbetsschema!F29","v":0.29166666666666669},{"$f":"Årsarbetsschema!G29","v":0},null,{"$f":"Årsarbetsschema!I29","v":0},{"$f":"Årsarbetsschema!J29","v":0},{"$f":"Årsarbetsschema!K29","v":0.29166666666666669},{"$f":"Årsarbetsschema!L29","v":0},{"$f":"Årsarbetsschema!M29","v":0.29166666666666669},{"$f":"Årsarbetsschema!N29","v":0}]
[null,25,{"$f":"Aug!$I28","v":"00:00:00"},{"$f":"Sept!$I28","v":"00:00:00"},{"$f":"Okt!$I28","v":"00:00:00"},{"$f":"Nov!$I28","v":"00:00:00"},{"$f":"Dec!$I28","v":"00:00:00"},null,{"$f":"Jan!$I28","v":"00:00:00"},{"$f":"Feb!$I28","v":"00:00:00"},{"$f":"Mars!$I28","v":"00:00:00"},{"$f":"April!$I28","v":"00:00:00"},{"$f":"Maj!$I28","v":"00:00:00"},{"$f":"Juni!$I28","v":"00:00:00"},null,null,null,{"$f":"Årsarbetsschema!R30","v":2},{"$f":"Årsarbetsschema!S30","v":-1},{"$f":"Årsarbetsschema!T30","v":7},{"$f":"Årsarbetsschema!U30","v":3},{"$f":"Årsarbetsschema!V30","v":6},{"$f":"Årsarbetsschema!X30","v":1},{"$f":"Årsarbetsschema!Y30","v":6},{"$f":"Årsarbetsschema!Z30","v":4},{"$f":"Årsarbetsschema!AA30","v":7},{"$f":"Årsarbetsschema!AB30","v":2},{"$f":"Årsarbetsschema!AC30","v":6},null,{"$f":"Årsarbetsschema!C30","v":0.29166666666666669},{"$f":"Årsarbetsschema!D30","v":0.29166666666666669},{"$f":"Årsarbetsschema!E30","v":0},{"$f":"Årsarbetsschema!F30","v":0.29166666666666669},{"$f":"Årsarbetsschema!G30","v":0},null,{"$f":"Årsarbetsschema!I30","v":0.29166666666666669},{"$f":"Årsarbetsschema!J30","v":0},{"$f":"Årsarbetsschema!K30","v":0.29166666666666669},{"$f":"Årsarbetsschema!L30","v":0},{"$f":"Årsarbetsschema!M30","v":0.29166666666666669},{"$f":"Årsarbetsschema!N30","v":0}]
[null,26,{"$f":"Aug!$I29","v":"00:00:00"},{"$f":"Sept!$I29","v":"00:00:00"},{"$f":"Okt!$I29","v":"00:00:00"},{"$f":"Nov!$I29","v":"00:00:00"},{"$f":"Dec!$I29","v":"00:00:00"},null,{"$f":"Jan!$I29","v":"00:00:00"},{"$f":"Feb!$I29","v":"00:00:00"},{"$f":"Mars!$I29","v":"00:00:00"},{"$f":"April!$I29","v":"00:00:00"},{"$f":"Maj!$I29","v":"00:00:00"},{"$f":"Juni!$I29","v":"00:00:00"},null,null,null,{"$f":"Årsarbetsschema!R31","v":3},{"$f":"Årsarbetsschema!S31","v":6},{"$f":"Årsarbetsschema!T31","v":-1},{"$f":"Årsarbetsschema!U31","v":4},{"$f":"Årsarbetsschema!V31","v":6},{"$f":"Årsarbetsschema!X31","v":2},{"$f":"Årsarbetsschema!Y31","v":6},{"$f":"Årsarbetsschema!Z31","v":6},{"$f":"Årsarbetsschema!AA31","v":1},{"$f":"Årsarbetsschema!AB31","v":3},{"$f":"Årsarbetsschema!AC31","v":6},null,{"$f":"Årsarbetsschema!C31","v":0.29166666666666669},{"$f":"Årsarbetsschema!D31","v":0},{"$f":"Årsarbetsschema!E31","v":0.29166666666666669},{"$f":"Årsarbetsschema!F31","v":0.29166666666666669},{"$f":"Årsarbetsschema!G31","v":0},null,{"$f":"Årsarbetsschema!I31","v":0.29166666666666669},{"$f":"Årsarbetsschema!J31","v":0},{"$f":"Årsarbetsschema!K31","v":0},{"$f":"Årsarbetsschema!L31","v":0.29166666666666669},{"$f":"Årsarbetsschema!M31","v":0.29166666666666669},{"$f":"Årsarbetsschema!N31","v":0}]
[null,27,{"$f":"Aug!$I30","v":"00:00:00"},{"$f":"Sept!$I30","v":"00:00:00"},{"$f":"Okt!$I30","v":"00:00:00"},{"$f":"Nov!$I30","v":"00:00:00"},{"$f":"Dec!$I30","v":"00:00:00"},null,{"$f":"Jan!$I30","v":"00:00:00"},{"$f":"Feb!$I30","v":"00:00:00"},{"$f":"Mars!$I30","v":"00:00:00"},{"$f":"April!$I30","v":"00:00:00"},{"$f":"Maj!$I30","v":"00:00:00"},{"$f":"Juni!$I30","v":"00:00:00"},null,null,null,{"$f":"Årsarbetsschema!R32","v":4},{"$f":"Årsarbetsschema!S32","v":7},{"$f":"Årsarbetsschema!T32","v":-1},{"$f":"Årsarbetsschema!U32","v":5},{"$f":"Årsarbetsschema!V32","v":6},{"$f":"Årsarbetsschema!X32","v":3},{"$f":"Årsarbetsschema!Y32","v":6},{"$f":"Årsarbetsschema!Z32","v":6},{"$f":"Årsarbetsschema!AA32","v":2},{"$f":"Årsarbetsschema!AB32","v":4},{"$f":"Årsarbetsschema!AC32","v":6},null,{"$f":"Årsarbetsschema!C32","v":0.29166666666666669},{"$f":"Årsarbetsschema!D32","v":0},{"$f":"Årsarbetsschema!E32","v":0.29166666666666669},{"$f":"Årsarbetsschema!F32","v":0.29166666666666669},{"$f":"Årsarbetsschema!G32","v":0},null,{"$f":"Årsarbetsschema!I32","v":0.29166666666666669},{"$f":"Årsarbetsschema!J32","v":0},{"$f":"Årsarbetsschema!K32","v":0},{"$f":"Årsarbetsschema!L32","v":0.29166666666666669},{"$f":"Årsarbetsschema!M32","v":0.29166666666666669},{"$f":"Årsarbetsschema!N32","v":0}]
[null,28,{"$f":"Aug!$I31","v":"00:00:00"},{"$f":"Sept!$I31","v":"00:00:00"},{"$f":"Okt!$I31","v":"00:00:00"},{"$f":"Nov!$I31","v":"00:00:00"},{"$f":"Dec!$I31","v":"00:00:00"},null,{"$f":"Jan!$I31","v":"00:00:00"},{"$f":"Feb!$I31","v":"00:00:00"},{"$f":"Mars!$I31","v":"00:00:00"},{"$f":"April!$I31","v":"00:00:00"},{"$f":"Maj!$I31","v":"00:00:00"},{"$f":"Juni!$I31","v":"00:00:00"},null,null,null,{"$f":"Årsarbetsschema!R33","v":5},{"$f":"Årsarbetsschema!S33","v":1},{"$f":"Årsarbetsschema!T33","v":-1},{"$f":"Årsarbetsschema!U33","v":6},{"$f":"Årsarbetsschema!V33","v":6},{"$f":"Årsarbetsschema!X33","v":4},{"$f":"Årsarbetsschema!Y33","v":7},{"$f":"Årsarbetsschema!Z33","v":7},{"$f":"Årsarbetsschema!AA33","v":3},{"$f":"Årsarbetsschema!AB33","v":5},{"$f":"Årsarbetsschema!AC33","v":6},null,{"$f":"Årsarbetsschema!C33","v":0.29166666666666669},{"$f":"Årsarbetsschema!D33","v":0.29166666666666669},{"$f":"Årsarbetsschema!E33","v":0.29166666666666669},{"$f":"Årsarbetsschema!F33","v":0},{"$f":"Årsarbetsschema!G33","v":0},null,{"$f":"Årsarbetsschema!I33","v":0.29166666666666669},{"$f":"Årsarbetsschema!J33","v":0},{"$f":"Årsarbetsschema!K33","v":0},{"$f":"Årsarbetsschema!L33","v":0.29166666666666669},{"$f":"Årsarbetsschema!M33","v":0.29166666666666669},{"$f":"Årsarbetsschema!N33","v":0}]
[null,29,{"$f":"Aug!$I32","v":"00:00:00"},{"$f":"Sept!$I32","v":"00:00:00"},{"$f":"Okt!$I32","v":"00:00:00"},{"$f":"Nov!$I32","v":"00:00:00"},{"$f":"Dec!$I32","v":"00:00:00"},null,{"$f":"Jan!$I32","v":"00:00:00"},{"$f":"Feb!$I32","v":"00:00:00"},{"$f":"Mars!$I32","v":"00:00:00"},{"$f":"April!$I32","v":"00:00:00"},{"$f":"Maj!$I32","v":"00:00:00"},{"$f":"Juni!$I32","v":"00:00:00"},null,null,null,{"$f":"Årsarbetsschema!R34","v":6},{"$f":"Årsarbetsschema!S34","v":2},{"$f":"Årsarbetsschema!T34","v":6},{"$f":"Årsarbetsschema!U34","v":7},{"$f":"Årsarbetsschema!V34","v":6},{"$f":"Årsarbetsschema!X34","v":5},null,{"$f":"Årsarbetsschema!Z34","v":6},{"$f":"Årsarbetsschema!AA34","v":4},{"$f":"Årsarbetsschema!AB34","v":6},{"$f":"Årsarbetsschema!AC34","v":6},null,{"$f":"Årsarbetsschema!C34","v":0},{"$f":"Årsarbetsschema!D34","v":0.29166666666666669},{"$f":"Årsarbetsschema!E34","v":0},{"$f":"Årsarbetsschema!F34","v":0},{"$f":"Årsarbetsschema!G34","v":0},null,{"$f":"Årsarbetsschema!I34","v":0.29166666666666669},{"$f":"Årsarbetsschema!J34","v":0},{"$f":"Årsarbetsschema!K34","v":0},{"$f":"Årsarbetsschema!L34","v":0.29166666666666669},{"$f":"Årsarbetsschema!M34","v":0},{"$f":"Årsarbetsschema!N34","v":0}]
[null,30,{"$f":"Aug!$I33","v":"00:00:00"},{"$f":"Sept!$I33","v":"00:00:00"},{"$f":"Okt!$I33","v":"00:00:00"},{"$f":"Nov!$I33","v":"00:00:00"},{"$f":"Dec!$I33","v":"00:00:00"},null,{"$f":"Jan!$I33","v":"00:00:00"},null,{"$f":"Mars!$I33","v":"00:00:00"},{"$f":"April!$I33","v":"00:00:00"},{"$f":"Maj!$I33","v":"00:00:00"},{"$f":"Juni!$I33","v":"00:00:00"},null,null,null,{"$f":"Årsarbetsschema!R35","v":7},{"$f":"Årsarbetsschema!S35","v":3},{"$f":"Årsarbetsschema!T35","v":6},{"$f":"Årsarbetsschema!U35","v":1},{"$f":"Årsarbetsschema!V35","v":6},{"$f":"Årsarbetsschema!X35","v":6},null,{"$f":"Årsarbetsschema!Z35","v":6},{"$f":"Årsarbetsschema!AA35","v":6},{"$f":"Årsarbetsschema!AB35","v":7},{"$f":"Årsarbetsschema!AC35","v":6},null,{"$f":"Årsarbetsschema!C35","v":0},{"$f":"Årsarbetsschema!D35","v":0.29166666666666669},{"$f":"Årsarbetsschema!E35","v":0},{"$f":"Årsarbetsschema!F35","v":0.29166666666666669},{"$f":"Årsarbetsschema!G35","v":0},null,{"$f":"Årsarbetsschema!I35","v":0},null,{"$f":"Årsarbetsschema!K35","v":0},{"$f":"Årsarbetsschema!L35","v":0},{"$f":"Årsarbetsschema!M35","v":0},{"$f":"Årsarbetsschema!N35","v":0}]
[null,31,{"$f":"Aug!$I34","v":"00:00:00"},null,{"$f":"Okt!$I34","v":"00:00:00"},null,{"$f":"Dec!$I34","v":"00:00:00"},null,{"$f":"Jan!$I34","v":"00:00:00"},null,{"$f":"Mars!$I34","v":"00:00:00"},null,{"$f":"Maj!$I34","v":"00:00:00"},null,null,null,null,{"$f":"Årsarbetsschema!R36","v":1},null,{"$f":"Årsarbetsschema!T36","v":6},null,{"$f":"Årsarbetsschema!V36","v":6},{"$f":"Årsarbetsschema!X36","v":7},null,{"$f":"Årsarbetsschema!Z36","v":6},null,{"$f":"Årsarbetsschema!AB36","v":1},null,null,{"$f":"Årsarbetsschema!C36","v":0.29166666666666669},null,{"$f":"Årsarbetsschema!E36","v":0},null,{"$f":"Årsarbetsschema!G36","v":0},null,{"$f":"Årsarbetsschema!I36","v":0},null,{"$f":"Årsarbetsschema!K36","v":0},null,{"$f":"Årsarbetsschema!M36","v":0.29166666666666669}]
[]
[null,"Arbetat",{"$f":"SUM(C6:C36)*24","v":0},{"$f":"SUM(D6:D36)*24","v":0},0,0,0,null,{"$f":"SUM(I6:I36)*24","v":0},{"$f":"SUM(J6:J34)*24","v":0},{"$f":"SUM(K6:K36)*24","v":0},{"$f":"SUM(L6:L36)*24","v":0},{"$f":"SUM(M6:M36)*24","v":0},{"$f":"SUM(N6:N36)*24","v":0},{"$f":"SUM(C38:G38)+SUM(I38:N38)","v":0}]
[null,"Planerat",{"$f":"Årsarbetsschema!C38","v":112},{"$f":"Årsarbetsschema!D38","v":154.00000000000006},{"$f":"Årsarbetsschema!E38","v":140.00000000000003},{"$f":"Årsarbetsschema!F38","v":147.00000000000006},{"$f":"Årsarbetsschema!G38","v":112},null,{"$f":"Årsarbetsschema!I38","v":105},{"$f":"Årsarbetsschema!J38","v":105},{"$f":"Årsarbetsschema!K38","v":133.00000000000003},{"$f":"Årsarbetsschema!L38","v":133.00000000000003},{"$f":"Årsarbetsschema!M38","v":133.00000000000003},{"$f":"Årsarbetsschema!N38","v":83.999999999999986},{"$f":"SUM(C39:N39)","v":1358.0000000000002}]
[null,null,null,null,null,null,null,null,null,null,null,null,null,null,{"$f":"O38-O39","v":-1358.0000000000002}]
[]
[null,"Förtroendetid",{"$f":"Aug!K35*24","v":0},{"$f":"Sept!K35*24","v":0},{"$f":"Okt!K35*24","v":0},{"$f":"Nov!K35*24","v":0},{"$f":"Dec!K35*24","v":0},null,{"$f":"Jan!K35*24","v":0},{"$f":"Feb!K35*24","v":0},{"$f":"Mars!K35*24","v":0},{"$f":"April!K35*24","v":0},{"$f":"Maj!K35*24","v":0},{"$f":"Juni!K35*24","v":0},{"$f":"SUM(C42:G42:I42:N42)","v":0}]
[null,null,null,null,null,null,null,null,null,null,null,null,null,null,null,null,null,null,null,null,null,null,null,null,null,null,null,null,null,{"$f":"Aug!C4","v":0},{"$f":"Sept!C4","v":0},{"$f":"Okt!C4","v":0},{"$f":"Nov!C4","v":0},{"$f":"Dec!C4","v":0},null,{"$f":"Jan!C4","v":0},{"$f":"Feb!C4","v":0},{"$f":"Mars!C4","v":0},{"$f":"April!C4","v":0},{"$f":"Maj!C4","v":0},{"$f":"Juni!C4","v":0}]
[null,null,null,null,null,null,null,null,null,null,null,null,null,null,null,null,null,null,null,null,null,null,null,null,null,null,null,null,null,{"$f":"Aug!C5","v":0},{"$f":"Sept!C5","v":0},{"$f":"Okt!C5","v":0},{"$f":"Nov!C5","v":0},{"$f":"Dec!C5","v":0},null,{"$f":"Jan!C5","v":0},{"$f":"Feb!C5","v":0},{"$f":"Mars!C5","v":0},{"$f":"April!C5","v":0},{"$f":"Maj!C5","v":0},{"$f":"Juni!C5","v":0}]
[null,null,null,null,null,null,null,null,null,null,null,null,"Kompetensutvecklingsdagar",{"$f":"COUNTIF(R5:AB37,\"-1\")","v":16},null,null,null,null,null,null,null,null,null,null,null,null,null,null,null,{"$f":"Aug!C6","v":0},{"$f":"Sept!C6","v":0},{"$f":"Okt!C6","v":0},{"$f":"Nov!C6","v":0},{"$f":"Dec!C6","v":0},null,{"$f":"Jan!C6","v":0},{"$f":"Feb!C6","v":0},{"$f":"Mars!C6","v":0},{"$f":"April!C6","v":0},{"$f":"Maj!C6","v":0},{"$f":"Juni!C6","v":0}]
[null,null,{"$f":"Uppgifter!C6","v":0},null,null,null,null,null,null,null,null,null,"Arbetat mer än planerat",null,null,null,null,null,null,null,null,null,null,null,null,null,null,null,null,{"$f":"Aug!C7","v":0},{"$f":"Sept!C7","v":0},{"$f":"Okt!C7","v":0},{"$f":"Nov!C7","v":0},{"$f":"Dec!C7","v":0},null,{"$f":"Jan!C7","v":0},{"$f":"Feb!C7","v":0},{"$f":"Mars!C7","v":0},{"$f":"April!C7","v":0},{"$f":"Maj!C7","v":0},{"$f":"Juni!C7","v":0}]
[null,null,"Namn",null,null,null,null,null,null,null,null,null,"Arbetat mindre än planerat",null,null,null,null,null,null,null,null,null,null,null,null,null,null,null,null,{"$f":"Aug!C8","v":0},{"$f":"Sept!C8","v":0},{"$f":"Okt!C8","v":0},{"$f":"Nov!C8","v":0},{"$f":"Dec!C8","v":0},null,{"$f":"Jan!C8","v":0},{"$f":"Feb!C8","v":0},{"$f":"Mars!C8","v":0},{"$f":"April!C8","v":0},{"$f":"Maj!C8","v":0},{"$f":"Juni!C8","v":0}]
[null,null,null,null,null,null,null,null,null,null,null,null,null,null,null,null,null,null,null,null,null,null,null,null,null,null,null,null,null,{"$f":"Aug!C9","v":0},{"$f":"Sept!C9","v":0},{"$f":"Okt!C9","v":0},{"$f":"Nov!C9","v":0},{"$f":"Dec!C9","v":0},null,{"$f":"Jan!C9","v":0},{"$f":"Feb!C9","v":0},{"$f":"Mars!C9","v":0},{"$f":"April!C9","v":0},{"$f":"Maj!C9","v":0},{"$f":"Juni!C9","v":0}]
[null,null,null,null,null,null,null,null,null,null,null,null,null,null,null,null,null,null,null,null,null,null,null,null,null,null,null,null,null,{"$f":"Aug!C10","v":0},{"$f":"Sept!C10","v":0},{"$f":"Okt!C10","v":0},{"$f":"Nov!C10","v":0},{"$f":"Dec!C10","v":0},null,{"$f":"Jan!C10","v":0},{"$f":"Feb!C10","v":0},{"$f":"Mars!C10","v":0},{"$f":"April!C10","v":0},{"$f":"Maj!C10","v":0},{"$f":"Juni!C10","v":0}]
[null,null,null,null,null,null,null,null,null,null,null,null,null,null,null,null,null,null,null,null,null,null,null,null,null,null,null,null,null,{"$f":"Aug!C11","v":0},{"$f":"Sept!C11","v":0},{"$f":"Okt!C11","v":0},{"$f":"Nov!C11","v":0},{"$f":"Dec!C11","v":0},null,{"$f":"Jan!C11","v":0},{"$f":"Feb!C11","v":0},{"$f":"Mars!C11","v":0},{"$f":"April!C11","v":0},{"$f":"Maj!C11","v":0},{"$f":"Juni!C11","v":0}]
[null,null,null,null,null,null,null,null,null,null,null,null,null,null,null,null,null,null,null,null,null,null,null,null,null,null,null,null,null,{"$f":"Aug!C12","v":0},{"$f":"Sept!C12","v":0},{"$f":"Okt!C12","v":0},{"$f":"Nov!C12","v":0},{"$f":"Dec!C12","v":0},null,{"$f":"Jan!C12","v":0},{"$f":"Feb!C12","v":0},{"$f":"Mars!C12","v":0},{"$f":"April!C12","v":0},{"$f":"Maj!C12","v":0},{"$f":"Juni!C12","v":0}]
[null,null,null,null,null,null,null,null,null,null,null,null,null,null,null,null,null,null,null,null,null,null,null,null,null,null,null,null,null,{"$f":"Aug!C13","v":0},{"$f":"Sept!C13","v":0},{"$f":"Okt!C13","v":0},{"$f":"Nov!C13","v":0},{"$f":"Dec!C13","v":0},null,{"$f":"Jan!C13","v":0},{"$f":"Feb!C13","v":0},{"$f":"Mars!C13","v":0},{"$f":"April!C13","v":0},{"$f":"Maj!C13","v":0},{"$f":"Juni!C13","v":0}]
[null,null,null,null,null,null,null,null,null,null,null,null,null,null,null,null,null,null,null,null,null,null,null,null,null,null,null,null,null,{"$f":"Aug!C14","v":0},{"$f":"Sept!C14","v":0},{"$f":"Okt!C14","v":0},{"$f":"Nov!C14","v":0},{"$f":"Dec!C14","v":0},null,{"$f":"Jan!C14","v":0},{"$f":"Feb!C14","v":0},{"$f":"Mars!C14","v":0},{"$f":"April!C14","v":0},{"$f":"Maj!C14","v":0},{"$f":"Juni!C14","v":0}]
[null,null,null,null,null,null,null,null,null,null,null,null,null,null,null,null,null,null,null,null,null,null,null,null,null,null,null,null,null,{"$f":"Aug!C15","v":0},{"$f":"Sept!C15","v":0},{"$f":"Okt!C15","v":0},{"$f":"Nov!C15","v":0},{"$f":"Dec!C15","v":0},null,{"$f":"Jan!C15","v":0},{"$f":"Feb!C15","v":0},{"$f":"Mars!C15","v":0},{"$f":"April!C15","v":0},{"$f":"Maj!C15","v":0},{"$f":"Juni!C15","v":0}]
[null,null,null,null,null,null,null,null,null,null,null,null,null,null,null,null,null,null,null,null,null,null,null,null,null,null,null,null,null,{"$f":"Aug!C16","v":0},{"$f":"Sept!C16","v":0},{"$f":"Okt!C16","v":0},{"$f":"Nov!C16","v":0},{"$f":"Dec!C16","v":0},null,{"$f":"Jan!C16","v":0},{"$f":"Feb!C16","v":0},{"$f":"Mars!C16","v":0},{"$f":"April!C16","v":0},{"$f":"Maj!C16","v":0},{"$f":"Juni!C16","v":0}]
[null,null,null,null,null,null,null,null,null,null,null,null,null,null,null,null,null,null,null,null,null,null,null,null,null,null,null,null,null,{"$f":"Aug!C17","v":0},{"$f":"Sept!C17","v":0},{"$f":"Okt!C17","v":0},{"$f":"Nov!C17","v":0},{"$f":"Dec!C17","v":0},null,{"$f":"Jan!C17","v":0},{"$f":"Feb!C17","v":0},{"$f":"Mars!C17","v":0},{"$f":"April!C17","v":0},{"$f":"Maj!C17","v":0},{"$f":"Juni!C17","v":0}]
[null,null,null,null,null,null,null,null,null,null,null,null,null,null,null,null,null,null,null,null,null,null,null,null,null,null,null,null,null,{"$f":"Aug!C18","v":0},{"$f":"Sept!C18","v":0},{"$f":"Okt!C18","v":0},{"$f":"Nov!C18","v":0},{"$f":"Dec!C18","v":0},null,{"$f":"Jan!C18","v":0},{"$f":"Feb!C18","v":0},{"$f":"Mars!C18","v":0},{"$f":"April!C18","v":0},{"$f":"Maj!C18","v":0},{"$f":"Juni!C18","v":0}]
[null,null,null,null,null,null,null,null,null,null,null,null,null,null,null,null,null,null,null,null,null,null,null,null,null,null,null,null,null,{"$f":"Aug!C19","v":0},{"$f":"Sept!C19","v":0},{"$f":"Okt!C19","v":0},{"$f":"Nov!C19","v":0},{"$f":"Dec!C19","v":0},null,{"$f":"Jan!C19","v":0},{"$f":"Feb!C19","v":0},{"$f":"Mars!C19","v":0},{"$f":"April!C19","v":0},{"$f":"Maj!C19","v":0},{"$f":"Juni!C19","v":0}]
[null,null,null,null,null,null,null,null,null,null,null,null,null,null,null,null,null,null,null,null,null,null,null,null,null,null,null,null,null,{"$f":"Aug!C20","v":0},{"$f":"Sept!C20","v":0},{"$f":"Okt!C20","v":0},{"$f":"Nov!C20","v":0},{"$f":"Dec!C20","v":0},null,{"$f":"Jan!C20","v":0},{"$f":"Feb!C20","v":0},{"$f":"Mars!C20","v":0},{"$f":"April!C20","v":0},{"$f":"Maj!C20","v":0},{"$f":"Juni!C20","v":0}]
[null,null,null,null,null,null,null,null,null,null,null,null,null,null,null,null,null,null,null,null,null,null,null,null,null,null,null,null,null,{"$f":"Aug!C21","v":0},{"$f":"Sept!C21","v":0},{"$f":"Okt!C21","v":0},{"$f":"Nov!C21","v":0},{"$f":"Dec!C21","v":0},null,{"$f":"Jan!C21","v":0},{"$f":"Feb!C21","v":0},{"$f":"Mars!C21","v":0},{"$f":"April!C21","v":0},{"$f":"Maj!C21","v":0},{"$f":"Juni!C21","v":0}]
[null,null,null,null,null,null,null,null,null,null,null,null,null,null,null,null,null,null,null,null,null,null,null,null,null,null,null,null,null,{"$f":"Aug!C22","v":0},{"$f":"Sept!C22","v":0},{"$f":"Okt!C22","v":0},{"$f":"Nov!C22","v":0},{"$f":"Dec!C22","v":0},null,{"$f":"Jan!C22","v":0},{"$f":"Feb!C22","v":0},{"$f":"Mars!C22","v":0},{"$f":"April!C22","v":0},{"$f":"Maj!C22","v":0},{"$f":"Juni!C22","v":0}]
[null,null,null,null,null,null,null,null,null,null,null,null,null,null,null,null,null,null,null,null,null,null,null,null,null,null,null,null,null,{"$f":"Aug!C23","v":0},{"$f":"Sept!C23","v":0},{"$f":"Okt!C23","v":0},{"$f":"Nov!C23","v":0},{"$f":"Dec!C23","v":0},null,{"$f":"Jan!C23","v":0},{"$f":"Feb!C23","v":0},{"$f":"Mars!C23","v":0},{"$f":"April!C23","v":0},{"$f":"Maj!C23","v":0},{"$f":"Juni!C23","v":0}]
[null,null,null,null,null,null,null,null,null,null,null,null,null,null,null,null,null,null,null,null,null,null,null,null,null,null,null,null,null,{"$f":"Aug!C24","v":0},{"$f":"Sept!C24","v":0},{"$f":"Okt!C24","v":0},{"$f":"Nov!C24","v":0},{"$f":"Dec!C24","v":0},null,{"$f":"Jan!C24","v":0},{"$f":"Feb!C24","v":0},{"$f":"Mars!C24","v":0},{"$f":"April!C24","v":0},{"$f":"Maj!C24","v":0},{"$f":"Juni!C24","v":0}]
[null,null,null,null,null,null,null,null,null,null,null,null,null,null,null,null,null,null,null,null,null,null,null,null,null,null,null,null,null,{"$f":"Aug!C25","v":0},{"$f":"Sept!C25","v":0},{"$f":"Okt!C25","v":0},{"$f":"Nov!C25","v":0},{"$f":"Dec!C25","v":0},null,{"$f":"Jan!C25","v":0},{"$f":"Feb!C25","v":0},{"$f":"Mars!C25","v":0},{"$f":"April!C25","v":0},{"$f":"Maj!C25","v":0},{"$f":"Juni!C25","v":0}]
[null,null,null,null,null,null,null,null,null,null,null,null,null,null,null,null,null,null,null,null,null,null,null,null,null,null,null,null,null,{"$f":"Aug!C26","v":0},{"$f":"Sept!C26","v":0},{"$f":"Okt!C26","v":0},{"$f":"Nov!C26","v":0},{"$f":"Dec!C26","v":0},null,{"$f":"Jan!C26","v":0},{"$f":"Feb!C26","v":0},{"$f":"Mars!C26","v":0},{"$f":"April!C26","v":0},{"$f":"Maj!C26","v":0},{"$f":"Juni!C26","v":0}]
[null,null,null,null,null,null,null,null,null,null,null,null,null,null,null,null,null,null,null,null,null,null,null,null,null,null,null,null,null,{"$f":"Aug!C27","v":0},{"$f":"Sept!C27","v":0},{"$f":"Okt!C27","v":0},{"$f":"Nov!C27","v":0},{"$f":"Dec!C27","v":0},null,{"$f":"Jan!C27","v":0},{"$f":"Feb!C27","v":0},{"$f":"Mars!C27","v":0},{"$f":"April!C27","v":0},{"$f":"Maj!C27","v":0},{"$f":"Juni!C27","v":0}]
[null,null,null,null,null,null,null,null,null,null,null,null,null,null,null,null,null,null,null,null,null,null,null,null,null,null,null,null,null,{"$f":"Aug!C28","v":0},{"$f":"Sept!C28","v":0},{"$f":"Okt!C28","v":0},{"$f":"Nov!C28","v":0},{"$f":"Dec!C28","v":0},null,{"$f":"Jan!C28","v":0},{"$f":"Feb!C28","v":0},{"$f":"Mars!C28","v":0},{"$f":"April!C28","v":0},{"$f":"Maj!C28","v":0},{"$f":"Juni!C28","v":0}]
[null,null,null,null,null,null,null,null,null,null,null,null,null,null,null,null,null,null,null,null,null,null,null,null,null,null,null,null,null,{"$f":"Aug!C29","v":0},{"$f":"Sept!C29","v":0},{"$f":"Okt!C29","v":0},{"$f":"Nov!C29","v":0},{"$f":"Dec!C29","v":0},null,{"$f":"Jan!C29","v":0},{"$f":"Feb!C29","v":0},{"$f":"Mars!C29","v":0},{"$f":"April!C29","v":0},{"$f":"Maj!C29","v":0},{"$f":"Juni!C29","v":0}]
[null,null,null,null,null,null,null,null,null,null,null,null,null,null,null,null,null,null,null,null,null,null,null,null,null,null,null,null,null,{"$f":"Aug!C30","v":0},{"$f":"Sept!C30","v":0},{"$f":"Okt!C30","v":0},{"$f":"Nov!C30","v":0},{"$f":"Dec!C30","v":0},null,{"$f":"Jan!C30","v":0},{"$f":"Feb!C30","v":0},{"$f":"Mars!C30","v":0},{"$f":"April!C30","v":0},{"$f":"Maj!C30","v":0},{"$f":"Juni!C30","v":0}]
[null,null,null,null,null,null,null,null,null,null,null,null,null,null,null,null,null,null,null,null,null,null,null,null,null,null,null,null,null,{"$f":"Aug!C31","v":0},{"$f":"Sept!C31","v":0},{"$f":"Okt!C31","v":0},{"$f":"Nov!C31","v":0},{"$f":"Dec!C31","v":0},null,{"$f":"Jan!C31","v":0},{"$f":"Feb!C31","v":0},{"$f":"Mars!C31","v":0},{"$f":"April!C31","v":0},{"$f":"Maj!C31","v":0},{"$f":"Juni!C31","v":0}]
[null,null,null,null,null,null,null,null,null,null,null,null,null,null,null,null,null,null,null,null,null,null,null,null,null,null,null,null,null,{"$f":"Aug!C32","v":0},{"$f":"Sept!C32","v":0},{"$f":"Okt!C32","v":0},{"$f":"Nov!C32","v":0},{"$f":"Dec!C32","v":0},null,{"$f":"Jan!C32","v":0},{"$f":"Feb!C32","v":0},{"$f":"Mars!C32","v":0},{"$f":"April!C32","v":0},{"$f":"Maj!C32","v":0},{"$f":"Juni!C32","v":0}]
[null,null,null,null,null,null,null,null,null,null,null,null,null,null,null,null,null,null,null,null,null,null,null,null,null,null,null,null,null,{"$f":"Aug!C33","v":0},{"$f":"Sept!C33","v":0},{"$f":"Okt!C33","v":0},{"$f":"Nov!C33","v":0},{"$f":"Dec!C33","v":0},null,{"$f":"Jan!C33","v":0},{"$f":"Feb!C33","v":0},{"$f":"Mars!C33","v":0},{"$f":"April!C33","v":0},{"$f":"Maj!C33","v":0},{"$f":"Juni!C33","v":0}]
[null,null,null,null,null,null,null,null,null,null,null,null,null,null,null,null,null,null,null,null,null,null,null,null,null,null,null,null,null,{"$f":"Aug!C34","v":0},{"$f":"Sept!C34","v":0},{"$f":"Okt!C34","v":0},{"$f":"Nov!C34","v":0},{"$f":"Dec!C34","v":0},null,{"$f":"Jan!C34","v":0},{"$f":"Feb!C34","v":0},{"$f":"Mars!C34","v":0},{"$f":"April!C34","v":0},{"$f":"Maj!C34","v":0},{"$f":"Juni!C34","v":0}]
[null,null,null,null,null,null,null,null,null,null,null,null,null,null,null,null,null,null,null,null,null,null,null,null,null,null,null,null,null,{"$f":"Aug!C35","v":0},{"$f":"Sept!C35","v":0},{"$f":"Okt!C35","v":0},{"$f":"Nov!C35","v":0},{"$f":"Dec!C35","v":0},null,{"$f":"Jan!C35","v":0},{"$f":"Feb!C35","v":0},{"$f":"Mars!C35","v":0},{"$f":"April!C35","v":0},{"$f":"Maj!C35","v":0},{"$f":"Juni!C35","v":0}]

{"sheet":"Avstämningsperioder","index":4,"n_rows":38,"n_cols":32,"rows_kept":38,"cut":false,"hidden":false,"merged":[[42,21,42,30],[43,21,43,30],[44,21,44,30],[4,0,5,1],[10,0,11,1],[16,0,17,1],[22,0,23,1],[30,0,31,3],[38,21,38,30],[39,16,39,17],[39,21,39,32],[40,16,40,17],[40,21,40,32],[41,16,41,17],[41,21,41,30]]}
[{"$f":"\"Avstämningsperioder \" & Uppgifter!C4  & \" / \" & Uppgifter!D4 & \" för \" & IF(Uppgifter!C6<>\"\",Uppgifter!C6,\"\")","v":"Avstämningsperioder 2026 / 2027 för "}]
[]
[]
[null,null,null,null,null,null,null,{"$f":"Uppgifter!C4","v":2026},null,null,null,null,null,{"$f":"Uppgifter!D4","v":2027},null,null,null,null,null,null,null,{"$f":"Uppgifter!C4","v":2026},null,null,null,null,{"$f":"Uppgifter!D4","v":2027}]
["Avstämningsperiod 1",null,"Datum i perioden",null,null,null,"Datum","Aug","Sept","Okt","Nov","Dec",null,"Jan","Feb","Mars ","April","Maj","Juni",null,null,8,9,10,11,12,1,2,3,4,5,6]
[null,null,"260810 tom 261018",null,null,null,1,{"$f":"Årsarbetsschema!C6","v":"00:00:00"},{"$f":"Årsarbetsschema!D6","v":"07:00:00"},{"$f":"Årsarbetsschema!E6","v":"07:00:00"},{"$f":"Årsarbetsschema!F6","v":"00:00:00"},{"$f":"Årsarbetsschema!G6","v":"07:00:00"},null,{"$f":"Årsarbetsschema!I6","v":"00:00:00"},{"$f":"Årsarbetsschema!J6","v":"07:00:00"},{"$f":"Årsarbetsschema!K6","v":"07:00:00"},{"$f":"Årsarbetsschema!L6","v":"00:00:00"},{"$f":"Årsarbetsschema!M6","v":"00:00:00"},{"$f":"Årsarbetsschema!N6","v":"07:00:00"},null,null,{"$f":"Årsarbetsschema!R6","v":6},{"$f":"Årsarbetsschema!S6","v":2},{"$f":"Årsarbetsschema!T6","v":4},{"$f":"Årsarbetsschema!U6","v":7},{"$f":"Årsarbetsschema!V6","v":2},{"$f":"Årsarbetsschema!X6","v":6},{"$f":"Årsarbetsschema!Y6","v":1},{"$f":"Årsarbetsschema!Z6","v":1},{"$f":"Årsarbetsschema!AA6","v":6},{"$f":"Årsarbetsschema!AB6","v":6},{"$f":"Årsarbetsschema!AC6","v":2}]
["Periodens planerade arbetstid",{"$f":"SUM(Årsarbetsschema!C6:C36)*24+SUM(Årsarbetsschema!D6:D35)*24+SUM(Årsarbetsschema!E6:E23)*24","v":350.00000000000006},null,null,null,null,2,{"$f":"Årsarbetsschema!C7","v":"00:00:00"},{"$f":"Årsarbetsschema!D7","v":"07:00:00"},{"$f":"Årsarbetsschema!E7","v":"07:00:00"},{"$f":"Årsarbetsschema!F7","v":"07:00:00"},{"$f":"Årsarbetsschema!G7","v":"07:00:00"},null,{"$f":"Årsarbetsschema!I7","v":"00:00:00"},{"$f":"Årsarbetsschema!J7","v":"07:00:00"},{"$f":"Årsarbetsschema!K7","v":"07:00:00"},{"$f":"Årsarbetsschema!L7","v":"00:00:00"},{"$f":"Årsarbetsschema!M7","v":"00:00:00"},{"$f":"Årsarbetsschema!N7","v":"07:00:00"},null,null,{"$f":"Årsarbetsschema!R7","v":6},{"$f":"Årsarbetsschema!S7","v":3},{"$f":"Årsarbetsschema!T7","v":5},{"$f":"Årsarbetsschema!U7","v":1},{"$f":"Årsarbetsschema!V7","v":3},{"$f":"Årsarbetsschema!X7","v":6},{"$f":"Årsarbetsschema!Y7","v":2},{"$f":"Årsarbetsschema!Z7","v":2},{"$f":"Årsarbetsschema!AA7","v":6},{"$f":"Årsarbetsschema!AB7","v":7},{"$f":"Årsarbetsschema!AC7","v":3}]
["Periodens faktiskt arbetad tid",{"$f":"SUM(Arbetat!C15:C36)*24+SUM(Arbetat!D6:D35)*24+SUM(Arbetat!E6:E23)*24","v":0},null,null,null,null,3,{"$f":"Årsarbetsschema!C8","v":"00:00:00"},{"$f":"Årsarbetsschema!D8","v":"07:00:00"},{"$f":"Årsarbetsschema!E8","v":"00:00:00"},{"$f":"Årsarbetsschema!F8","v":"07:00:00"},{"$f":"Årsarbetsschema!G8","v":"07:00:00"},null,{"$f":"Årsarbetsschema!I8","v":"00:00:00"},{"$f":"Årsarbetsschema!J8","v":"07:00:00"},{"$f":"Årsarbetsschema!K8","v":"07:00:00"},{"$f":"Årsarbetsschema!L8","v":"00:00:00"},{"$f":"Årsarbetsschema!M8","v":"07:00:00"},{"$f":"Årsarbetsschema!N8","v":"07:00:00"},null,null,{"$f":"Årsarbetsschema!R8","v":6},{"$f":"Årsarbetsschema!S8","v":4},{"$f":"Årsarbetsschema!T8","v":6},{"$f":"Årsarbetsschema!U8","v":2},{"$f":"Årsarbetsschema!V8","v":4},{"$f":"Årsarbetsschema!X8","v":6},{"$f":"Årsarbetsschema!Y8","v":3},{"$f":"Årsarbetsschema!Z8","v":3},{"$f":"Årsarbetsschema!AA8","v":6},{"$f":"Årsarbetsschema!AB8","v":1},{"$f":"Årsarbetsschema!AC8","v":4}]
["Differans avstämningsperiod 1",{"$f":"B8-B7","v":-350.00000000000006},null,null,null,null,4,{"$f":"Årsarbetsschema!C9","v":"00:00:00"},{"$f":"Årsarbetsschema!D9","v":"07:00:00"},{"$f":"Årsarbetsschema!E9","v":"00:00:00"},{"$f":"Årsarbetsschema!F9","v":"07:00:00"},{"$f":"Årsarbetsschema!G9","v":"07:00:00"},null,{"$f":"Årsarbetsschema!I9","v":"00:00:00"},{"$f":"Årsarbetsschema!J9","v":"07:00:00"},{"$f":"Årsarbetsschema!K9","v":"07:00:00"},{"$f":"Årsarbetsschema!L9","v":"00:00:00"},{"$f":"Årsarbetsschema!M9","v":"07:00:00"},{"$f":"Årsarbetsschema!N9","v":"07:00:00"},null,null,{"$f":"Årsarbetsschema!R9","v":6},{"$f":"Årsarbetsschema!S9","v":5},{"$f":"Årsarbetsschema!T9","v":7},{"$f":"Årsarbetsschema!U9","v":3},{"$f":"Årsarbetsschema!V9","v":5},{"$f":"Årsarbetsschema!X9","v":6},{"$f":"Årsarbetsschema!Y9","v":4},{"$f":"Årsarbetsschema!Z9","v":4},{"$f":"Årsarbetsschema!AA9","v":7},{"$f":"Årsarbetsschema!AB9","v":2},{"$f":"Årsarbetsschema!AC9","v":5}]
[null,null,null,null,null,null,5,{"$f":"Årsarbetsschema!C10","v":"00:00:00"},{"$f":"Årsarbetsschema!D10","v":"00:00:00"},{"$f":"Årsarbetsschema!E10","v":"07:00:00"},{"$f":"Årsarbetsschema!F10","v":"07:00:00"},{"$f":"Årsarbetsschema!G10","v":"00:00:00"},null,{"$f":"Årsarbetsschema!I10","v":"00:00:00"},{"$f":"Årsarbetsschema!J10","v":"07:00:00"},{"$f":"Årsarbetsschema!K10","v":"07:00:00"},{"$f":"Årsarbetsschema!L10","v":"07:00:00"},{"$f":"Årsarbetsschema!M10","v":"07:00:00"},{"$f":"Årsarbetsschema!N10","v":"00:00:00"},null,null,{"$f":"Årsarbetsschema!R10","v":6},{"$f":"Årsarbetsschema!S10","v":6},{"$f":"Årsarbetsschema!T10","v":1},{"$f":"Årsarbetsschema!U10","v":4},{"$f":"Årsarbetsschema!V10","v":6},{"$f":"Årsarbetsschema!X10","v":6},{"$f":"Årsarbetsschema!Y10","v":5},{"$f":"Årsarbetsschema!Z10","v":5},{"$f":"Årsarbetsschema!AA10","v":1},{"$f":"Årsarbetsschema!AB10","v":3},{"$f":"Årsarbetsschema!AC10","v":6}]
["Avstämningsperiod 2",null,"Datum i perioden",null,null,null,6,{"$f":"Årsarbetsschema!C11","v":"00:00:00"},{"$f":"Årsarbetsschema!D11","v":"00:00:00"},{"$f":"Årsarbetsschema!E11","v":"07:00:00"},{"$f":"Årsarbetsschema!F11","v":"07:00:00"},{"$f":"Årsarbetsschema!G11","v":"00:00:00"},null,{"$f":"Årsarbetsschema!I11","v":"00:00:00"},{"$f":"Årsarbetsschema!J11","v":"00:00:00"},{"$f":"Årsarbetsschema!K11","v":"00:00:00"},{"$f":"Årsarbetsschema!L11","v":"07:00:00"},{"$f":"Årsarbetsschema!M11","v":"00:00:00"},{"$f":"Årsarbetsschema!N11","v":"00:00:00"},null,null,{"$f":"Årsarbetsschema!R11","v":6},{"$f":"Årsarbetsschema!S11","v":7},{"$f":"Årsarbetsschema!T11","v":2},{"$f":"Årsarbetsschema!U11","v":5},{"$f":"Årsarbetsschema!V11","v":7},{"$f":"Årsarbetsschema!X11","v":6},{"$f":"Årsarbetsschema!Y11","v":6},{"$f":"Årsarbetsschema!Z11","v":6},{"$f":"Årsarbetsschema!AA11","v":2},{"$f":"Årsarbetsschema!AB11","v":6},{"$f":"Årsarbetsschema!AC11","v":7}]
[null,null,"261019 tom 261231",null,null,null,7,{"$f":"Årsarbetsschema!C12","v":"00:00:00"},{"$f":"Årsarbetsschema!D12","v":"07:00:00"},{"$f":"Årsarbetsschema!E12","v":"07:00:00"},{"$f":"Årsarbetsschema!F12","v":"00:00:00"},{"$f":"Årsarbetsschema!G12","v":"07:00:00"},null,{"$f":"Årsarbetsschema!I12","v":"00:00:00"},{"$f":"Årsarbetsschema!J12","v":"00:00:00"},{"$f":"Årsarbetsschema!K12","v":"00:00:00"},{"$f":"Årsarbetsschema!L12","v":"07:00:00"},{"$f":"Årsarbetsschema!M12","v":"00:00:00"},{"$f":"Årsarbetsschema!N12","v":"07:00:00"},null,null,{"$f":"Årsarbetsschema!R12","v":6},{"$f":"Årsarbetsschema!S12","v":1},{"$f":"Årsarbetsschema!T12","v":3},{"$f":"Årsarbetsschema!U12","v":6},{"$f":"Årsarbetsschema!V12","v":1},{"$f":"Årsarbetsschema!X12","v":6},{"$f":"Årsarbetsschema!Y12","v":7},{"$f":"Årsarbetsschema!Z12","v":7},{"$f":"Årsarbetsschema!AA12","v":3},{"$f":"Årsarbetsschema!AB12","v":6},{"$f":"Årsarbetsschema!AC12","v":1}]
["Periodens planerade arbetstid",{"$f":"SUM(Årsarbetsschema!E24:E36)*24+SUM(Årsarbetsschema!F6:F35)*24+SUM(Årsarbetsschema!G6:G36)*24","v":315.00000000000006},null,null,null,null,8,{"$f":"Årsarbetsschema!C13","v":"00:00:00"},{"$f":"Årsarbetsschema!D13","v":"07:00:00"},{"$f":"Årsarbetsschema!E13","v":"07:00:00"},{"$f":"Årsarbetsschema!F13","v":"00:00:00"},{"$f":"Årsarbetsschema!G13","v":"07:00:00"},null,{"$f":"Årsarbetsschema!I13","v":"00:00:00"},{"$f":"Årsarbetsschema!J13","v":"07:00:00"},{"$f":"Årsarbetsschema!K13","v":"07:00:00"},{"$f":"Årsarbetsschema!L13","v":"07:00:00"},{"$f":"Årsarbetsschema!M13","v":"00:00:00"},{"$f":"Årsarbetsschema!N13","v":"07:00:00"},null,null,{"$f":"Årsarbetsschema!R13","v":6},{"$f":"Årsarbetsschema!S13","v":2},{"$f":"Årsarbetsschema!T13","v":4},{"$f":"Årsarbetsschema!U13","v":7},{"$f":"Årsarbetsschema!V13","v":2},{"$f":"Årsarbetsschema!X13","v":6},{"$f":"Årsarbetsschema!Y13","v":1},{"$f":"Årsarbetsschema!Z13","v":1},{"$f":"Årsarbetsschema!AA13","v":4},{"$f":"Årsarbetsschema!AB13","v":6},{"$f":"Årsarbetsschema!AC13","v":2}]
["Periodens faktiskt arbetad tid",{"$f":"SUM(Arbetat!E24:E36)*24+SUM(Arbetat!F6:F35)*24+SUM(Arbetat!G6:G36)*24","v":0},null,null,null,null,9,{"$f":"Årsarbetsschema!C14","v":"00:00:00"},{"$f":"Årsarbetsschema!D14","v":"07:00:00"},{"$f":"Årsarbetsschema!E14","v":"07:00:00"},{"$f":"Årsarbetsschema!F14","v":"07:00:00"},{"$f":"Årsarbetsschema!G14","v":"07:00:00"},null,{"$f":"Årsarbetsschema!I14","v":"00:00:00"},{"$f":"Årsarbetsschema!J14","v":"07:00:00"},{"$f":"Årsarbetsschema!K14","v":"07:00:00"},{"$f":"Årsarbetsschema!L14","v":"07:00:00"},{"$f":"Årsarbetsschema!M14","v":"00:00:00"},{"$f":"Årsarbetsschema!N14","v":"07:00:00"},null,null,{"$f":"Årsarbetsschema!R14","v":6},{"$f":"Årsarbetsschema!S14","v":3},{"$f":"Årsarbetsschema!T14","v":5},{"$f":"Årsarbetsschema!U14","v":1},{"$f":"Årsarbetsschema!V14","v":3},{"$f":"Årsarbetsschema!X14","v":6},{"$f":"Årsarbetsschema!Y14","v":2},{"$f":"Årsarbetsschema!Z14","v":2},{"$f":"Årsarbetsschema!AA14","v":5},{"$f":"Årsarbetsschema!AB14","v":7},{"$f":"Årsarbetsschema!AC14","v":3}]
["Differans avstämningsperiod 2",{"$f":"B14-B13","v":-315.00000000000006},null,null,null,null,10,{"$f":"Årsarbetsschema!C15","v":"07:00:00"},{"$f":"Årsarbetsschema!D15","v":"07:00:00"},{"$f":"Årsarbetsschema!E15","v":"00:00:00"},{"$f":"Årsarbetsschema!F15","v":"07:00:00"},{"$f":"Årsarbetsschema!G15","v":"07:00:00"},null,{"$f":"Årsarbetsschema!I15","v":"00:00:00"},{"$f":"Årsarbetsschema!J15","v":"07:00:00"},{"$f":"Årsarbetsschema!K15","v":"07:00:00"},{"$f":"Årsarbetsschema!L15","v":"00:00:00"},{"$f":"Årsarbetsschema!M15","v":"07:00:00"},{"$f":"Årsarbetsschema!N15","v":"07:00:00"},null,null,{"$f":"Årsarbetsschema!R15","v":-1},{"$f":"Årsarbetsschema!S15","v":4},{"$f":"Årsarbetsschema!T15","v":6},{"$f":"Årsarbetsschema!U15","v":2},{"$f":"Årsarbetsschema!V15","v":4},{"$f":"Årsarbetsschema!X15","v":7},{"$f":"Årsarbetsschema!Y15","v":3},{"$f":"Årsarbetsschema!Z15","v":3},{"$f":"Årsarbetsschema!AA15","v":6},{"$f":"Årsarbetsschema!AB15","v":1},{"$f":"Årsarbetsschema!AC15","v":4}]
[null,null,null,null,null,null,11,{"$f":"Årsarbetsschema!C16","v":"07:00:00"},{"$f":"Årsarbetsschema!D16","v":"07:00:00"},{"$f":"Årsarbetsschema!E16","v":"00:00:00"},{"$f":"Årsarbetsschema!F16","v":"07:00:00"},{"$f":"Årsarbetsschema!G16","v":"07:00:00"},null,{"$f":"Årsarbetsschema!I16","v":"07:00:00"},{"$f":"Årsarbetsschema!J16","v":"07:00:00"},{"$f":"Årsarbetsschema!K16","v":"07:00:00"},{"$f":"Årsarbetsschema!L16","v":"00:00:00"},{"$f":"Årsarbetsschema!M16","v":"07:00:00"},{"$f":"Årsarbetsschema!N16","v":"07:00:00"},null,null,{"$f":"Årsarbetsschema!R16","v":-1},{"$f":"Årsarbetsschema!S16","v":5},{"$f":"Årsarbetsschema!T16","v":7},{"$f":"Årsarbetsschema!U16","v":3},{"$f":"Årsarbetsschema!V16","v":5},{"$f":"Årsarbetsschema!X16","v":-1},{"$f":"Årsarbetsschema!Y16","v":4},{"$f":"Årsarbetsschema!Z16","v":4},{"$f":"Årsarbetsschema!AA16","v":7},{"$f":"Årsarbetsschema!AB16","v":2},{"$f":"Årsarbetsschema!AC16","v":-1}]
["Avstämningsperiod 3",null,"Datum i perioden",null,null,null,12,{"$f":"Årsarbetsschema!C17","v":"07:00:00"},{"$f":"Årsarbetsschema!D17","v":"00:00:00"},{"$f":"Årsarbetsschema!E17","v":"07:00:00"},{"$f":"Årsarbetsschema!F17","v":"07:00:00"},{"$f":"Årsarbetsschema!G17","v":"00:00:00"},null,{"$f":"Årsarbetsschema!I17","v":"07:00:00"},{"$f":"Årsarbetsschema!J17","v":"07:00:00"},{"$f":"Årsarbetsschema!K17","v":"07:00:00"},{"$f":"Årsarbetsschema!L17","v":"07:00:00"},{"$f":"Årsarbetsschema!M17","v":"07:00:00"},{"$f":"Årsarbetsschema!N17","v":"00:00:00"},null,null,{"$f":"Årsarbetsschema!R17","v":-1},{"$f":"Årsarbetsschema!S17","v":6},{"$f":"Årsarbetsschema!T17","v":1},{"$f":"Årsarbetsschema!U17","v":4},{"$f":"Årsarbetsschema!V17","v":6},{"$f":"Årsarbetsschema!X17","v":-1},{"$f":"Årsarbetsschema!Y17","v":5},{"$f":"Årsarbetsschema!Z17","v":5},{"$f":"Årsarbetsschema!AA17","v":1},{"$f":"Årsarbetsschema!AB17","v":3},{"$f":"Årsarbetsschema!AC17","v":6}]
[null,null,"270101 tom 270331",null,null,null,13,{"$f":"Årsarbetsschema!C18","v":"07:00:00"},{"$f":"Årsarbetsschema!D18","v":"00:00:00"},{"$f":"Årsarbetsschema!E18","v":"07:00:00"},{"$f":"Årsarbetsschema!F18","v":"07:00:00"},{"$f":"Årsarbetsschema!G18","v":"00:00:00"},null,{"$f":"Årsarbetsschema!I18","v":"07:00:00"},{"$f":"Årsarbetsschema!J18","v":"00:00:00"},{"$f":"Årsarbetsschema!K18","v":"00:00:00"},{"$f":"Årsarbetsschema!L18","v":"07:00:00"},{"$f":"Årsarbetsschema!M18","v":"07:00:00"},{"$f":"Årsarbetsschema!N18","v":"00:00:00"},null,null,{"$f":"Årsarbetsschema!R18","v":-1},{"$f":"Årsarbetsschema!S18","v":7},{"$f":"Årsarbetsschema!T18","v":2},{"$f":"Årsarbetsschema!U18","v":5},{"$f":"Årsarbetsschema!V18","v":7},{"$f":"Årsarbetsschema!X18","v":3},{"$f":"Årsarbetsschema!Y18","v":6},{"$f":"Årsarbetsschema!Z18","v":6},{"$f":"Årsarbetsschema!AA18","v":2},{"$f":"Årsarbetsschema!AB18","v":4},{"$f":"Årsarbetsschema!AC18","v":7}]
["Periodens planerade arbetstid",{"$f":"SUM(Årsarbetsschema!I6:I36)*24+SUM(Årsarbetsschema!J6:J34)*24+SUM(Årsarbetsschema!K6:K36)*24","v":343},null,null,null,null,14,{"$f":"Årsarbetsschema!C19","v":"07:00:00"},{"$f":"Årsarbetsschema!D19","v":"07:00:00"},{"$f":"Årsarbetsschema!E19","v":"07:00:00"},{"$f":"Årsarbetsschema!F19","v":"00:00:00"},{"$f":"Årsarbetsschema!G19","v":"07:00:00"},null,{"$f":"Årsarbetsschema!I19","v":"07:00:00"},{"$f":"Årsarbetsschema!J19","v":"00:00:00"},{"$f":"Årsarbetsschema!K19","v":"00:00:00"},{"$f":"Årsarbetsschema!L19","v":"07:00:00"},{"$f":"Årsarbetsschema!M19","v":"07:00:00"},{"$f":"Årsarbetsschema!N19","v":"07:00:00"},null,null,{"$f":"Årsarbetsschema!R19","v":-1},{"$f":"Årsarbetsschema!S19","v":1},{"$f":"Årsarbetsschema!T19","v":3},{"$f":"Årsarbetsschema!U19","v":6},{"$f":"Årsarbetsschema!V19","v":1},{"$f":"Årsarbetsschema!X19","v":4},{"$f":"Årsarbetsschema!Y19","v":7},{"$f":"Årsarbetsschema!Z19","v":7},{"$f":"Årsarbetsschema!AA19","v":3},{"$f":"Årsarbetsschema!AB19","v":5},{"$f":"Årsarbetsschema!AC19","v":-1}]
["Periodens faktiskt arbetad tid",{"$f":"SUM(Arbetat!I6:I36)*24+SUM(Arbetat!J6:J33)*24+SUM(Arbetat!K6:K28)*24","v":0},null,null,null,null,15,{"$f":"Årsarbetsschema!C20","v":"00:00:00"},{"$f":"Årsarbetsschema!D20","v":"07:00:00"},{"$f":"Årsarbetsschema!E20","v":"07:00:00"},{"$f":"Årsarbetsschema!F20","v":"00:00:00"},{"$f":"Årsarbetsschema!G20","v":"07:00:00"},null,{"$f":"Årsarbetsschema!I20","v":"07:00:00"},{"$f":"Årsarbetsschema!J20","v":"07:00:00"},{"$f":"Årsarbetsschema!K20","v":"07:00:00"},{"$f":"Årsarbetsschema!L20","v":"07:00:00"},{"$f":"Årsarbetsschema!M20","v":"00:00:00"},{"$f":"Årsarbetsschema!N20","v":"07:00:00"},null,null,{"$f":"Årsarbetsschema!R20","v":6},{"$f":"Årsarbetsschema!S20","v":2},{"$f":"Årsarbetsschema!T20","v":4},{"$f":"Årsarbetsschema!U20","v":7},{"$f":"Årsarbetsschema!V20","v":2},{"$f":"Årsarbetsschema!X20","v":5},{"$f":"Årsarbetsschema!Y20","v":1},{"$f":"Årsarbetsschema!Z20","v":1},{"$f":"Årsarbetsschema!AA20","v":4},{"$f":"Årsarbetsschema!AB20","v":6},{"$f":"Årsarbetsschema!AC20","v":-1}]
["Differans avstämningsperiod 3",{"$f":"B20-B19","v":-343},null,null,null,null,16,{"$f":"Årsarbetsschema!C21","v":"00:00:00"},{"$f":"Årsarbetsschema!D21","v":"07:00:00"},{"$f":"Årsarbetsschema!E21","v":"07:00:00"},{"$f":"Årsarbetsschema!F21","v":"07:00:00"},{"$f":"Årsarbetsschema!G21","v":"07:00:00"},null,{"$f":"Årsarbetsschema!I21","v":"00:00:00"},{"$f":"Årsarbetsschema!J21","v":"07:00:00"},{"$f":"Årsarbetsschema!K21","v":"07:00:00"},{"$f":"Årsarbetsschema!L21","v":"07:00:00"},{"$f":"Årsarbetsschema!M21","v":"00:00:00"},{"$f":"Årsarbetsschema!N21","v":"07:00:00"},null,null,{"$f":"Årsarbetsschema!R21","v":7},{"$f":"Årsarbetsschema!S21","v":3},{"$f":"Årsarbetsschema!T21","v":5},{"$f":"Årsarbetsschema!U21","v":1},{"$f":"Årsarbetsschema!V21","v":3},{"$f":"Årsarbetsschema!X21","v":6},{"$f":"Årsarbetsschema!Y21","v":2},{"$f":"Årsarbetsschema!Z21","v":2},{"$f":"Årsarbetsschema!AA21","v":5},{"$f":"Årsarbetsschema!AB21","v":7},{"$f":"Årsarbetsschema!AC21","v":-1}]
[null,null,null,null,null,null,17,{"$f":"Årsarbetsschema!C22","v":"07:00:00"},{"$f":"Årsarbetsschema!D22","v":"07:00:00"},{"$f":"Årsarbetsschema!E22","v":"00:00:00"},{"$f":"Årsarbetsschema!F22","v":"07:00:00"},{"$f":"Årsarbetsschema!G22","v":"07:00:00"},null,{"$f":"Årsarbetsschema!I22","v":"00:00:00"},{"$f":"Årsarbetsschema!J22","v":"07:00:00"},{"$f":"Årsarbetsschema!K22","v":"07:00:00"},{"$f":"Årsarbetsschema!L22","v":"00:00:00"},{"$f":"Årsarbetsschema!M22","v":"07:00:00"},{"$f":"Årsarbetsschema!N22","v":"00:00:00"},null,null,{"$f":"Årsarbetsschema!R22","v":-1},{"$f":"Årsarbetsschema!S22","v":4},{"$f":"Årsarbetsschema!T22","v":6},{"$f":"Årsarbetsschema!U22","v":2},{"$f":"Årsarbetsschema!V22","v":4},{"$f":"Årsarbetsschema!X22","v":7},{"$f":"Årsarbetsschema!Y22","v":3},{"$f":"Årsarbetsschema!Z22","v":3},{"$f":"Årsarbetsschema!AA22","v":6},{"$f":"Årsarbetsschema!AB22","v":1},{"$f":"Årsarbetsschema!AC22","v":6}]
["Avstämningsperiod 4",null,"Datum i perioden",null,null,null,18,{"$f":"Årsarbetsschema!C23","v":"07:00:00"},{"$f":"Årsarbetsschema!D23","v":"07:00:00"},{"$f":"Årsarbetsschema!E23","v":"00:00:00"},{"$f":"Årsarbetsschema!F23","v":"07:00:00"},{"$f":"Årsarbetsschema!G23","v":"07:00:00"},null,{"$f":"Årsarbetsschema!I23","v":"07:00:00"},{"$f":"Årsarbetsschema!J23","v":"07:00:00"},{"$f":"Årsarbetsschema!K23","v":"07:00:00"},{"$f":"Årsarbetsschema!L23","v":"00:00:00"},{"$f":"Årsarbetsschema!M23","v":"07:00:00"},{"$f":"Årsarbetsschema!N23","v":"00:00:00"},null,null,{"$f":"Årsarbetsschema!R23","v":2},{"$f":"Årsarbetsschema!S23","v":5},{"$f":"Årsarbetsschema!T23","v":7},{"$f":"Årsarbetsschema!U23","v":3},{"$f":"Årsarbetsschema!V23","v":5},{"$f":"Årsarbetsschema!X23","v":1},{"$f":"Årsarbetsschema!Y23","v":4},{"$f":"Årsarbetsschema!Z23","v":4},{"$f":"Årsarbetsschema!AA23","v":7},{"$f":"Årsarbetsschema!AB23","v":2},{"$f":"Årsarbetsschema!AC23","v":6}]
[null,null,"270401 tom 270616",null,null,null,19,{"$f":"Årsarbetsschema!C24","v":"07:00:00"},{"$f":"Årsarbetsschema!D24","v":"00:00:00"},{"$f":"Årsarbetsschema!E24","v":"07:00:00"},{"$f":"Årsarbetsschema!F24","v":"07:00:00"},{"$f":"Årsarbetsschema!G24","v":"00:00:00"},null,{"$f":"Årsarbetsschema!I24","v":"07:00:00"},{"$f":"Årsarbetsschema!J24","v":"07:00:00"},{"$f":"Årsarbetsschema!K24","v":"07:00:00"},{"$f":"Årsarbetsschema!L24","v":"07:00:00"},{"$f":"Årsarbetsschema!M24","v":"07:00:00"},{"$f":"Årsarbetsschema!N24","v":"00:00:00"},null,null,{"$f":"Årsarbetsschema!R24","v":3},{"$f":"Årsarbetsschema!S24","v":6},{"$f":"Årsarbetsschema!T24","v":1},{"$f":"Årsarbetsschema!U24","v":4},{"$f":"Årsarbetsschema!V24","v":6},{"$f":"Årsarbetsschema!X24","v":2},{"$f":"Årsarbetsschema!Y24","v":5},{"$f":"Årsarbetsschema!Z24","v":5},{"$f":"Årsarbetsschema!AA24","v":1},{"$f":"Årsarbetsschema!AB24","v":3},{"$f":"Årsarbetsschema!AC24","v":6}]
["Periodens planerade arbetstid",{"$f":"SUM(Årsarbetsschema!L6:L35)*24+SUM(Årsarbetsschema!M6:M36)*24+SUM(Årsarbetsschema!N6:N35)*24","v":350.00000000000006},null,null,null,null,20,{"$f":"Årsarbetsschema!C25","v":"07:00:00"},{"$f":"Årsarbetsschema!D25","v":"00:00:00"},{"$f":"Årsarbetsschema!E25","v":"07:00:00"},{"$f":"Årsarbetsschema!F25","v":"07:00:00"},{"$f":"Årsarbetsschema!G25","v":"00:00:00"},null,{"$f":"Årsarbetsschema!I25","v":"07:00:00"},{"$f":"Årsarbetsschema!J25","v":"00:00:00"},{"$f":"Årsarbetsschema!K25","v":"00:00:00"},{"$f":"Årsarbetsschema!L25","v":"07:00:00"},{"$f":"Årsarbetsschema!M25","v":"07:00:00"},{"$f":"Årsarbetsschema!N25","v":"00:00:00"},null,null,{"$f":"Årsarbetsschema!R25","v":4},{"$f":"Årsarbetsschema!S25","v":7},{"$f":"Årsarbetsschema!T25","v":2},{"$f":"Årsarbetsschema!U25","v":5},{"$f":"Årsarbetsschema!V25","v":7},{"$f":"Årsarbetsschema!X25","v":3},{"$f":"Årsarbetsschema!Y25","v":6},{"$f":"Årsarbetsschema!Z25","v":6},{"$f":"Årsarbetsschema!AA25","v":2},{"$f":"Årsarbetsschema!AB25","v":4},{"$f":"Årsarbetsschema!AC25","v":7}]
["Periodens faktiskt arbetad tid",{"$f":"SUM(Arbetat!K29:K36)*24+SUM(Arbetat!L6:L35)*24+SUM(Arbetat!M6:M36)*24+SUM(Arbetat!N6:N23)*24","v":0},null,null,null,null,21,{"$f":"Årsarbetsschema!C26","v":"07:00:00"},{"$f":"Årsarbetsschema!D26","v":"07:00:00"},{"$f":"Årsarbetsschema!E26","v":"07:00:00"},{"$f":"Årsarbetsschema!F26","v":"00:00:00"},{"$f":"Årsarbetsschema!G26","v":"07:00:00"},null,{"$f":"Årsarbetsschema!I26","v":"07:00:00"},{"$f":"Årsarbetsschema!J26","v":"00:00:00"},{"$f":"Årsarbetsschema!K26","v":"00:00:00"},{"$f":"Årsarbetsschema!L26","v":"07:00:00"},{"$f":"Årsarbetsschema!M26","v":"07:00:00"},{"$f":"Årsarbetsschema!N26","v":"00:00:00"},null,null,{"$f":"Årsarbetsschema!R26","v":5},{"$f":"Årsarbetsschema!S26","v":1},{"$f":"Årsarbetsschema!T26","v":3},{"$f":"Årsarbetsschema!U26","v":6},{"$f":"Årsarbetsschema!V26","v":1},{"$f":"Årsarbetsschema!X26","v":4},{"$f":"Årsarbetsschema!Y26","v":7},{"$f":"Årsarbetsschema!Z26","v":7},{"$f":"Årsarbetsschema!AA26","v":3},{"$f":"Årsarbetsschema!AB26","v":5},{"$f":"Årsarbetsschema!AC26","v":6}]
["Differans avstämningsperiod 4",{"$f":"B26-B25","v":-350.00000000000006},null,null,null,null,22,{"$f":"Årsarbetsschema!C27","v":"00:00:00"},{"$f":"Årsarbetsschema!D27","v":"07:00:00"},{"$f":"Årsarbetsschema!E27","v":"07:00:00"},{"$f":"Årsarbetsschema!F27","v":"00:00:00"},{"$f":"Årsarbetsschema!G27","v":"07:00:00"},null,{"$f":"Årsarbetsschema!I27","v":"07:00:00"},{"$f":"Årsarbetsschema!J27","v":"00:00:00"},{"$f":"Årsarbetsschema!K27","v":"07:00:00"},{"$f":"Årsarbetsschema!L27","v":"07:00:00"},{"$f":"Årsarbetsschema!M27","v":"00:00:00"},{"$f":"Årsarbetsschema!N27","v":"00:00:00"},null,null,{"$f":"Årsarbetsschema!R27","v":6},{"$f":"Årsarbetsschema!S27","v":2},{"$f":"Årsarbetsschema!T27","v":4},{"$f":"Årsarbetsschema!U27","v":7},{"$f":"Årsarbetsschema!V27","v":2},{"$f":"Årsarbetsschema!X27","v":5},{"$f":"Årsarbetsschema!Y27","v":6},{"$f":"Årsarbetsschema!Z27","v":1},{"$f":"Årsarbetsschema!AA27","v":4},{"$f":"Årsarbetsschema!AB27","v":6},{"$f":"Årsarbetsschema!AC27","v":6}]
[null,null,null,null,null,null,23,{"$f":"Årsarbetsschema!C28","v":"00:00:00"},{"$f":"Årsarbetsschema!D28","v":"07:00:00"},{"$f":"Årsarbetsschema!E28","v":"07:00:00"},{"$f":"Årsarbetsschema!F28","v":"07:00:00"},{"$f":"Årsarbetsschema!G28","v":"00:00:00"},null,{"$f":"Årsarbetsschema!I28","v":"00:00:00"},{"$f":"Årsarbetsschema!J28","v":"00:00:00"},{"$f":"Årsarbetsschema!K28","v":"07:00:00"},{"$f":"Årsarbetsschema!L28","v":"07:00:00"},{"$f":"Årsarbetsschema!M28","v":"00:00:00"},{"$f":"Årsarbetsschema!N28","v":"00:00:00"},null,null,{"$f":"Årsarbetsschema!R28","v":7},{"$f":"Årsarbetsschema!S28","v":3},{"$f":"Årsarbetsschema!T28","v":5},{"$f":"Årsarbetsschema!U28","v":1},{"$f":"Årsarbetsschema!V28","v":6},{"$f":"Årsarbetsschema!X28","v":6},{"$f":"Årsarbetsschema!Y28","v":6},{"$f":"Årsarbetsschema!Z28","v":2},{"$f":"Årsarbetsschema!AA28","v":5},{"$f":"Årsarbetsschema!AB28","v":7},{"$f":"Årsarbetsschema!AC28","v":6}]
[null,null,null,null,null,null,24,{"$f":"Årsarbetsschema!C29","v":"07:00:00"},{"$f":"Årsarbetsschema!D29","v":"07:00:00"},{"$f":"Årsarbetsschema!E29","v":"00:00:00"},{"$f":"Årsarbetsschema!F29","v":"07:00:00"},{"$f":"Årsarbetsschema!G29","v":"00:00:00"},null,{"$f":"Årsarbetsschema!I29","v":"00:00:00"},{"$f":"Årsarbetsschema!J29","v":"00:00:00"},{"$f":"Årsarbetsschema!K29","v":"07:00:00"},{"$f":"Årsarbetsschema!L29","v":"00:00:00"},{"$f":"Årsarbetsschema!M29","v":"07:00:00"},{"$f":"Årsarbetsschema!N29","v":"00:00:00"},null,null,{"$f":"Årsarbetsschema!R29","v":1},{"$f":"Årsarbetsschema!S29","v":4},{"$f":"Årsarbetsschema!T29","v":6},{"$f":"Årsarbetsschema!U29","v":2},{"$f":"Årsarbetsschema!V29","v":6},{"$f":"Årsarbetsschema!X29","v":7},{"$f":"Årsarbetsschema!Y29","v":6},{"$f":"Årsarbetsschema!Z29","v":3},{"$f":"Årsarbetsschema!AA29","v":6},{"$f":"Årsarbetsschema!AB29","v":1},{"$f":"Årsarbetsschema!AC29","v":6}]
[null,null,null,null,null,null,25,{"$f":"Årsarbetsschema!C30","v":"07:00:00"},{"$f":"Årsarbetsschema!D30","v":"07:00:00"},{"$f":"Årsarbetsschema!E30","v":"00:00:00"},{"$f":"Årsarbetsschema!F30","v":"07:00:00"},{"$f":"Årsarbetsschema!G30","v":"00:00:00"},null,{"$f":"Årsarbetsschema!I30","v":"07:00:00"},{"$f":"Årsarbetsschema!J30","v":"00:00:00"},{"$f":"Årsarbetsschema!K30","v":"07:00:00"},{"$f":"Årsarbetsschema!L30","v":"00:00:00"},{"$f":"Årsarbetsschema!M30","v":"07:00:00"},{"$f":"Årsarbetsschema!N30","v":"00:00:00"},null,null,{"$f":"Årsarbetsschema!R30","v":2},{"$f":"Årsarbetsschema!S30","v":-1},{"$f":"Årsarbetsschema!T30","v":7},{"$f":"Årsarbetsschema!U30","v":3},{"$f":"Årsarbetsschema!V30","v":6},{"$f":"Årsarbetsschema!X30","v":1},{"$f":"Årsarbetsschema!Y30","v":6},{"$f":"Årsarbetsschema!Z30","v":4},{"$f":"Årsarbetsschema!AA30","v":7},{"$f":"Årsarbetsschema!AB30","v":2},{"$f":"Årsarbetsschema!AC30","v":6}]
["Årsavstämning - totalt",null,null,null,null,null,26,{"$f":"Årsarbetsschema!C31","v":"07:00:00"},{"$f":"Årsarbetsschema!D31","v":"00:00:00"},{"$f":"Årsarbetsschema!E31","v":"07:00:00"},{"$f":"Årsarbetsschema!F31","v":"07:00:00"},{"$f":"Årsarbetsschema!G31","v":"00:00:00"},null,{"$f":"Årsarbetsschema!I31","v":"07:00:00"},{"$f":"Årsarbetsschema!J31","v":"00:00:00"},{"$f":"Årsarbetsschema!K31","v":"00:00:00"},{"$f":"Årsarbetsschema!L31","v":"07:00:00"},{"$f":"Årsarbetsschema!M31","v":"07:00:00"},{"$f":"Årsarbetsschema!N31","v":"00:00:00"},null,null,{"$f":"Årsarbetsschema!R31","v":3},{"$f":"Årsarbetsschema!S31","v":6},{"$f":"Årsarbetsschema!T31","v":-1},{"$f":"Årsarbetsschema!U31","v":4},{"$f":"Årsarbetsschema!V31","v":6},{"$f":"Årsarbetsschema!X31","v":2},{"$f":"Årsarbetsschema!Y31","v":6},{"$f":"Årsarbetsschema!Z31","v":6},{"$f":"Årsarbetsschema!AA31","v":1},{"$f":"Årsarbetsschema!AB31","v":3},{"$f":"Årsarbetsschema!AC31","v":6}]
[null,null,null,null,null,null,27,{"$f":"Årsarbetsschema!C32","v":"07:00:00"},{"$f":"Årsarbetsschema!D32","v":"00:00:00"},{"$f":"Årsarbetsschema!E32","v":"07:00:00"},{"$f":"Årsarbetsschema!F32","v":"07:00:00"},{"$f":"Årsarbetsschema!G32","v":"00:00:00"},null,{"$f":"Årsarbetsschema!I32","v":"07:00:00"},{"$f":"Årsarbetsschema!J32","v":"00:00:00"},{"$f":"Årsarbetsschema!K32","v":"00:00:00"},{"$f":"Årsarbetsschema!L32","v":"07:00:00"},{"$f":"Årsarbetsschema!M32","v":"07:00:00"},{"$f":"Årsarbetsschema!N32","v":"00:00:00"},null,null,{"$f":"Årsarbetsschema!R32","v":4},{"$f":"Årsarbetsschema!S32","v":7},{"$f":"Årsarbetsschema!T32","v":-1},{"$f":"Årsarbetsschema!U32","v":5},{"$f":"Årsarbetsschema!V32","v":6},{"$f":"Årsarbetsschema!X32","v":3},{"$f":"Årsarbetsschema!Y32","v":6},{"$f":"Årsarbetsschema!Z32","v":6},{"$f":"Årsarbetsschema!AA32","v":2},{"$f":"Årsarbetsschema!AB32","v":4},{"$f":"Årsarbetsschema!AC32","v":6}]
["Planerad arbetstid",{"$f":"B7+B13+B19+B25","v":1358.0000000000002},null,null,null,null,28,{"$f":"Årsarbetsschema!C33","v":"07:00:00"},{"$f":"Årsarbetsschema!D33","v":"07:00:00"},{"$f":"Årsarbetsschema!E33","v":"07:00:00"},{"$f":"Årsarbetsschema!F33","v":"00:00:00"},{"$f":"Årsarbetsschema!G33","v":"00:00:00"},null,{"$f":"Årsarbetsschema!I33","v":"07:00:00"},{"$f":"Årsarbetsschema!J33","v":"00:00:00"},{"$f":"Årsarbetsschema!K33","v":"00:00:00"},{"$f":"Årsarbetsschema!L33","v":"07:00:00"},{"$f":"Årsarbetsschema!M33","v":"07:00:00"},{"$f":"Årsarbetsschema!N33","v":"00:00:00"},null,null,{"$f":"Årsarbetsschema!R33","v":5},{"$f":"Årsarbetsschema!S33","v":1},{"$f":"Årsarbetsschema!T33","v":-1},{"$f":"Årsarbetsschema!U33","v":6},{"$f":"Årsarbetsschema!V33","v":6},{"$f":"Årsarbetsschema!X33","v":4},{"$f":"Årsarbetsschema!Y33","v":7},{"$f":"Årsarbetsschema!Z33","v":7},{"$f":"Årsarbetsschema!AA33","v":3},{"$f":"Årsarbetsschema!AB33","v":5},{"$f":"Årsarbetsschema!AC33","v":6}]
["Faktiskt arbetad tid",{"$f":"B8+B14+B20+B26","v":0},null,null,null,null,29,{"$f":"Årsarbetsschema!C34","v":"00:00:00"},{"$f":"Årsarbetsschema!D34","v":"07:00:00"},{"$f":"Årsarbetsschema!E34","v":"00:00:00"},{"$f":"Årsarbetsschema!F34","v":"00:00:00"},{"$f":"Årsarbetsschema!G34","v":"00:00:00"},null,{"$f":"Årsarbetsschema!I34","v":"07:00:00"},null,{"$f":"Årsarbetsschema!K34","v":"00:00:00"},{"$f":"Årsarbetsschema!L34","v":"07:00:00"},{"$f":"Årsarbetsschema!M34","v":"00:00:00"},{"$f":"Årsarbetsschema!N34","v":"00:00:00"},null,null,{"$f":"Årsarbetsschema!R34","v":6},{"$f":"Årsarbetsschema!S34","v":2},{"$f":"Årsarbetsschema!T34","v":6},{"$f":"Årsarbetsschema!U34","v":7},{"$f":"Årsarbetsschema!V34","v":6},{"$f":"Årsarbetsschema!X34","v":5},null,{"$f":"Årsarbetsschema!Z34","v":6},{"$f":"Årsarbetsschema!AA34","v":4},{"$f":"Årsarbetsschema!AB34","v":6},{"$f":"Årsarbetsschema!AC34","v":6}]
["+/-",{"$f":"B33-(Uppgifter!E11*Uppgifter!E12)","v":-1.9999999999997726},null,null,null,null,30,{"$f":"Årsarbetsschema!C35","v":"00:00:00"},{"$f":"Årsarbetsschema!D35","v":"07:00:00"},{"$f":"Årsarbetsschema!E35","v":"00:00:00"},{"$f":"Årsarbetsschema!F35","v":"07:00:00"},{"$f":"Årsarbetsschema!G35","v":"00:00:00"},null,{"$f":"Årsarbetsschema!I35","v":"00:00:00"},null,{"$f":"Årsarbetsschema!K35","v":"00:00:00"},{"$f":"Årsarbetsschema!L35","v":"00:00:00"},{"$f":"Årsarbetsschema!M35","v":"00:00:00"},{"$f":"Årsarbetsschema!N35","v":"00:00:00"},null,null,{"$f":"Årsarbetsschema!R35","v":7},{"$f":"Årsarbetsschema!S35","v":3},{"$f":"Årsarbetsschema!T35","v":6},{"$f":"Årsarbetsschema!U35","v":1},{"$f":"Årsarbetsschema!V35","v":6},{"$f":"Årsarbetsschema!X35","v":6},null,{"$f":"Årsarbetsschema!Z35","v":6},{"$f":"Årsarbetsschema!AA35","v":6},{"$f":"Årsarbetsschema!AB35","v":7},{"$f":"Årsarbetsschema!AC35","v":6}]
["Kontroll",{"$f":"Uppgifter!E13-B34","v":1360},"Skall bli = 0 vid läsårets slut",null,null,null,31,{"$f":"Årsarbetsschema!C36","v":"07:00:00"},null,{"$f":"Årsarbetsschema!E36","v":"00:00:00"},null,{"$f":"Årsarbetsschema!G36","v":"00:00:00"},null,{"$f":"Årsarbetsschema!I36","v":"00:00:00"},null,{"$f":"Årsarbetsschema!K36","v":"00:00:00"},null,{"$f":"Årsarbetsschema!M36","v":"07:00:00"},null,null,null,{"$f":"Årsarbetsschema!R36","v":1},null,{"$f":"Årsarbetsschema!T36","v":6},null,{"$f":"Årsarbetsschema!V36","v":6},{"$f":"Årsarbetsschema!X36","v":7},null,{"$f":"Årsarbetsschema!Z36","v":6},null,{"$f":"Årsarbetsschema!AB36","v":1}]
[]
[null,null,null,null,null,null,null,{"$f":"Årsarbetsschema!C38","v":112},{"$f":"Årsarbetsschema!D38","v":154.00000000000006},{"$f":"Årsarbetsschema!E38","v":140.00000000000003},{"$f":"Årsarbetsschema!F38","v":147.00000000000006},{"$f":"Årsarbetsschema!G38","v":112},null,{"$f":"Årsarbetsschema!I38","v":105},{"$f":"Årsarbetsschema!J38","v":105},{"$f":"Årsarbetsschema!K38","v":133.00000000000003},{"$f":"Årsarbetsschema!L38","v":133.00000000000003},{"$f":"Årsarbetsschema!M38","v":133.00000000000003},{"$f":"SUM(S6:S36)*24","v":83.999999999999986},{"$f":"SUM(H38:S38)","v":1358.0000000000002}]

{"sheet":"Aug","index":5,"n_rows":38,"n_cols":16,"rows_kept":38,"cut":false,"hidden":false,"merged":[[2,9,2,10]]}
[null,{"$f":"PROPER(TEXT(B4,\"MMMM ÅÅÅÅ\"))","v":"Augusti 2026"},null,null,null,null,{"$f":"IF(Uppgifter!$C$6=\"\",\"\",Uppgifter!$C$6)","v":""}]
[null,null,null,null,null,null,null,null,null,null,null,null,null,"Dagsumma","Vdag"]
[null,"Datum","Kod","In","Ut","Lunch","Planerat","Ledighet","Arbetstid","Förtroendetid",null,"Anteckningar"]
[null,{"$f":"DATEVALUE(Uppgifter!C4 & \"-08-01\")","v":"2026-08-01"},null,null,null,null,null,null,{"$f":"IF(N4<0,-N4,N4)","v":0},"+",0,null,null,{"$f":"IF(E4>0,E4-D4-F4-H4,IF(C4=\"\",0,IF(C4=\"F\",0,Årsarbetsschema!$C6)))","v":0},{"$f":"Årsarbetsschema!R6","v":6},"Sj"]
[null,{"$f":"B4+1","v":"2026-08-02"},null,null,null,null,null,null,0,"+",0,null,null,{"$f":"IF(E5>0,E5-D5-F5-H5,IF(C5=\"\",0,IF(C5=\"F\",0,Årsarbetsschema!$C7)))","v":0},{"$f":"Årsarbetsschema!R7","v":6},"Tj"]
[null,{"$f":"B5+1","v":"2026-08-03"},null,null,null,null,null,null,0,"+",0,null,null,{"$f":"IF(E6>0,E6-D6-F6-H6,IF(C6=\"\",0,IF(C6=\"F\",0,Årsarbetsschema!$C8)))","v":0},{"$f":"Årsarbetsschema!R8","v":6},"VB"]
[null,"2026-08-04",null,null,null,null,null,null,0,"+",0,null,null,{"$f":"IF(E7>0,E7-D7-F7-H7,IF(C7=\"\",0,IF(C7=\"F\",0,Årsarbetsschema!$C9)))","v":0},{"$f":"Årsarbetsschema!R9","v":6},"FL"]
[null,"2026-08-05",null,null,null,null,null,null,0,"+",0,null,null,{"$f":"IF(E8>0,E8-D8-F8-H8,IF(C8=\"\",0,IF(C8=\"F\",0,Årsarbetsschema!$C10)))","v":0},{"$f":"Årsarbetsschema!R10","v":6}]
[null,"2026-08-06",null,null,null,null,null,null,0,"+",0,null,null,{"$f":"IF(E9>0,E9-D9-F9-H9,IF(C9=\"\",0,IF(C9=\"F\",0,Årsarbetsschema!$C11)))","v":0},{"$f":"Årsarbetsschema!R11","v":6}]
[null,"2026-08-07",null,null,null,null,null,null,0,"+",0,null,null,{"$f":"IF(E10>0,E10-D10-F10-H10,IF(C10=\"\",0,IF(C10=\"F\",0,Årsarbetsschema!$C12)))","v":0},{"$f":"Årsarbetsschema!R12","v":6}]
[null,"2026-08-08",null,null,null,null,null,null,0,"+",0,null,null,{"$f":"IF(E11>0,E11-D11-F11-H11,IF(C11=\"\",0,IF(C11=\"F\",0,Årsarbetsschema!$C13)))","v":0},{"$f":"Årsarbetsschema!R13","v":6}]
[null,"2026-08-09",null,null,null,null,null,null,0,"+",0,null,null,{"$f":"IF(E12>0,E12-D12-F12-H12,IF(C12=\"\",0,IF(C12=\"F\",0,Årsarbetsschema!$C14)))","v":0},{"$f":"Årsarbetsschema!R14","v":6}]
[null,"2026-08-10",null,null,null,null,null,null,0,"+",0,null,null,{"$f":"IF(E13>0,E13-D13-F13-H13,IF(C13=\"\",0,IF(C13=\"F\",0,Årsarbetsschema!$C15)))","v":0},{"$f":"Årsarbetsschema!R15","v":-1}]
[null,"2026-08-11",null,null,null,null,null,null,0,"+",0,null,null,{"$f":"IF(E14>0,E14-D14-F14-H14,IF(C14=\"\",0,IF(C14=\"F\",0,Årsarbetsschema!$C16)))","v":0},{"$f":"Årsarbetsschema!R16","v":-1}]
[null,"2026-08-12",null,null,null,null,null,null,0,"+",0,null,null,{"$f":"IF(E15>0,E15-D15-F15-H15,IF(C15=\"\",0,IF(C15=\"F\",0,Årsarbetsschema!$C17)))","v":0},{"$f":"Årsarbetsschema!R17","v":-1}]
[null,"2026-08-13",null,null,null,null,null,null,0,"+",0,null,null,{"$f":"IF(E16>0,E16-D16-F16-H16,IF(C16=\"\",0,IF(C16=\"F\",0,Årsarbetsschema!$C18)))","v":0},{"$f":"Årsarbetsschema!R18","v":-1}]
[null,"2026-08-14",null,null,null,null,null,null,0,"+",0,null,null,{"$f":"IF(E17>0,E17-D17-F17-H17,IF(C17=\"\",0,IF(C17=\"F\",0,Årsarbetsschema!$C19)))","v":0},{"$f":"Årsarbetsschema!R19","v":-1}]
[null,"2026-08-15",null,null,null,null,null,null,0,"+",0,null,null,{"$f":"IF(E18>0,E18-D18-F18-H18,IF(C18=\"\",0,IF(C18=\"F\",0,Årsarbetsschema!$C20)))","v":0},{"$f":"Årsarbetsschema!R20","v":6}]
[null,"2026-08-16",null,null,null,null,null,null,0,"+",0,null,null,{"$f":"IF(E19>0,E19-D19-F19-H19,IF(C19=\"\",0,IF(C19=\"F\",0,Årsarbetsschema!$C21)))","v":0},{"$f":"Årsarbetsschema!R21","v":7}]
[null,"2026-08-17",null,null,null,null,null,null,0,"+",0,null,null,{"$f":"IF(E20>0,E20-D20-F20-H20,IF(C20=\"\",0,IF(C20=\"F\",0,Årsarbetsschema!$C22)))","v":0},{"$f":"Årsarbetsschema!R22","v":-1}]
[null,"2026-08-18",null,null,null,null,null,null,0,"+",0,null,null,{"$f":"IF(E21>0,E21-D21-F21-H21,IF(C21=\"\",0,IF(C21=\"F\",0,Årsarbetsschema!$C23)))","v":0},{"$f":"Årsarbetsschema!R23","v":2}]
[null,"2026-08-19",null,null,null,null,null,null,0,"+",0,null,null,{"$f":"IF(E22>0,E22-D22-F22-H22,IF(C22=\"\",0,IF(C22=\"F\",0,Årsarbetsschema!$C24)))","v":0},{"$f":"Årsarbetsschema!R24","v":3}]
[null,"2026-08-20",null,null,null,null,null,null,0,"+",0,null,null,{"$f":"IF(E23>0,E23-D23-F23-H23,IF(C23=\"\",0,IF(C23=\"F\",0,Årsarbetsschema!$C25)))","v":0},{"$f":"Årsarbetsschema!R25","v":4}]
[null,"2026-08-21",null,null,null,null,null,null,0,"+",0,null,null,{"$f":"IF(E24>0,E24-D24-F24-H24,IF(C24=\"\",0,IF(C24=\"F\",0,Årsarbetsschema!$C26)))","v":0},{"$f":"Årsarbetsschema!R26","v":5}]
[null,"2026-08-22",null,null,null,null,null,null,0,"+",0,null,null,{"$f":"IF(E25>0,E25-D25-F25-H25,IF(C25=\"\",0,IF(C25=\"F\",0,Årsarbetsschema!$C27)))","v":0},{"$f":"Årsarbetsschema!R27","v":6}]
[null,"2026-08-23",null,null,null,null,null,null,0,"+",0,null,null,{"$f":"IF(E26>0,E26-D26-F26-H26,IF(C26=\"\",0,IF(C26=\"F\",0,Årsarbetsschema!$C28)))","v":0},{"$f":"Årsarbetsschema!R28","v":7}]
[null,"2026-08-24",null,null,null,null,null,null,0,"+",0,null,null,{"$f":"IF(E27>0,E27-D27-F27-H27,IF(C27=\"\",0,IF(C27=\"F\",0,Årsarbetsschema!$C29)))","v":0},{"$f":"Årsarbetsschema!R29","v":1}]
[null,"2026-08-25",null,null,null,null,null,null,0,"+",0,null,null,{"$f":"IF(E28>0,E28-D28-F28-H28,IF(C28=\"\",0,IF(C28=\"F\",0,Årsarbetsschema!$C30)))","v":0},{"$f":"Årsarbetsschema!R30","v":2}]
[null,"2026-08-26",null,null,null,null,null,null,0,"+",0,null,null,{"$f":"IF(E29>0,E29-D29-F29-H29,IF(C29=\"\",0,IF(C29=\"F\",0,Årsarbetsschema!$C31)))","v":0},{"$f":"Årsarbetsschema!R31","v":3}]
[null,"2026-08-27",null,null,null,null,null,null,0,"+",0,null,null,{"$f":"IF(E30>0,E30-D30-F30-H30,IF(C30=\"\",0,IF(C30=\"F\",0,Årsarbetsschema!$C32)))","v":0},{"$f":"Årsarbetsschema!R32","v":4}]
[null,"2026-08-28",null,null,null,null,null,null,0,"+",0,null,null,{"$f":"IF(E31>0,E31-D31-F31-H31,IF(C31=\"\",0,IF(C31=\"F\",0,Årsarbetsschema!$C33)))","v":0},{"$f":"Årsarbetsschema!R33","v":5}]
[null,"2026-08-29",null,null,null,null,null,null,0,"+",0,null,null,{"$f":"IF(E32>0,E32-D32-F32-H32,IF(C32=\"\",0,IF(C32=\"F\",0,Årsarbetsschema!$C34)))","v":0},{"$f":"Årsarbetsschema!R34","v":6}]
[null,"2026-08-30",null,null,null,null,null,null,0,"+",0,null,null,{"$f":"IF(E33>0,E33-D33-F33-H33,IF(C33=\"\",0,IF(C33=\"F\",0,Årsarbetsschema!$C35)))","v":0},{"$f":"Årsarbetsschema!R35","v":7}]
[null,"2026-08-31",null,null,null,null,null,null,0,"+",0,null,null,{"$f":"IF(E34>0,E34-D34-F34-H34,IF(C34=\"\",0,IF(C34=\"F\",0,Årsarbetsschema!$C36)))","v":0},{"$f":"Årsarbetsschema!R36","v":1}]
[null,null,null,null,null,null,null,"Månad",0,"+",{"$f":"SUM(K4:K34)","v":0},null,null,{"$f":"SUM(N4:N34)","v":0}]
[null,null,null,null,null,null,null,"Totalt",0,"+",{"$f":"K35","v":0},null,null,{"$f":"N35+N3","v":0}]
[]
[null,{"$f":"IF(Uppgifter!$C$6=\"\",\"\",Uppgifter!$C$6)","v":""}]

{"sheet":"Sept","index":6,"n_rows":38,"n_cols":16,"rows_kept":38,"cut":false,"hidden":false,"merged":[[2,9,2,10]]}
[null,{"$f":"PROPER(TEXT(B4,\"MMMM ÅÅÅÅ\"))","v":"September 2026"},null,null,null,null,{"$f":"IF(Uppgifter!$C$6=\"\",\"\",Uppgifter!$C$6)","v":""}]
[null,null,null,null,null,null,null,null,null,null,null,null,null,"Dagsumma","Vdag"]
[null,"Datum","Kod","In","Ut","Lunch","Planerat","Ledighet","Arbetstid","Förtroendetid",null,"Anteckningar",null,{"$f":"Aug!N36","v":0}]
[null,{"$f":"DATEVALUE(Uppgifter!C4 & \"-09-01\")","v":"2026-09-01"},null,null,null,null,null,null,{"$f":"IF(N4<0,-N4,N4)","v":0},"+",0,null,null,{"$f":"IF(E4>0,E4-D4-F4-H4,IF(C4=\"\",0,IF(C4=\"F\",0,Årsarbetsschema!$D6)))","v":0},{"$f":"Årsarbetsschema!S6","v":2},"Sj"]
[null,{"$f":"B4+1","v":"2026-09-02"},null,null,null,null,null,null,{"$f":"IF(N5<0,-N5,N5)","v":0},"+",0,null,null,{"$f":"IF(E5>0,E5-D5-F5-H5,IF(C5=\"\",0,IF(C5=\"F\",0,Årsarbetsschema!$D7)))","v":0},{"$f":"Årsarbetsschema!S7","v":3},"Tj"]
[null,{"$f":"B5+1","v":"2026-09-03"},null,null,null,null,null,null,0,"+",0,null,null,{"$f":"IF(E6>0,E6-D6-F6-H6,IF(C6=\"\",0,IF(C6=\"F\",0,Årsarbetsschema!$D8)))","v":0},{"$f":"Årsarbetsschema!S8","v":4},"VB"]
[null,"2026-09-04",null,null,null,null,null,null,0,"+",0,null,null,{"$f":"IF(E7>0,E7-D7-F7-H7,IF(C7=\"\",0,IF(C7=\"F\",0,Årsarbetsschema!$D9)))","v":0},{"$f":"Årsarbetsschema!S9","v":5},"FL"]
[null,"2026-09-05",null,null,null,null,null,null,0,"+",0,null,null,{"$f":"IF(E8>0,E8-D8-F8-H8,IF(C8=\"\",0,IF(C8=\"F\",0,Årsarbetsschema!$D10)))","v":0},{"$f":"Årsarbetsschema!S10","v":6}]
[null,"2026-09-06",null,null,null,null,null,null,0,"+",0,null,null,{"$f":"IF(E9>0,E9-D9-F9-H9,IF(C9=\"\",0,IF(C9=\"F\",0,Årsarbetsschema!$D11)))","v":0},{"$f":"Årsarbetsschema!S11","v":7}]
[null,"2026-09-07",null,null,null,null,null,null,0,"+",0,null,null,{"$f":"IF(E10>0,E10-D10-F10-H10,IF(C10=\"\",0,IF(C10=\"F\",0,Årsarbetsschema!$D12)))","v":0},{"$f":"Årsarbetsschema!S12","v":1}]
[null,"2026-09-08",null,null,null,null,null,null,0,"+",0,null,null,{"$f":"IF(E11>0,E11-D11-F11-H11,IF(C11=\"\",0,IF(C11=\"F\",0,Årsarbetsschema!$D13)))","v":0},{"$f":"Årsarbetsschema!S13","v":2}]
[null,"2026-09-09",null,null,null,null,null,null,0,"+",0,null,null,{"$f":"IF(E12>0,E12-D12-F12-H12,IF(C12=\"\",0,IF(C12=\"F\",0,Årsarbetsschema!$D14)))","v":0},{"$f":"Årsarbetsschema!S14","v":3}]
[null,"2026-09-10",null,null,null,null,null,null,0,"+",0,null,null,{"$f":"IF(E13>0,E13-D13-F13-H13,IF(C13=\"\",0,IF(C13=\"F\",0,Årsarbetsschema!$D15)))","v":0},{"$f":"Årsarbetsschema!S15","v":4}]
[null,"2026-09-11",null,null,null,null,null,null,0,"+",0,null,null,{"$f":"IF(E14>0,E14-D14-F14-H14,IF(C14=\"\",0,IF(C14=\"F\",0,Årsarbetsschema!$D16)))","v":0},{"$f":"Årsarbetsschema!S16","v":5}]
[null,"2026-09-12",null,null,null,null,null,null,0,"+",0,null,null,{"$f":"IF(E15>0,E15-D15-F15-H15,IF(C15=\"\",0,IF(C15=\"F\",0,Årsarbetsschema!$D17)))","v":0},{"$f":"Årsarbetsschema!S17","v":6}]
[null,"2026-09-13",null,null,null,null,null,null,0,"+",0,null,null,{"$f":"IF(E16>0,E16-D16-F16-H16,IF(C16=\"\",0,IF(C16=\"F\",0,Årsarbetsschema!$D18)))","v":0},{"$f":"Årsarbetsschema!S18","v":7}]
[null,"2026-09-14",null,null,null,null,null,null,{"$f":"IF(N17<0,-N17,N17)","v":0},"+",0,null,null,{"$f":"IF(E17>0,E17-D17-F17-H17,IF(C17=\"\",0,IF(C17=\"F\",0,Årsarbetsschema!$D19)))","v":0},{"$f":"Årsarbetsschema!S19","v":1}]
[null,"2026-09-15",null,null,null,null,null,null,0,"+",0,null,null,{"$f":"IF(E18>0,E18-D18-F18-H18,IF(C18=\"\",0,IF(C18=\"F\",0,Årsarbetsschema!$D20)))","v":0},{"$f":"Årsarbetsschema!S20","v":2}]
[null,"2026-09-16",null,null,null,null,null,null,0,"+",0,null,null,{"$f":"IF(E19>0,E19-D19-F19-H19,IF(C19=\"\",0,IF(C19=\"F\",0,Årsarbetsschema!$D21)))","v":0},{"$f":"Årsarbetsschema!S21","v":3}]
[null,"2026-09-17",null,null,null,null,null,null,0,"+",0,null,null,{"$f":"IF(E20>0,E20-D20-F20-H20,IF(C20=\"\",0,IF(C20=\"F\",0,Årsarbetsschema!$D22)))","v":0},{"$f":"Årsarbetsschema!S22","v":4}]
[null,"2026-09-18",null,null,null,null,null,null,0,"+",0,null,null,{"$f":"IF(E21>0,E21-D21-F21-H21,IF(C21=\"\",0,IF(C21=\"F\",0,Årsarbetsschema!$D23)))","v":0},{"$f":"Årsarbetsschema!S23","v":5}]
[null,"2026-09-19",null,null,null,null,null,null,0,"+",0,null,null,{"$f":"IF(E22>0,E22-D22-F22-H22,IF(C22=\"\",0,IF(C22=\"F\",0,Årsarbetsschema!$D24)))","v":0},{"$f":"Årsarbetsschema!S24","v":6}]
[null,"2026-09-20",null,null,null,null,null,null,0,"+",0,null,null,{"$f":"IF(E23>0,E23-D23-F23-H23,IF(C23=\"\",0,IF(C23=\"F\",0,Årsarbetsschema!$D25)))","v":0},{"$f":"Årsarbetsschema!S25","v":7}]
[null,"2026-09-21",null,null,null,null,null,null,0,"+",0,null,null,{"$f":"IF(E24>0,E24-D24-F24-H24,IF(C24=\"\",0,IF(C24=\"F\",0,Årsarbetsschema!$D26)))","v":0},{"$f":"Årsarbetsschema!S26","v":1}]
[null,"2026-09-22",null,null,null,null,null,null,0,"+",0,null,null,{"$f":"IF(E25>0,E25-D25-F25-H25,IF(C25=\"\",0,IF(C25=\"F\",0,Årsarbetsschema!$D27)))","v":0},{"$f":"Årsarbetsschema!S27","v":2}]
[null,"2026-09-23",null,null,null,null,null,null,0,"+",0,null,null,{"$f":"IF(E26>0,E26-D26-F26-H26,IF(C26=\"\",0,IF(C26=\"F\",0,Årsarbetsschema!$D28)))","v":0},{"$f":"Årsarbetsschema!S28","v":3}]
[null,"2026-09-24",null,null,null,null,null,null,0,"+",0,null,null,{"$f":"IF(E27>0,E27-D27-F27-H27,IF(C27=\"\",0,IF(C27=\"F\",0,Årsarbetsschema!$D29)))","v":0},{"$f":"Årsarbetsschema!S29","v":4}]
[null,"2026-09-25",null,null,null,null,null,null,0,"+",0,null,null,{"$f":"IF(E28>0,E28-D28-F28-H28,IF(C28=\"\",0,IF(C28=\"F\",0,Årsarbetsschema!$D30)))","v":0},{"$f":"Årsarbetsschema!S30","v":-1}]
[null,"2026-09-26",null,null,null,null,null,null,0,"+",0,null,null,{"$f":"IF(E29>0,E29-D29-F29-H29,IF(C29=\"\",0,IF(C29=\"F\",0,Årsarbetsschema!$D31)))","v":0},{"$f":"Årsarbetsschema!S31","v":6}]
[null,"2026-09-27",null,null,null,null,null,null,0,"+",0,null,null,{"$f":"IF(E30>0,E30-D30-F30-H30,IF(C30=\"\",0,IF(C30=\"F\",0,Årsarbetsschema!$D32)))","v":0},{"$f":"Årsarbetsschema!S32","v":7}]
[null,"2026-09-28",null,null,null,null,null,null,0,"+",0,null,null,{"$f":"IF(E31>0,E31-D31-F31-H31,IF(C31=\"\",0,IF(C31=\"F\",0,Årsarbetsschema!$D33)))","v":0},{"$f":"Årsarbetsschema!S33","v":1}]
[null,"2026-09-29",null,null,null,null,null,null,0,"+",0,null,null,{"$f":"IF(E32>0,E32-D32-F32-H32,IF(C32=\"\",0,IF(C32=\"F\",0,Årsarbetsschema!$D34)))","v":0},{"$f":"Årsarbetsschema!S34","v":2}]
[null,"2026-09-30",null,null,null,null,null,null,{"$f":"IF(N33<0,-N33,N33)","v":0},"+",0,null,null,{"$f":"IF(E33>0,E33-D33-F33-H33,IF(C33=\"\",0,IF(C33=\"F\",0,Årsarbetsschema!$D35)))","v":0},{"$f":"Årsarbetsschema!S35","v":3}]
[null,"2026-10-01",null,null,null,"00:30:00",147.00000000000006,null,0,{"$f":"IF(#REF!>=0,\"+\",\"-\")","v":{"$error":"#REF!"}},{"$f":"IF(#REF!<0,-#REF!,#REF!)","v":{"$error":"#REF!"}},null,null,{"$f":"IF(E34>0,E34-D34-F34-H34,IF(C34=\"\",0,IF(C34=\"F\",0,Årsarbetsschema!$D$40)))","v":0},{"$f":"WEEKDAY(B34,2)","v":4}]
[null,null,null,null,null,null,null,"Månad",{"$f":"IF(N35<0,-N35,N35)","v":0},"+",{"$f":"SUM(K4:K33)","v":0},null,null,{"$f":"SUM(N4:N34)","v":0}]
[null,null,null,null,null,null,null,"Totalt",{"$f":"IF(N36<0,-N36,N36)","v":0},"+",{"$f":"Aug!K36+Sept!K35","v":0},null,null,{"$f":"N35+N3","v":0}]
[]
[null,{"$f":"IF(Uppgifter!$C$6=\"\",\"\",Uppgifter!$C$6)","v":""}]

{"sheet":"Okt","index":7,"n_rows":38,"n_cols":16,"rows_kept":38,"cut":false,"hidden":false,"merged":[[2,9,2,10]]}
[null,{"$f":"PROPER(TEXT(B4,\"MMMM ÅÅÅÅ\"))","v":"Oktober 2026"},null,null,null,null,{"$f":"IF(Uppgifter!$C$6=\"\",\"\",Uppgifter!$C$6)","v":""}]
[null,null,null,null,null,null,null,null,null,null,null,null,null,"Dagsumma","Vdag"]
[null,"Datum","Kod","In","Ut","Lunch","Planerat","Ledighet","Arbetstid","Förtroendetid",null,"Anteckningar",null,{"$f":"Sept!N36","v":0}]
[null,{"$f":"DATEVALUE(Uppgifter!C4 & \"-10-01\")","v":"2026-10-01"},null,null,null,null,null,null,{"$f":"IF(N4<0,-N4,N4)","v":0},"+",0,null,null,{"$f":"IF(E4>0,E4-D4-F4-H4,IF(C4=\"\",0,IF(C4=\"F\",0,Årsarbetsschema!$E6)))","v":0},{"$f":"Årsarbetsschema!T6","v":4},"Sj"]
[null,{"$f":"B4+1","v":"2026-10-02"},null,null,null,null,null,null,{"$f":"IF(N5<0,-N5,N5)","v":0},"+",0,null,null,{"$f":"IF(E5>0,E5-D5-F5-H5,IF(C5=\"\",0,IF(C5=\"F\",0,Årsarbetsschema!$E7)))","v":0},{"$f":"Årsarbetsschema!T7","v":5},"Tj"]
[null,{"$f":"B5+1","v":"2026-10-03"},null,null,null,null,null,null,0,"+",0,null,null,{"$f":"IF(E6>0,E6-D6-F6-H6,IF(C6=\"\",0,IF(C6=\"F\",0,Årsarbetsschema!$E8)))","v":0},{"$f":"Årsarbetsschema!T8","v":6},"VB"]
[null,"2026-10-04",null,null,null,null,null,null,0,"+",0,null,null,{"$f":"IF(E7>0,E7-D7-F7-H7,IF(C7=\"\",0,IF(C7=\"F\",0,Årsarbetsschema!$E9)))","v":0},{"$f":"Årsarbetsschema!T9","v":7},"FL"]
[null,"2026-10-05",null,null,null,null,null,null,0,"+",0,null,null,{"$f":"IF(E8>0,E8-D8-F8-H8,IF(C8=\"\",0,IF(C8=\"F\",0,Årsarbetsschema!$E10)))","v":0},{"$f":"Årsarbetsschema!T10","v":1}]
[null,"2026-10-06",null,null,null,null,null,null,0,"+",0,null,null,{"$f":"IF(E9>0,E9-D9-F9-H9,IF(C9=\"\",0,IF(C9=\"F\",0,Årsarbetsschema!$E11)))","v":0},{"$f":"Årsarbetsschema!T11","v":2}]
[null,"2026-10-07",null,null,null,null,null,null,0,"+",0,null,null,{"$f":"IF(E10>0,E10-D10-F10-H10,IF(C10=\"\",0,IF(C10=\"F\",0,Årsarbetsschema!$E12)))","v":0},{"$f":"Årsarbetsschema!T12","v":3}]
[null,"2026-10-08",null,null,null,null,null,null,0,"+",0,null,null,{"$f":"IF(E11>0,E11-D11-F11-H11,IF(C11=\"\",0,IF(C11=\"F\",0,Årsarbetsschema!$E13)))","v":0},{"$f":"Årsarbetsschema!T13","v":4}]
[null,"2026-10-09",null,null,null,null,null,null,0,"+",0,null,null,{"$f":"IF(E12>0,E12-D12-F12-H12,IF(C12=\"\",0,IF(C12=\"F\",0,Årsarbetsschema!$E14)))","v":0},{"$f":"Årsarbetsschema!T14","v":5}]
[null,"2026-10-10",null,null,null,null,null,null,0,"+",0,null,null,{"$f":"IF(E13>0,E13-D13-F13-H13,IF(C13=\"\",0,IF(C13=\"F\",0,Årsarbetsschema!$E15)))","v":0},{"$f":"Årsarbetsschema!T15","v":6}]
[null,"2026-10-11",null,null,null,null,null,null,0,"+",0,null,null,{"$f":"IF(E14>0,E14-D14-F14-H14,IF(C14=\"\",0,IF(C14=\"F\",0,Årsarbetsschema!$E16)))","v":0},{"$f":"Årsarbetsschema!T16","v":7}]
[null,"2026-10-12",null,null,null,null,null,null,0,"+",0,null,null,{"$f":"IF(E15>0,E15-D15-F15-H15,IF(C15=\"\",0,IF(C15=\"F\",0,Årsarbetsschema!$E17)))","v":0},{"$f":"Årsarbetsschema!T17","v":1}]
[null,"2026-10-13",null,null,null,null,null,null,0,"+",0,null,null,{"$f":"IF(E16>0,E16-D16-F16-H16,IF(C16=\"\",0,IF(C16=\"F\",0,Årsarbetsschema!$E18)))","v":0},{"$f":"Årsarbetsschema!T18","v":2}]
[null,"2026-10-14",null,null,null,null,null,null,0,"+",0,null,null,{"$f":"IF(E17>0,E17-D17-F17-H17,IF(C17=\"\",0,IF(C17=\"F\",0,Årsarbetsschema!$E19)))","v":0},{"$f":"Årsarbetsschema!T19","v":3}]
[null,"2026-10-15",null,null,null,null,null,null,0,"+",0,null,null,{"$f":"IF(E18>0,E18-D18-F18-H18,IF(C18=\"\",0,IF(C18=\"F\",0,Årsarbetsschema!$E20)))","v":0},{"$f":"Årsarbetsschema!T20","v":4}]
[null,"2026-10-16",null,null,null,null,null,null,0,"+",0,null,null,{"$f":"IF(E19>0,E19-D19-F19-H19,IF(C19=\"\",0,IF(C19=\"F\",0,Årsarbetsschema!$E21)))","v":0},{"$f":"Årsarbetsschema!T21","v":5}]
[null,"2026-10-17",null,null,null,null,null,null,0,"+",0,null,null,{"$f":"IF(E20>0,E20-D20-F20-H20,IF(C20=\"\",0,IF(C20=\"F\",0,Årsarbetsschema!$E22)))","v":0},{"$f":"Årsarbetsschema!T22","v":6}]
[null,"2026-10-18",null,null,null,null,null,null,0,"+",0,null,null,{"$f":"IF(E21>0,E21-D21-F21-H21,IF(C21=\"\",0,IF(C21=\"F\",0,Årsarbetsschema!$E23)))","v":0},{"$f":"Årsarbetsschema!T23","v":7}]
[null,"2026-10-19",null,null,null,null,null,null,0,"+",0,null,null,{"$f":"IF(E22>0,E22-D22-F22-H22,IF(C22=\"\",0,IF(C22=\"F\",0,Årsarbetsschema!$E24)))","v":0},{"$f":"Årsarbetsschema!T24","v":1}]
[null,"2026-10-20",null,null,null,null,null,null,0,"+",0,null,null,{"$f":"IF(E23>0,E23-D23-F23-H23,IF(C23=\"\",0,IF(C23=\"F\",0,Årsarbetsschema!$E25)))","v":0},{"$f":"Årsarbetsschema!T25","v":2}]
[null,"2026-10-21",null,null,null,null,null,null,0,"+",0,null,null,{"$f":"IF(E24>0,E24-D24-F24-H24,IF(C24=\"\",0,IF(C24=\"F\",0,Årsarbetsschema!$E26)))","v":0},{"$f":"Årsarbetsschema!T26","v":3}]
[null,"2026-10-22",null,null,null,null,null,null,0,"+",0,null,null,{"$f":"IF(E25>0,E25-D25-F25-H25,IF(C25=\"\",0,IF(C25=\"F\",0,Årsarbetsschema!$E27)))","v":0},{"$f":"Årsarbetsschema!T27","v":4}]
[null,"2026-10-23",null,null,null,null,null,null,0,"+",0,null,null,{"$f":"IF(E26>0,E26-D26-F26-H26,IF(C26=\"\",0,IF(C26=\"F\",0,Årsarbetsschema!$E28)))","v":0},{"$f":"Årsarbetsschema!T28","v":5}]
[null,"2026-10-24",null,null,null,null,null,null,0,"+",0,null,null,{"$f":"IF(E27>0,E27-D27-F27-H27,IF(C27=\"\",0,IF(C27=\"F\",0,Årsarbetsschema!$E29)))","v":0},{"$f":"Årsarbetsschema!T29","v":6}]
[null,"2026-10-25",null,null,null,null,null,null,0,"+",0,null,null,{"$f":"IF(E28>0,E28-D28-F28-H28,IF(C28=\"\",0,IF(C28=\"F\",0,Årsarbetsschema!$E30)))","v":0},{"$f":"Årsarbetsschema!T30","v":7}]
[null,"2026-10-26",null,null,null,null,null,null,0,"+",0,null,null,{"$f":"IF(E29>0,E29-D29-F29-H29,IF(C29=\"\",0,IF(C29=\"F\",0,Årsarbetsschema!$E31)))","v":0},{"$f":"Årsarbetsschema!T31","v":-1}]
[null,"2026-10-27",null,null,null,null,null,null,0,"+",0,null,null,{"$f":"IF(E30>0,E30-D30-F30-H30,IF(C30=\"\",0,IF(C30=\"F\",0,Årsarbetsschema!$E32)))","v":0},{"$f":"Årsarbetsschema!T32","v":-1}]
[null,"2026-10-28",null,null,null,null,null,null,0,"+",0,null,null,{"$f":"IF(E31>0,E31-D31-F31-H31,IF(C31=\"\",0,IF(C31=\"F\",0,Årsarbetsschema!$E33)))","v":0},{"$f":"Årsarbetsschema!T33","v":-1}]
[null,"2026-10-29",null,null,null,null,null,null,0,"+",0,null,null,{"$f":"IF(E32>0,E32-D32-F32-H32,IF(C32=\"\",0,IF(C32=\"F\",0,Årsarbetsschema!$E34)))","v":0},{"$f":"Årsarbetsschema!T34","v":6}]
[null,"2026-10-30",null,null,null,null,null,null,0,"+",0,null,null,{"$f":"IF(E33>0,E33-D33-F33-H33,IF(C33=\"\",0,IF(C33=\"F\",0,Årsarbetsschema!$E35)))","v":0},{"$f":"Årsarbetsschema!T35","v":6}]
[null,"2026-10-31",null,null,null,null,null,null,0,"+",0,null,null,{"$f":"IF(E34>0,E34-D34-F34-H34,IF(C34=\"\",0,IF(C34=\"F\",0,Årsarbetsschema!$E36)))","v":0},{"$f":"Årsarbetsschema!T36","v":6}]
[null,null,null,null,null,null,null,"Månad",{"$f":"IF(N35<0,-N35,N35)","v":0},"+",{"$f":"SUM(K4:K34)","v":0},null,null,{"$f":"SUM(N4:N34)","v":0}]
[null,null,null,null,null,null,null,"Totalt",{"$f":"IF(N36<0,-N36,N36)","v":0},"+",{"$f":"Sept!K36+Okt!K35","v":0},null,null,{"$f":"N35+N3","v":0}]
[]
[null,{"$f":"IF(Uppgifter!$C$6=\"\",\"\",Uppgifter!$C$6)","v":""}]

{"sheet":"Nov","index":8,"n_rows":38,"n_cols":16,"rows_kept":38,"cut":false,"hidden":false,"merged":[[2,9,2,10]]}
[null,{"$f":"PROPER(TEXT(B4,\"MMMM ÅÅÅÅ\"))","v":"November 2026"},null,null,null,null,{"$f":"IF(Uppgifter!$C$6=\"\",\"\",Uppgifter!$C$6)","v":""}]
[null,null,null,null,null,null,null,null,null,null,null,null,null,"Dagsumma","Vdag"]
[null,"Datum","Kod","In","Ut","Lunch","Planerat","Ledighet","Arbetstid","Förtroendetid",null,"Anteckningar",null,{"$f":"Okt!N36","v":0}]
[null,{"$f":"DATEVALUE(Uppgifter!C4 & \"-11-01\")","v":"2026-11-01"},null,null,null,null,null,null,{"$f":"IF(N4<0,-N4,N4)","v":0},"+",0,null,null,{"$f":"IF(E4>0,E4-D4-F4-H4,IF(C4=\"\",0,IF(C4=\"F\",0,Årsarbetsschema!$F6)))","v":0},{"$f":"Årsarbetsschema!U6","v":7},"Sj"]
[null,{"$f":"B4+1","v":"2026-11-02"},null,null,null,null,null,null,{"$f":"IF(N5<0,-N5,N5)","v":0},"+",0,null,null,{"$f":"IF(E5>0,E5-D5-F5-H5,IF(C5=\"\",0,IF(C5=\"F\",0,Årsarbetsschema!$F7)))","v":0},{"$f":"Årsarbetsschema!U7","v":1},"Tj"]
[null,{"$f":"B5+1","v":"2026-11-03"},null,null,null,null,null,null,0,"+",0,null,null,{"$f":"IF(E6>0,E6-D6-F6-H6,IF(C6=\"\",0,IF(C6=\"F\",0,Årsarbetsschema!$F8)))","v":0},{"$f":"Årsarbetsschema!U8","v":2},"VB"]
[null,"2026-11-04",null,null,null,null,null,null,0,"+",0,null,null,{"$f":"IF(E7>0,E7-D7-F7-H7,IF(C7=\"\",0,IF(C7=\"F\",0,Årsarbetsschema!$F9)))","v":0},{"$f":"Årsarbetsschema!U9","v":3},"FL"]
[null,"2026-11-05",null,null,null,null,null,null,0,"+",0,null,null,{"$f":"IF(E8>0,E8-D8-F8-H8,IF(C8=\"\",0,IF(C8=\"F\",0,Årsarbetsschema!$F10)))","v":0},{"$f":"Årsarbetsschema!U10","v":4}]
[null,"2026-11-06",null,null,null,null,null,null,0,"+",0,null,null,{"$f":"IF(E9>0,E9-D9-F9-H9,IF(C9=\"\",0,IF(C9=\"F\",0,Årsarbetsschema!$F11)))","v":0},{"$f":"Årsarbetsschema!U11","v":5}]
[null,"2026-11-07",null,null,null,null,null,null,0,"+",0,null,null,{"$f":"IF(E10>0,E10-D10-F10-H10,IF(C10=\"\",0,IF(C10=\"F\",0,Årsarbetsschema!$F12)))","v":0},{"$f":"Årsarbetsschema!U12","v":6}]
[null,"2026-11-08",null,null,null,null,null,null,0,"+",0,null,null,{"$f":"IF(E11>0,E11-D11-F11-H11,IF(C11=\"\",0,IF(C11=\"F\",0,Årsarbetsschema!$F13)))","v":0},{"$f":"Årsarbetsschema!U13","v":7}]
[null,"2026-11-09",null,null,null,null,null,null,0,"+",0,null,null,{"$f":"IF(E12>0,E12-D12-F12-H12,IF(C12=\"\",0,IF(C12=\"F\",0,Årsarbetsschema!$F14)))","v":0},{"$f":"Årsarbetsschema!U14","v":1}]
[null,"2026-11-10",null,null,null,null,null,null,0,"+",0,null,null,{"$f":"IF(E13>0,E13-D13-F13-H13,IF(C13=\"\",0,IF(C13=\"F\",0,Årsarbetsschema!$F15)))","v":0},{"$f":"Årsarbetsschema!U15","v":2}]
[null,"2026-11-11",null,null,null,null,null,null,0,"+",0,null,null,{"$f":"IF(E14>0,E14-D14-F14-H14,IF(C14=\"\",0,IF(C14=\"F\",0,Årsarbetsschema!$F16)))","v":0},{"$f":"Årsarbetsschema!U16","v":3}]
[null,"2026-11-12",null,null,null,null,null,null,0,"+",0,null,null,{"$f":"IF(E15>0,E15-D15-F15-H15,IF(C15=\"\",0,IF(C15=\"F\",0,Årsarbetsschema!$F17)))","v":0},{"$f":"Årsarbetsschema!U17","v":4}]
[null,"2026-11-13",null,null,null,null,null,null,0,"+",0,null,null,{"$f":"IF(E16>0,E16-D16-F16-H16,IF(C16=\"\",0,IF(C16=\"F\",0,Årsarbetsschema!$F18)))","v":0},{"$f":"Årsarbetsschema!U18","v":5}]
[null,"2026-11-14",null,null,null,null,null,null,0,"+",0,null,null,{"$f":"IF(E17>0,E17-D17-F17-H17,IF(C17=\"\",0,IF(C17=\"F\",0,Årsarbetsschema!$F19)))","v":0},{"$f":"Årsarbetsschema!U19","v":6}]
[null,"2026-11-15",null,null,null,null,null,null,0,"+",0,null,null,{"$f":"IF(E18>0,E18-D18-F18-H18,IF(C18=\"\",0,IF(C18=\"F\",0,Årsarbetsschema!$F20)))","v":0},{"$f":"Årsarbetsschema!U20","v":7}]
[null,"2026-11-16",null,null,null,null,null,null,0,"+",0,null,null,{"$f":"IF(E19>0,E19-D19-F19-H19,IF(C19=\"\",0,IF(C19=\"F\",0,Årsarbetsschema!$F21)))","v":0},{"$f":"Årsarbetsschema!U21","v":1}]
[null,"2026-11-17",null,null,null,null,null,null,0,"+",0,null,null,{"$f":"IF(E20>0,E20-D20-F20-H20,IF(C20=\"\",0,IF(C20=\"F\",0,Årsarbetsschema!$F22)))","v":0},{"$f":"Årsarbetsschema!U22","v":2}]
[null,"2026-11-18",null,null,null,null,null,null,0,"+",0,null,null,{"$f":"IF(E21>0,E21-D21-F21-H21,IF(C21=\"\",0,IF(C21=\"F\",0,Årsarbetsschema!$F23)))","v":0},{"$f":"Årsarbetsschema!U23","v":3}]
[null,"2026-11-19",null,null,null,null,null,null,0,"+",0,null,null,{"$f":"IF(E22>0,E22-D22-F22-H22,IF(C22=\"\",0,IF(C22=\"F\",0,Årsarbetsschema!$F24)))","v":0},{"$f":"Årsarbetsschema!U24","v":4}]
[null,"2026-11-20",null,null,null,null,null,null,0,"+",0,null,null,{"$f":"IF(E23>0,E23-D23-F23-H23,IF(C23=\"\",0,IF(C23=\"F\",0,Årsarbetsschema!$F25)))","v":0},{"$f":"Årsarbetsschema!U25","v":5}]
[null,"2026-11-21",null,null,null,null,null,null,0,"+",0,null,null,{"$f":"IF(E24>0,E24-D24-F24-H24,IF(C24=\"\",0,IF(C24=\"F\",0,Årsarbetsschema!$F26)))","v":0},{"$f":"Årsarbetsschema!U26","v":6}]
[null,"2026-11-22",null,null,null,null,null,null,0,"+",0,null,null,{"$f":"IF(E25>0,E25-D25-F25-H25,IF(C25=\"\",0,IF(C25=\"F\",0,Årsarbetsschema!$F27)))","v":0},{"$f":"Årsarbetsschema!U27","v":7}]
[null,"2026-11-23",null,null,null,null,null,null,0,"+",0,null,null,{"$f":"IF(E26>0,E26-D26-F26-H26,IF(C26=\"\",0,IF(C26=\"F\",0,Årsarbetsschema!$F28)))","v":0},{"$f":"Årsarbetsschema!U28","v":1}]
[null,"2026-11-24",null,null,null,null,null,null,0,"+",0,null,null,{"$f":"IF(E27>0,E27-D27-F27-H27,IF(C27=\"\",0,IF(C27=\"F\",0,Årsarbetsschema!$F29)))","v":0},{"$f":"Årsarbetsschema!U29","v":2}]
[null,"2026-11-25",null,null,null,null,null,null,0,"+",0,null,null,{"$f":"IF(E28>0,E28-D28-F28-H28,IF(C28=\"\",0,IF(C28=\"F\",0,Årsarbetsschema!$F30)))","v":0},{"$f":"Årsarbetsschema!U30","v":3}]
[null,"2026-11-26",null,null,null,null,null,null,0,"+",0,null,null,{"$f":"IF(E29>0,E29-D29-F29-H29,IF(C29=\"\",0,IF(C29=\"F\",0,Årsarbetsschema!$F31)))","v":0},{"$f":"Årsarbetsschema!U31","v":4}]
[null,"2026-11-27",null,null,null,null,null,null,0,"+",0,null,null,{"$f":"IF(E30>0,E30-D30-F30-H30,IF(C30=\"\",0,IF(C30=\"F\",0,Årsarbetsschema!$F32)))","v":0},{"$f":"Årsarbetsschema!U32","v":5}]
[null,"2026-11-28",null,null,null,null,null,null,0,"+",0,null,null,{"$f":"IF(E31>0,E31-D31-F31-H31,IF(C31=\"\",0,IF(C31=\"F\",0,Årsarbetsschema!$F33)))","v":0},{"$f":"Årsarbetsschema!U33","v":6}]
[null,"2026-11-29",null,null,null,null,null,null,0,"+",0,null,null,{"$f":"IF(E32>0,E32-D32-F32-H32,IF(C32=\"\",0,IF(C32=\"F\",0,Årsarbetsschema!$F34)))","v":0},{"$f":"Årsarbetsschema!U34","v":7}]
[null,"2026-11-30",null,null,null,null,null,null,{"$f":"IF(N33<0,-N33,N33)","v":0},"+",0,null,null,{"$f":"IF(E33>0,E33-D33-F33-H33,IF(C33=\"\",0,IF(C33=\"F\",0,Årsarbetsschema!$F35)))","v":0},{"$f":"Årsarbetsschema!U35","v":1}]
[null,"2026-12-01",null,null,null,"00:30:00",140.00000000000003,null,0,{"$f":"IF(#REF!>=0,\"+\",\"-\")","v":{"$error":"#REF!"}},null,null,null,{"$f":"IF(E34>0,E34-D34-F34-H34,IF(C34=\"\",0,IF(C34=\"F\",0,Årsarbetsschema!$D$40)))","v":0},{"$f":"WEEKDAY(B34,2)","v":2}]
[null,null,null,null,null,null,null,"Månad",0,"+",{"$f":"SUM(K4:K33)","v":0},null,null,{"$f":"SUM(N4:N34)","v":0}]
[null,null,null,null,null,null,null,"Totalt",0,"+",{"$f":"Okt!K36+Nov!K35","v":0},null,null,{"$f":"N35+N3","v":0}]
[]
[null,{"$f":"IF(Uppgifter!$C$6=\"\",\"\",Uppgifter!$C$6)","v":""}]

{"sheet":"Dec","index":9,"n_rows":38,"n_cols":16,"rows_kept":38,"cut":false,"hidden":false,"merged":[[2,9,2,10]]}
[null,{"$f":"PROPER(TEXT(B4,\"MMMM ÅÅÅÅ\"))","v":"December 2026"},null,null,null,null,{"$f":"IF(Uppgifter!$C$6=\"\",\"\",Uppgifter!$C$6)","v":""}]
[null,null,null,null,null,null,null,null,null,null,null,null,null,"Dagsumma","Vdag"]
[null,"Datum","Kod","In","Ut","Lunch","Planerat","Ledighet","Arbetstid","Förtroendetid",null,"Anteckningar",null,{"$f":"Nov!N36","v":0}]
[null,{"$f":"DATEVALUE(Uppgifter!C4 & \"-12-01\")","v":"2026-12-01"},null,null,null,null,null,null,{"$f":"IF(N4<0,-N4,N4)","v":0},"+",0,null,null,{"$f":"IF(E4>0,E4-D4-F4-H4,IF(C4=\"\",0,IF(C4=\"F\",0,Årsarbetsschema!$G6)))","v":0},{"$f":"Årsarbetsschema!V6","v":2},"Sj"]
[null,{"$f":"B4+1","v":"2026-12-02"},null,null,null,null,null,null,{"$f":"IF(N5<0,-N5,N5)","v":0},"+",0,null,null,{"$f":"IF(E5>0,E5-D5-F5-H5,IF(C5=\"\",0,IF(C5=\"F\",0,Årsarbetsschema!$G7)))","v":0},{"$f":"Årsarbetsschema!V7","v":3},"Tj"]
[null,{"$f":"B5+1","v":"2026-12-03"},null,null,null,null,null,null,0,"+",0,null,null,{"$f":"IF(E6>0,E6-D6-F6-H6,IF(C6=\"\",0,IF(C6=\"F\",0,Årsarbetsschema!$G8)))","v":0},{"$f":"Årsarbetsschema!V8","v":4},"VB"]
[null,"2026-12-04",null,null,null,null,null,null,0,"+",0,null,null,{"$f":"IF(E7>0,E7-D7-F7-H7,IF(C7=\"\",0,IF(C7=\"F\",0,Årsarbetsschema!$G9)))","v":0},{"$f":"Årsarbetsschema!V9","v":5},"FL"]
[null,"2026-12-05",null,null,null,null,null,null,0,"+",0,null,null,{"$f":"IF(E8>0,E8-D8-F8-H8,IF(C8=\"\",0,IF(C8=\"F\",0,Årsarbetsschema!$G10)))","v":0},{"$f":"Årsarbetsschema!V10","v":6}]
[null,"2026-12-06",null,null,null,null,null,null,0,"+",0,null,null,{"$f":"IF(E9>0,E9-D9-F9-H9,IF(C9=\"\",0,IF(C9=\"F\",0,Årsarbetsschema!$G11)))","v":0},{"$f":"Årsarbetsschema!V11","v":7}]
[null,"2026-12-07",null,null,null,null,null,null,0,"+",0,null,null,{"$f":"IF(E10>0,E10-D10-F10-H10,IF(C10=\"\",0,IF(C10=\"F\",0,Årsarbetsschema!$G12)))","v":0},{"$f":"Årsarbetsschema!V12","v":1}]
[null,"2026-12-08",null,null,null,null,null,null,0,"+",0,null,null,{"$f":"IF(E11>0,E11-D11-F11-H11,IF(C11=\"\",0,IF(C11=\"F\",0,Årsarbetsschema!$G13)))","v":0},{"$f":"Årsarbetsschema!V13","v":2}]
[null,"2026-12-09",null,null,null,null,null,null,0,"+",0,null,null,{"$f":"IF(E12>0,E12-D12-F12-H12,IF(C12=\"\",0,IF(C12=\"F\",0,Årsarbetsschema!$G14)))","v":0},{"$f":"Årsarbetsschema!V14","v":3}]
[null,"2026-12-10",null,null,null,null,null,null,0,"+",0,null,null,{"$f":"IF(E13>0,E13-D13-F13-H13,IF(C13=\"\",0,IF(C13=\"F\",0,Årsarbetsschema!$G15)))","v":0},{"$f":"Årsarbetsschema!V15","v":4}]
[null,"2026-12-11",null,null,null,null,null,null,0,"+",0,null,null,{"$f":"IF(E14>0,E14-D14-F14-H14,IF(C14=\"\",0,IF(C14=\"F\",0,Årsarbetsschema!$G16)))","v":0},{"$f":"Årsarbetsschema!V16","v":5}]
[null,"2026-12-12",null,null,null,null,null,null,0,"+",0,null,null,{"$f":"IF(E15>0,E15-D15-F15-H15,IF(C15=\"\",0,IF(C15=\"F\",0,Årsarbetsschema!$G17)))","v":0},{"$f":"Årsarbetsschema!V17","v":6}]
[null,"2026-12-13",null,null,null,null,null,null,0,"+",0,null,null,{"$f":"IF(E16>0,E16-D16-F16-H16,IF(C16=\"\",0,IF(C16=\"F\",0,Årsarbetsschema!$G18)))","v":0},{"$f":"Årsarbetsschema!V18","v":7}]
[null,"2026-12-14",null,null,null,null,null,null,0,"+",0,null,null,{"$f":"IF(E17>0,E17-D17-F17-H17,IF(C17=\"\",0,IF(C17=\"F\",0,Årsarbetsschema!$G19)))","v":0},{"$f":"Årsarbetsschema!V19","v":1}]
[null,"2026-12-15",null,null,null,null,null,null,0,"+",0,null,null,{"$f":"IF(E18>0,E18-D18-F18-H18,IF(C18=\"\",0,IF(C18=\"F\",0,Årsarbetsschema!$G20)))","v":0},{"$f":"Årsarbetsschema!V20","v":2}]
[null,"2026-12-16",null,null,null,null,null,null,0,"+",0,null,null,{"$f":"IF(E19>0,E19-D19-F19-H19,IF(C19=\"\",0,IF(C19=\"F\",0,Årsarbetsschema!$G21)))","v":0},{"$f":"Årsarbetsschema!V21","v":3}]
[null,"2026-12-17",null,null,null,null,null,null,0,"+",0,null,null,{"$f":"IF(E20>0,E20-D20-F20-H20,IF(C20=\"\",0,IF(C20=\"F\",0,Årsarbetsschema!$G22)))","v":0},{"$f":"Årsarbetsschema!V22","v":4}]
[null,"2026-12-18",null,null,null,null,null,null,0,"+",0,null,null,{"$f":"IF(E21>0,E21-D21-F21-H21,IF(C21=\"\",0,IF(C21=\"F\",0,Årsarbetsschema!$G23)))","v":0},{"$f":"Årsarbetsschema!V23","v":5}]
[null,"2026-12-19",null,null,null,null,null,null,0,"+",0,null,null,{"$f":"IF(E22>0,E22-D22-F22-H22,IF(C22=\"\",0,IF(C22=\"F\",0,Årsarbetsschema!$G24)))","v":0},{"$f":"Årsarbetsschema!V24","v":6}]
[null,"2026-12-20",null,null,null,null,null,null,0,"+",0,null,null,{"$f":"IF(E23>0,E23-D23-F23-H23,IF(C23=\"\",0,IF(C23=\"F\",0,Årsarbetsschema!$G25)))","v":0},{"$f":"Årsarbetsschema!V25","v":7}]
[null,"2026-12-21",null,null,null,null,null,null,0,"+",0,null,null,{"$f":"IF(E24>0,E24-D24-F24-H24,IF(C24=\"\",0,IF(C24=\"F\",0,Årsarbetsschema!$G26)))","v":0},{"$f":"Årsarbetsschema!V26","v":1}]
[null,"2026-12-22",null,null,null,null,null,null,0,"+",0,null,null,{"$f":"IF(E25>0,E25-D25-F25-H25,IF(C25=\"\",0,IF(C25=\"F\",0,Årsarbetsschema!$G27)))","v":0},{"$f":"Årsarbetsschema!V27","v":2}]
[null,"2026-12-23",null,null,null,null,null,null,0,"+",0,null,null,{"$f":"IF(E26>0,E26-D26-F26-H26,IF(C26=\"\",0,IF(C26=\"F\",0,Årsarbetsschema!$G28)))","v":0},{"$f":"Årsarbetsschema!V28","v":6}]
[null,"2026-12-24",null,null,null,null,null,null,0,"+",0,null,null,{"$f":"IF(E27>0,E27-D27-F27-H27,IF(C27=\"\",0,IF(C27=\"F\",0,Årsarbetsschema!$G29)))","v":0},{"$f":"Årsarbetsschema!V29","v":6}]
[null,"2026-12-25",null,null,null,null,null,null,0,"+",0,null,null,{"$f":"IF(E28>0,E28-D28-F28-H28,IF(C28=\"\",0,IF(C28=\"F\",0,Årsarbetsschema!$G30)))","v":0},{"$f":"Årsarbetsschema!V30","v":6}]
[null,"2026-12-26",null,null,null,null,null,null,0,"+",0,null,null,{"$f":"IF(E29>0,E29-D29-F29-H29,IF(C29=\"\",0,IF(C29=\"F\",0,Årsarbetsschema!$G31)))","v":0},{"$f":"Årsarbetsschema!V31","v":6}]
[null,"2026-12-27",null,null,null,null,null,null,0,"+",0,null,null,{"$f":"IF(E30>0,E30-D30-F30-H30,IF(C30=\"\",0,IF(C30=\"F\",0,Årsarbetsschema!$G32)))","v":0},{"$f":"Årsarbetsschema!V32","v":6}]
[null,"2026-12-28",null,null,null,null,null,null,0,"+",0,null,null,{"$f":"IF(E31>0,E31-D31-F31-H31,IF(C31=\"\",0,IF(C31=\"F\",0,Årsarbetsschema!$G33)))","v":0},{"$f":"Årsarbetsschema!V33","v":6}]
[null,"2026-12-29",null,null,null,null,null,null,0,"+",0,null,null,{"$f":"IF(E32>0,E32-D32-F32-H32,IF(C32=\"\",0,IF(C32=\"F\",0,Årsarbetsschema!$G34)))","v":0},{"$f":"Årsarbetsschema!V34","v":6}]
[null,"2026-12-30",null,null,null,null,null,null,0,"+",0,null,null,{"$f":"IF(E33>0,E33-D33-F33-H33,IF(C33=\"\",0,IF(C33=\"F\",0,Årsarbetsschema!$G35)))","v":0},{"$f":"Årsarbetsschema!V35","v":6}]
[null,"2026-12-31",null,null,null,null,null,null,0,"+",0,null,null,{"$f":"IF(E34>0,E34-D34-F34-H34,IF(C34=\"\",0,IF(C34=\"F\",0,Årsarbetsschema!$G36)))","v":0},{"$f":"Årsarbetsschema!V36","v":6}]
[null,null,null,null,null,null,null,"Månad",0,"+",{"$f":"SUM(K4:K34)","v":0},null,null,{"$f":"SUM(N4:N34)","v":0}]
[null,null,null,null,null,null,null,"Totalt",0,"+",{"$f":"Nov!K36+Dec!K35","v":0},null,null,{"$f":"N35+N3","v":0}]
[]
[null,{"$f":"IF(Uppgifter!$C$6=\"\",\"\",Uppgifter!$C$6)","v":""}]

{"sheet":"Jan","index":10,"n_rows":38,"n_cols":16,"rows_kept":38,"cut":false,"hidden":false,"merged":[[0,13,1,13],[0,14,1,14],[2,9,2,10]]}
[null,{"$f":"PROPER(TEXT(B4,\"MMMM ÅÅÅÅ\"))","v":"Januari 2027"},null,null,null,{"$f":"IF(Uppgifter!$C$6=\"\",\"\",Uppgifter!$C$6)","v":""},null,null,null,null,null,null,null,"Dagsumma","Vdag"]
[]
[null,"Datum","Kod","In","Ut","Lunch","Planerat","Ledighet","Arbetstid","Förtroendetid",null,"Anteckningar",null,{"$f":"Dec!N36","v":0}]
[null,{"$f":"DATEVALUE(Uppgifter!D4 & \"-01-01\")","v":"2027-01-01"},null,null,null,null,null,null,{"$f":"IF(N4<0,-N4,N4)","v":0},"+",0,null,null,{"$f":"IF(E4>0,E4-D4-F4-H4,IF(C4=\"\",0,IF(C4=\"F\",0,Årsarbetsschema!$I6)))","v":0},{"$f":"Årsarbetsschema!X6","v":6},"Sj"]
[null,{"$f":"B4+1","v":"2027-01-02"},null,null,null,null,null,null,{"$f":"IF(N5<0,-N5,N5)","v":0},"+",0,null,null,{"$f":"IF(E5>0,E5-D5-F5-H5,IF(C5=\"\",0,IF(C5=\"F\",0,Årsarbetsschema!$I7)))","v":0},{"$f":"Årsarbetsschema!X7","v":6},"Tj"]
[null,{"$f":"B5+1","v":"2027-01-03"},null,null,null,null,null,null,0,"+",0,null,null,{"$f":"IF(E6>0,E6-D6-F6-H6,IF(C6=\"\",0,IF(C6=\"F\",0,Årsarbetsschema!$I8)))","v":0},{"$f":"Årsarbetsschema!X8","v":6},"VB"]
[null,"2027-01-04",null,null,null,null,null,null,0,"+",0,null,null,{"$f":"IF(E7>0,E7-D7-F7-H7,IF(C7=\"\",0,IF(C7=\"F\",0,Årsarbetsschema!$I9)))","v":0},{"$f":"Årsarbetsschema!X9","v":6},"FL"]
[null,"2027-01-05",null,null,null,null,null,null,0,"+",0,null,null,{"$f":"IF(E8>0,E8-D8-F8-H8,IF(C8=\"\",0,IF(C8=\"F\",0,Årsarbetsschema!$I10)))","v":0},{"$f":"Årsarbetsschema!X10","v":6}]
[null,"2027-01-06",null,null,null,null,null,null,0,"+",0,null,null,{"$f":"IF(E9>0,E9-D9-F9-H9,IF(C9=\"\",0,IF(C9=\"F\",0,Årsarbetsschema!$I11)))","v":0},{"$f":"Årsarbetsschema!X11","v":6}]
[null,"2027-01-07",null,null,null,null,null,null,0,"+",0,null,null,{"$f":"IF(E10>0,E10-D10-F10-H10,IF(C10=\"\",0,IF(C10=\"F\",0,Årsarbetsschema!$I12)))","v":0},{"$f":"Årsarbetsschema!X12","v":6}]
[null,"2027-01-08",null,null,null,null,null,null,0,"+",0,null,null,{"$f":"IF(E11>0,E11-D11-F11-H11,IF(C11=\"\",0,IF(C11=\"F\",0,Årsarbetsschema!$I13)))","v":0},{"$f":"Årsarbetsschema!X13","v":6}]
[null,"2027-01-09",null,null,null,null,null,null,0,"+",0,null,null,{"$f":"IF(E12>0,E12-D12-F12-H12,IF(C12=\"\",0,IF(C12=\"F\",0,Årsarbetsschema!$I14)))","v":0},{"$f":"Årsarbetsschema!X14","v":6}]
[null,"2027-01-10",null,null,null,null,null,null,0,"+",0,null,null,{"$f":"IF(E13>0,E13-D13-F13-H13,IF(C13=\"\",0,IF(C13=\"F\",0,Årsarbetsschema!$I15)))","v":0},{"$f":"Årsarbetsschema!X15","v":7}]
[null,"2027-01-11",null,null,null,null,null,null,0,"+",0,null,null,{"$f":"IF(E14>0,E14-D14-F14-H14,IF(C14=\"\",0,IF(C14=\"F\",0,Årsarbetsschema!$I16)))","v":0},{"$f":"Årsarbetsschema!X16","v":-1}]
[null,"2027-01-12",null,null,null,null,null,null,0,"+",0,null,null,{"$f":"IF(E15>0,E15-D15-F15-H15,IF(C15=\"\",0,IF(C15=\"F\",0,Årsarbetsschema!$I17)))","v":0},{"$f":"Årsarbetsschema!X17","v":-1}]
[null,"2027-01-13",null,null,null,null,null,null,0,"+",0,null,null,{"$f":"IF(E16>0,E16-D16-F16-H16,IF(C16=\"\",0,IF(C16=\"F\",0,Årsarbetsschema!$I18)))","v":0},{"$f":"Årsarbetsschema!X18","v":3}]
[null,"2027-01-14",null,null,null,null,null,null,0,"+",0,null,null,{"$f":"IF(E17>0,E17-D17-F17-H17,IF(C17=\"\",0,IF(C17=\"F\",0,Årsarbetsschema!$I19)))","v":0},{"$f":"Årsarbetsschema!X19","v":4}]
[null,"2027-01-15",null,null,null,null,null,null,0,"+",0,null,null,{"$f":"IF(E18>0,E18-D18-F18-H18,IF(C18=\"\",0,IF(C18=\"F\",0,Årsarbetsschema!$I20)))","v":0},{"$f":"Årsarbetsschema!X20","v":5}]
[null,"2027-01-16",null,null,null,null,null,null,0,"+",0,null,null,{"$f":"IF(E19>0,E19-D19-F19-H19,IF(C19=\"\",0,IF(C19=\"F\",0,Årsarbetsschema!$I21)))","v":0},{"$f":"Årsarbetsschema!X21","v":6}]
[null,"2027-01-17",null,null,null,null,null,null,0,"+",0,null,null,{"$f":"IF(E20>0,E20-D20-F20-H20,IF(C20=\"\",0,IF(C20=\"F\",0,Årsarbetsschema!$I22)))","v":0},{"$f":"Årsarbetsschema!X22","v":7}]
[null,"2027-01-18",null,null,null,null,null,null,0,"+",0,null,null,{"$f":"IF(E21>0,E21-D21-F21-H21,IF(C21=\"\",0,IF(C21=\"F\",0,Årsarbetsschema!$I23)))","v":0},{"$f":"Årsarbetsschema!X23","v":1}]
[null,"2027-01-19",null,null,null,null,null,null,0,"+",0,null,null,{"$f":"IF(E22>0,E22-D22-F22-H22,IF(C22=\"\",0,IF(C22=\"F\",0,Årsarbetsschema!$I24)))","v":0},{"$f":"Årsarbetsschema!X24","v":2}]
[null,"2027-01-20",null,null,null,null,null,null,0,"+",0,null,null,{"$f":"IF(E23>0,E23-D23-F23-H23,IF(C23=\"\",0,IF(C23=\"F\",0,Årsarbetsschema!$I25)))","v":0},{"$f":"Årsarbetsschema!X25","v":3}]
[null,"2027-01-21",null,null,null,null,null,null,0,"+",0,null,null,{"$f":"IF(E24>0,E24-D24-F24-H24,IF(C24=\"\",0,IF(C24=\"F\",0,Årsarbetsschema!$I26)))","v":0},{"$f":"Årsarbetsschema!X26","v":4}]
[null,"2027-01-22",null,null,null,null,null,null,0,"+",0,null,null,{"$f":"IF(E25>0,E25-D25-F25-H25,IF(C25=\"\",0,IF(C25=\"F\",0,Årsarbetsschema!$I27)))","v":0},{"$f":"Årsarbetsschema!X27","v":5}]
[null,"2027-01-23",null,null,null,null,null,null,0,"+",0,null,null,{"$f":"IF(E26>0,E26-D26-F26-H26,IF(C26=\"\",0,IF(C26=\"F\",0,Årsarbetsschema!$I28)))","v":0},{"$f":"Årsarbetsschema!X28","v":6}]
[null,"2027-01-24",null,null,null,null,null,null,0,"+",0,null,null,{"$f":"IF(E27>0,E27-D27-F27-H27,IF(C27=\"\",0,IF(C27=\"F\",0,Årsarbetsschema!$I29)))","v":0},{"$f":"Årsarbetsschema!X29","v":7}]
[null,"2027-01-25",null,null,null,null,null,null,0,"+",0,null,null,{"$f":"IF(E28>0,E28-D28-F28-H28,IF(C28=\"\",0,IF(C28=\"F\",0,Årsarbetsschema!$I30)))","v":0},{"$f":"Årsarbetsschema!X30","v":1}]
[null,"2027-01-26",null,null,null,null,null,null,0,"+",0,null,null,{"$f":"IF(E29>0,E29-D29-F29-H29,IF(C29=\"\",0,IF(C29=\"F\",0,Årsarbetsschema!$I31)))","v":0},{"$f":"Årsarbetsschema!X31","v":2}]
[null,"2027-01-27",null,null,null,null,null,null,0,"+",0,null,null,{"$f":"IF(E30>0,E30-D30-F30-H30,IF(C30=\"\",0,IF(C30=\"F\",0,Årsarbetsschema!$I32)))","v":0},{"$f":"Årsarbetsschema!X32","v":3}]
[null,"2027-01-28",null,null,null,null,null,null,0,"+",0,null,null,{"$f":"IF(E31>0,E31-D31-F31-H31,IF(C31=\"\",0,IF(C31=\"F\",0,Årsarbetsschema!$I33)))","v":0},{"$f":"Årsarbetsschema!X33","v":4}]
[null,"2027-01-29",null,null,null,null,null,null,0,"+",0,null,null,{"$f":"IF(E32>0,E32-D32-F32-H32,IF(C32=\"\",0,IF(C32=\"F\",0,Årsarbetsschema!$I34)))","v":0},{"$f":"Årsarbetsschema!X34","v":5}]
[null,"2027-01-30",null,null,null,null,null,null,0,"+",0,null,null,{"$f":"IF(E33>0,E33-D33-F33-H33,IF(C33=\"\",0,IF(C33=\"F\",0,Årsarbetsschema!$I35)))","v":0},{"$f":"Årsarbetsschema!X35","v":6}]
[null,"2027-01-31",null,null,null,null,null,null,0,"+",0,null,null,{"$f":"IF(E34>0,E34-D34-F34-H34,IF(C34=\"\",0,IF(C34=\"F\",0,Årsarbetsschema!$I36)))","v":0},{"$f":"Årsarbetsschema!X36","v":7}]
[null,null,null,null,null,null,null,"Månad",{"$f":"IF(N35<0,-N35,N35)","v":0},"+",{"$f":"SUM(K4:K34)","v":0},null,null,{"$f":"SUM(N4:N34)","v":0}]
[null,null,null,null,null,null,null,"Totalt",0,"+",{"$f":"Dec!K36+Jan!K35","v":0},null,null,{"$f":"N3+N35","v":0}]
[]
[null,{"$f":"IF(Uppgifter!$C$6=\"\",\"\",Uppgifter!$C$6)","v":""}]

{"sheet":"Feb","index":11,"n_rows":38,"n_cols":16,"rows_kept":38,"cut":false,"hidden":false,"merged":[[2,9,2,10]]}
[null,{"$f":"PROPER(TEXT(B4,\"MMMM ÅÅÅÅ\"))","v":"Februari 2027"},null,null,null,null,{"$f":"IF(Uppgifter!$C$6=\"\",\"\",Uppgifter!$C$6)","v":""}]
[null,null,null,null,null,null,null,null,null,null,null,null,null,"Dagsumma","Vdag"]
[null,"Datum","Kod","In","Ut","Lunch","Planerat","Ledighet","Arbetstid","Förtroendetid",null,"Anteckningar",null,{"$f":"Jan!N36","v":0}]
[null,{"$f":"DATEVALUE(Uppgifter!D4 & \"-02-01\")","v":"2027-02-01"},null,null,null,null,null,null,{"$f":"IF(N4<0,-N4,N4)","v":0},"+",0,null,null,{"$f":"IF(E4>0,E4-D4-F4-H4,IF(C4=\"\",0,IF(C4=\"F\",0,Årsarbetsschema!$J6)))","v":0},{"$f":"Årsarbetsschema!Y6","v":1},"Sj"]
[null,{"$f":"B4+1","v":"2027-02-02"},null,null,null,null,null,null,{"$f":"IF(N5<0,-N5,N5)","v":0},"+",0,null,null,{"$f":"IF(E5>0,E5-D5-F5-H5,IF(C5=\"\",0,IF(C5=\"F\",0,Årsarbetsschema!$J7)))","v":0},{"$f":"Årsarbetsschema!Y7","v":2},"Tj"]
[null,{"$f":"B5+1","v":"2027-02-03"},null,null,null,null,null,null,0,"+",0,null,null,{"$f":"IF(E6>0,E6-D6-F6-H6,IF(C6=\"\",0,IF(C6=\"F\",0,Årsarbetsschema!$J8)))","v":0},{"$f":"Årsarbetsschema!Y8","v":3},"VB"]
[null,"2027-02-04",null,null,null,null,null,null,0,"+",0,null,null,{"$f":"IF(E7>0,E7-D7-F7-H7,IF(C7=\"\",0,IF(C7=\"F\",0,Årsarbetsschema!$J9)))","v":0},{"$f":"Årsarbetsschema!Y9","v":4},"FL"]
[null,"2027-02-05",null,null,null,null,null,null,0,"+",0,null,null,{"$f":"IF(E8>0,E8-D8-F8-H8,IF(C8=\"\",0,IF(C8=\"F\",0,Årsarbetsschema!$J10)))","v":0},{"$f":"Årsarbetsschema!Y10","v":5}]
[null,"2027-02-06",null,null,null,null,null,null,0,"+",0,null,null,{"$f":"IF(E9>0,E9-D9-F9-H9,IF(C9=\"\",0,IF(C9=\"F\",0,Årsarbetsschema!$J11)))","v":0},{"$f":"Årsarbetsschema!Y11","v":6}]
[null,"2027-02-07",null,null,null,null,null,null,0,"+",0,null,null,{"$f":"IF(E10>0,E10-D10-F10-H10,IF(C10=\"\",0,IF(C10=\"F\",0,Årsarbetsschema!$J12)))","v":0},{"$f":"Årsarbetsschema!Y12","v":7}]
[null,"2027-02-08",null,null,null,null,null,null,0,"+",0,null,null,{"$f":"IF(E11>0,E11-D11-F11-H11,IF(C11=\"\",0,IF(C11=\"F\",0,Årsarbetsschema!$J13)))","v":0},{"$f":"Årsarbetsschema!Y13","v":1}]
[null,"2027-02-09",null,null,null,null,null,null,0,"+",0,null,null,{"$f":"IF(E12>0,E12-D12-F12-H12,IF(C12=\"\",0,IF(C12=\"F\",0,Årsarbetsschema!$J14)))","v":0},{"$f":"Årsarbetsschema!Y14","v":2}]
[null,"2027-02-10",null,null,null,null,null,null,0,"+",0,null,null,{"$f":"IF(E13>0,E13-D13-F13-H13,IF(C13=\"\",0,IF(C13=\"F\",0,Årsarbetsschema!$J15)))","v":0},{"$f":"Årsarbetsschema!Y15","v":3}]
[null,"2027-02-11",null,null,null,null,null,null,0,"+",0,null,null,{"$f":"IF(E14>0,E14-D14-F14-H14,IF(C14=\"\",0,IF(C14=\"F\",0,Årsarbetsschema!$J16)))","v":0},{"$f":"Årsarbetsschema!Y16","v":4}]
[null,"2027-02-12",null,null,null,null,null,null,0,"+",0,null,null,{"$f":"IF(E15>0,E15-D15-F15-H15,IF(C15=\"\",0,IF(C15=\"F\",0,Årsarbetsschema!$J17)))","v":0},{"$f":"Årsarbetsschema!Y17","v":5}]
[null,"2027-02-13",null,null,null,null,null,null,0,"+",0,null,null,{"$f":"IF(E16>0,E16-D16-F16-H16,IF(C16=\"\",0,IF(C16=\"F\",0,Årsarbetsschema!$J18)))","v":0},{"$f":"Årsarbetsschema!Y18","v":6}]
[null,"2027-02-14",null,null,null,null,null,null,0,"+",0,null,null,{"$f":"IF(E17>0,E17-D17-F17-H17,IF(C17=\"\",0,IF(C17=\"F\",0,Årsarbetsschema!$J19)))","v":0},{"$f":"Årsarbetsschema!Y19","v":7}]
[null,"2027-02-15",null,null,null,null,null,null,0,"+",0,null,null,{"$f":"IF(E18>0,E18-D18-F18-H18,IF(C18=\"\",0,IF(C18=\"F\",0,Årsarbetsschema!$J20)))","v":0},{"$f":"Årsarbetsschema!Y20","v":1}]
[null,"2027-02-16",null,null,null,null,null,null,0,"+",0,null,null,{"$f":"IF(E19>0,E19-D19-F19-H19,IF(C19=\"\",0,IF(C19=\"F\",0,Årsarbetsschema!$J21)))","v":0},{"$f":"Årsarbetsschema!Y21","v":2}]
[null,"2027-02-17",null,null,null,null,null,null,0,"+",0,null,null,{"$f":"IF(E20>0,E20-D20-F20-H20,IF(C20=\"\",0,IF(C20=\"F\",0,Årsarbetsschema!$J22)))","v":0},{"$f":"Årsarbetsschema!Y22","v":3}]
[null,"2027-02-18",null,null,null,null,null,null,0,"+",0,null,null,{"$f":"IF(E21>0,E21-D21-F21-H21,IF(C21=\"\",0,IF(C21=\"F\",0,Årsarbetsschema!$J23)))","v":0},{"$f":"Årsarbetsschema!Y23","v":4}]
[null,"2027-02-19",null,null,null,null,null,null,0,"+",0,null,null,{"$f":"IF(E22>0,E22-D22-F22-H22,IF(C22=\"\",0,IF(C22=\"F\",0,Årsarbetsschema!$J24)))","v":0},{"$f":"Årsarbetsschema!Y24","v":5}]
[null,"2027-02-20",null,null,null,null,null,null,0,"+",0,null,null,{"$f":"IF(E23>0,E23-D23-F23-H23,IF(C23=\"\",0,IF(C23=\"F\",0,Årsarbetsschema!$J25)))","v":0},{"$f":"Årsarbetsschema!Y25","v":6}]
[null,"2027-02-21",null,null,null,null,null,null,0,"+",0,null,null,{"$f":"IF(E24>0,E24-D24-F24-H24,IF(C24=\"\",0,IF(C24=\"F\",0,Årsarbetsschema!$J26)))","v":0},{"$f":"Årsarbetsschema!Y26","v":7}]
[null,"2027-02-22",null,null,null,null,null,null,0,"+",0,null,null,{"$f":"IF(E25>0,E25-D25-F25-H25,IF(C25=\"\",0,IF(C25=\"F\",0,Årsarbetsschema!$J27)))","v":0},{"$f":"Årsarbetsschema!Y27","v":6}]
[null,"2027-02-23",null,null,null,null,null,null,0,"+",0,null,null,{"$f":"IF(E26>0,E26-D26-F26-H26,IF(C26=\"\",0,IF(C26=\"F\",0,Årsarbetsschema!$J28)))","v":0},{"$f":"Årsarbetsschema!Y28","v":6}]
[null,"2027-02-24",null,null,null,null,null,null,0,"+",0,null,null,{"$f":"IF(E27>0,E27-D27-F27-H27,IF(C27=\"\",0,IF(C27=\"F\",0,Årsarbetsschema!$J29)))","v":0},{"$f":"Årsarbetsschema!Y29","v":6}]
[null,"2027-02-25",null,null,null,null,null,null,0,"+",0,null,null,{"$f":"IF(E28>0,E28-D28-F28-H28,IF(C28=\"\",0,IF(C28=\"F\",0,Årsarbetsschema!$J30)))","v":0},{"$f":"Årsarbetsschema!Y30","v":6}]
[null,"2027-02-26",null,null,null,null,null,null,0,"+",0,null,null,{"$f":"IF(E29>0,E29-D29-F29-H29,IF(C29=\"\",0,IF(C29=\"F\",0,Årsarbetsschema!$J31)))","v":0},{"$f":"Årsarbetsschema!Y31","v":6}]
[null,"2027-02-27",null,null,null,null,null,null,{"$f":"IF(N30<0,-N30,N30)","v":0},"+",0,null,null,{"$f":"IF(E30>0,E30-D30-F30-H30,IF(C30=\"\",0,IF(C30=\"F\",0,Årsarbetsschema!$J32)))","v":0},{"$f":"Årsarbetsschema!Y32","v":6}]
[null,"2027-02-28",null,null,null,null,null,null,0,"+",0,null,null,{"$f":"IF(E31>0,E31-D31-F31-H31,IF(C31=\"\",0,IF(C31=\"F\",0,Årsarbetsschema!$J33)))","v":0},{"$f":"Årsarbetsschema!Y33","v":7}]
[null,{"$f":"B31+1","v":"2027-03-01"},null,null,null,null,null,null,0,"+",0,null,null,{"$f":"IF(E32>0,E32-D32-F32-H32,IF(C32=\"\",0,IF(C32=\"F\",0,Årsarbetsschema!$D$40)))","v":0},{"$f":"Årsarbetsschema!Y34","v":0}]
[null,{"$f":"B32+1","v":"2027-03-02"},null,null,null,"00:30:00","07:00:00",null,{"$f":"IF(N33<0,-N33,N33)","v":0},{"$f":"IF(#REF!>=0,\"+\",\"-\")","v":{"$error":"#REF!"}},null,null,null,0,{"$f":"WEEKDAY(B33,2)","v":2}]
[null,{"$f":"B33+1","v":"2027-03-03"},null,null,null,"00:30:00","07:00:00",null,{"$f":"IF(N34<0,-N34,N34)","v":0},{"$f":"IF(#REF!>=0,\"+\",\"-\")","v":{"$error":"#REF!"}},null,null,null,0,{"$f":"WEEKDAY(B34,2)","v":3}]
[null,null,null,null,null,null,null,"Månad",{"$f":"IF(N35<0,-N35,N35)","v":0},"+",{"$f":"SUM(K4:K32)","v":0},null,null,{"$f":"SUM(N4:N31)","v":0}]
[null,null,null,null,null,null,null,"Totalt",{"$f":"IF(N36<0,-N36,N36)","v":0},"+",{"$f":"Jan!K36+Feb!K35","v":0},null,null,{"$f":"N35+N3","v":0}]
[]
[null,{"$f":"IF(Uppgifter!$C$6=\"\",\"\",Uppgifter!$C$6)","v":""}]

{"sheet":"Mars","index":12,"n_rows":38,"n_cols":16,"rows_kept":38,"cut":false,"hidden":false,"merged":[[2,9,2,10]]}
[null,{"$f":"PROPER(TEXT(B4,\"MMMM ÅÅÅÅ\"))","v":"Mars 2027"},null,null,null,null,{"$f":"IF(Uppgifter!$C$6=\"\",\"\",Uppgifter!$C$6)","v":""}]
[null,null,null,null,null,null,null,null,null,null,null,null,null,"Dagsumma","Vdag"]
[null,"Datum","Kod","In","Ut","Lunch","Planerat","Ledighet","Arbetstid","Förtroendetid",null,"Anteckningar",null,{"$f":"Feb!N36","v":0}]
[null,{"$f":"DATEVALUE(Uppgifter!D4 & \"-03-01\")","v":"2027-03-01"},null,null,null,null,null,null,{"$f":"IF(N4<0,-N4,N4)","v":0},"+",0,null,null,{"$f":"IF(E4>0,E4-D4-F4-H4,IF(C4=\"\",0,IF(C4=\"F\",0,Årsarbetsschema!$K6)))","v":0},{"$f":"Årsarbetsschema!Z6","v":1},"Sj"]
[null,{"$f":"B4+1","v":"2027-03-02"},null,null,null,null,null,null,{"$f":"IF(N5<0,-N5,N5)","v":0},"+",0,null,null,{"$f":"IF(E5>0,E5-D5-F5-H5,IF(C5=\"\",0,IF(C5=\"F\",0,Årsarbetsschema!$K7)))","v":0},{"$f":"Årsarbetsschema!Z7","v":2},"Tj"]
[null,{"$f":"B5+1","v":"2027-03-03"},null,null,null,null,null,null,0,"+",0,null,null,{"$f":"IF(E6>0,E6-D6-F6-H6,IF(C6=\"\",0,IF(C6=\"F\",0,Årsarbetsschema!$K8)))","v":0},{"$f":"Årsarbetsschema!Z8","v":3},"VB"]
[null,"2027-03-04",null,null,null,null,null,null,0,"+",0,null,null,{"$f":"IF(E7>0,E7-D7-F7-H7,IF(C7=\"\",0,IF(C7=\"F\",0,Årsarbetsschema!$K9)))","v":0},{"$f":"Årsarbetsschema!Z9","v":4},"FL"]
[null,"2027-03-05",null,null,null,null,null,null,0,"+",0,null,null,{"$f":"IF(E8>0,E8-D8-F8-H8,IF(C8=\"\",0,IF(C8=\"F\",0,Årsarbetsschema!$K10)))","v":0},{"$f":"Årsarbetsschema!Z10","v":5}]
[null,"2027-03-06",null,null,null,null,null,null,0,"+",0,null,null,{"$f":"IF(E9>0,E9-D9-F9-H9,IF(C9=\"\",0,IF(C9=\"F\",0,Årsarbetsschema!$K11)))","v":0},{"$f":"Årsarbetsschema!Z11","v":6}]
[null,"2027-03-07",null,null,null,null,null,null,0,"+",0,null,null,{"$f":"IF(E10>0,E10-D10-F10-H10,IF(C10=\"\",0,IF(C10=\"F\",0,Årsarbetsschema!$K12)))","v":0},{"$f":"Årsarbetsschema!Z12","v":7}]
[null,"2027-03-08",null,null,null,null,null,null,0,"+",0,null,null,{"$f":"IF(E11>0,E11-D11-F11-H11,IF(C11=\"\",0,IF(C11=\"F\",0,Årsarbetsschema!$K13)))","v":0},{"$f":"Årsarbetsschema!Z13","v":1}]
[null,"2027-03-09",null,null,null,null,null,null,0,"+",0,null,null,{"$f":"IF(E12>0,E12-D12-F12-H12,IF(C12=\"\",0,IF(C12=\"F\",0,Årsarbetsschema!$K14)))","v":0},{"$f":"Årsarbetsschema!Z14","v":2}]
[null,"2027-03-10",null,null,null,null,null,null,0,"+",0,null,null,{"$f":"IF(E13>0,E13-D13-F13-H13,IF(C13=\"\",0,IF(C13=\"F\",0,Årsarbetsschema!$K15)))","v":0},{"$f":"Årsarbetsschema!Z15","v":3}]
[null,"2027-03-11",null,null,null,null,null,null,0,"+",0,null,null,{"$f":"IF(E14>0,E14-D14-F14-H14,IF(C14=\"\",0,IF(C14=\"F\",0,Årsarbetsschema!$K16)))","v":0},{"$f":"Årsarbetsschema!Z16","v":4}]
[null,"2027-03-12",null,null,null,null,null,null,0,"+",0,null,null,{"$f":"IF(E15>0,E15-D15-F15-H15,IF(C15=\"\",0,IF(C15=\"F\",0,Årsarbetsschema!$K17)))","v":0},{"$f":"Årsarbetsschema!Z17","v":5}]
[null,"2027-03-13",null,null,null,null,null,null,0,"+",0,null,null,{"$f":"IF(E16>0,E16-D16-F16-H16,IF(C16=\"\",0,IF(C16=\"F\",0,Årsarbetsschema!$K18)))","v":0},{"$f":"Årsarbetsschema!Z18","v":6}]
[null,"2027-03-14",null,null,null,null,null,null,0,"+",0,null,null,{"$f":"IF(E17>0,E17-D17-F17-H17,IF(C17=\"\",0,IF(C17=\"F\",0,Årsarbetsschema!$K19)))","v":0},{"$f":"Årsarbetsschema!Z19","v":7}]
[null,"2027-03-15",null,null,null,null,null,null,0,"+",0,null,null,{"$f":"IF(E18>0,E18-D18-F18-H18,IF(C18=\"\",0,IF(C18=\"F\",0,Årsarbetsschema!$K20)))","v":0},{"$f":"Årsarbetsschema!Z20","v":1}]
[null,"2027-03-16",null,null,null,null,null,null,0,"+",0,null,null,{"$f":"IF(E19>0,E19-D19-F19-H19,IF(C19=\"\",0,IF(C19=\"F\",0,Årsarbetsschema!$K21)))","v":0},{"$f":"Årsarbetsschema!Z21","v":2}]
[null,"2027-03-17",null,null,null,null,null,null,0,"+",0,null,null,{"$f":"IF(E20>0,E20-D20-F20-H20,IF(C20=\"\",0,IF(C20=\"F\",0,Årsarbetsschema!$K22)))","v":0},{"$f":"Årsarbetsschema!Z22","v":3}]
[null,"2027-03-18",null,null,null,null,null,null,0,"+",0,null,null,{"$f":"IF(E21>0,E21-D21-F21-H21,IF(C21=\"\",0,IF(C21=\"F\",0,Årsarbetsschema!$K23)))","v":0},{"$f":"Årsarbetsschema!Z23","v":4}]
[null,"2027-03-19",null,null,null,null,null,null,0,"+",0,null,null,{"$f":"IF(E22>0,E22-D22-F22-H22,IF(C22=\"\",0,IF(C22=\"F\",0,Årsarbetsschema!$K24)))","v":0},{"$f":"Årsarbetsschema!Z24","v":5}]
[null,"2027-03-20",null,null,null,null,null,null,0,"+",0,null,null,{"$f":"IF(E23>0,E23-D23-F23-H23,IF(C23=\"\",0,IF(C23=\"F\",0,Årsarbetsschema!$K25)))","v":0},{"$f":"Årsarbetsschema!Z25","v":6}]
[null,"2027-03-21",null,null,null,null,null,null,0,"+",0,null,null,{"$f":"IF(E24>0,E24-D24-F24-H24,IF(C24=\"\",0,IF(C24=\"F\",0,Årsarbetsschema!$K26)))","v":0},{"$f":"Årsarbetsschema!Z26","v":7}]
[null,"2027-03-22",null,null,null,null,null,null,0,"+",0,null,null,{"$f":"IF(E25>0,E25-D25-F25-H25,IF(C25=\"\",0,IF(C25=\"F\",0,Årsarbetsschema!$K27)))","v":0},{"$f":"Årsarbetsschema!Z27","v":1}]
[null,"2027-03-23",null,null,null,null,null,null,0,"+",0,null,null,{"$f":"IF(E26>0,E26-D26-F26-H26,IF(C26=\"\",0,IF(C26=\"F\",0,Årsarbetsschema!$K28)))","v":0},{"$f":"Årsarbetsschema!Z28","v":2}]
[null,{"$f":"B26+1","v":"2027-03-24"},null,null,null,null,null,null,{"$f":"IF(N27<0,-N27,N27)","v":0},"+",0,null,null,{"$f":"IF(E27>0,E27-D27-F27-H27,IF(C27=\"\",0,IF(C27=\"F\",0,Årsarbetsschema!$K29)))","v":0},{"$f":"Årsarbetsschema!Z29","v":3}]
[null,"2027-03-25",null,null,null,null,null,null,0,"+",0,null,null,{"$f":"IF(E28>0,E28-D28-F28-H28,IF(C28=\"\",0,IF(C28=\"F\",0,Årsarbetsschema!$K30)))","v":0},{"$f":"Årsarbetsschema!Z30","v":4}]
[null,"2027-03-26",null,null,null,null,null,null,0,"+",0,null,null,{"$f":"IF(E29>0,E29-D29-F29-H29,IF(C29=\"\",0,IF(C29=\"F\",0,Årsarbetsschema!$K31)))","v":0},{"$f":"Årsarbetsschema!Z31","v":6}]
[null,"2027-03-27",null,null,null,null,null,null,0,"+",0,null,null,{"$f":"IF(E30>0,E30-D30-F30-H30,IF(C30=\"\",0,IF(C30=\"F\",0,Årsarbetsschema!$K32)))","v":0},{"$f":"Årsarbetsschema!Z32","v":6}]
[null,"2027-03-28",null,null,null,null,null,null,0,"+",0,null,null,{"$f":"IF(E31>0,E31-D31-F31-H31,IF(C31=\"\",0,IF(C31=\"F\",0,Årsarbetsschema!$K33)))","v":0},{"$f":"Årsarbetsschema!Z33","v":7}]
[null,"2027-03-29",null,null,null,null,null,null,0,"+",0,null,null,{"$f":"IF(E32>0,E32-D32-F32-H32,IF(C32=\"\",0,IF(C32=\"F\",0,Årsarbetsschema!$K34)))","v":0},{"$f":"Årsarbetsschema!Z34","v":6}]
[null,"2027-03-30",null,null,null,null,null,null,0,"+",0,null,null,{"$f":"IF(E33>0,E33-D33-F33-H33,IF(C33=\"\",0,IF(C33=\"F\",0,Årsarbetsschema!$K35)))","v":0},{"$f":"Årsarbetsschema!Z35","v":6}]
[null,"2027-03-31",null,null,null,null,null,null,0,"+",0,null,null,{"$f":"IF(E34>0,E34-D34-F34-H34,IF(C34=\"\",0,IF(C34=\"F\",0,Årsarbetsschema!$K36)))","v":0},{"$f":"Årsarbetsschema!Z36","v":6}]
[null,null,null,null,null,null,null,"Månad",{"$f":"IF(N35<0,-N35,N35)","v":0},"+",{"$f":"SUM(K4:K34)","v":0},null,null,{"$f":"SUM(N4:N34)","v":0}]
[null,null,null,null,null,null,null,"Totalt",0,"+",{"$f":"Feb!K36+Mars!K35","v":0},null,null,{"$f":"N35+N3","v":0}]
[]
[null,{"$f":"IF(Uppgifter!$C$6=\"\",\"\",Uppgifter!$C$6)","v":""}]

{"sheet":"April","index":13,"n_rows":38,"n_cols":16,"rows_kept":38,"cut":false,"hidden":false,"merged":[[2,9,2,10]]}
[null,{"$f":"PROPER(TEXT(B4,\"MMMM ÅÅÅÅ\"))","v":"April 2027"},null,null,null,null,{"$f":"IF(Uppgifter!$C$6=\"\",\"\",Uppgifter!$C$6)","v":""}]
[null,null,null,null,null,null,null,null,null,null,null,null,null,"Dagsumma","Vdag"]
[null,"Datum","Kod","In","Ut","Lunch","Planerat","Ledighet","Arbetstid","Förtroendetid",null,"Anteckningar",null,{"$f":"Mars!N36","v":0}]
[null,{"$f":"DATEVALUE(Uppgifter!D4 & \"-04-01\")","v":"2027-04-01"},null,null,null,null,null,null,{"$f":"IF(N4<0,-N4,N4)","v":0},"+",0,null,null,{"$f":"IF(E4>0,E4-D4-F4-H4,IF(C4=\"\",0,IF(C4=\"F\",0,Årsarbetsschema!$L6)))","v":0},{"$f":"Årsarbetsschema!AA6","v":6},"Sj"]
[null,{"$f":"B4+1","v":"2027-04-02"},null,null,null,null,null,null,{"$f":"IF(N5<0,-N5,N5)","v":0},"+",0,null,null,{"$f":"IF(E5>0,E5-D5-F5-H5,IF(C5=\"\",0,IF(C5=\"F\",0,Årsarbetsschema!$L7)))","v":0},{"$f":"Årsarbetsschema!AA7","v":6},"Tj"]
[null,{"$f":"B5+1","v":"2027-04-03"},null,null,null,null,null,null,0,"+",0,null,null,{"$f":"IF(E6>0,E6-D6-F6-H6,IF(C6=\"\",0,IF(C6=\"F\",0,Årsarbetsschema!$L8)))","v":0},{"$f":"Årsarbetsschema!AA8","v":6},"VB"]
[null,"2027-04-04",null,null,null,null,null,null,0,"+",0,null,null,{"$f":"IF(E7>0,E7-D7-F7-H7,IF(C7=\"\",0,IF(C7=\"F\",0,Årsarbetsschema!$L9)))","v":0},{"$f":"Årsarbetsschema!AA9","v":7},"FL"]
[null,"2027-04-05",null,null,null,null,null,null,0,"+",0,null,null,{"$f":"IF(E8>0,E8-D8-F8-H8,IF(C8=\"\",0,IF(C8=\"F\",0,Årsarbetsschema!$L10)))","v":0},{"$f":"Årsarbetsschema!AA10","v":1}]
[null,"2027-04-06",null,null,null,null,null,null,0,"+",0,null,null,{"$f":"IF(E9>0,E9-D9-F9-H9,IF(C9=\"\",0,IF(C9=\"F\",0,Årsarbetsschema!$L11)))","v":0},{"$f":"Årsarbetsschema!AA11","v":2}]
[null,"2027-04-07",null,null,null,null,null,null,0,"+",0,null,null,{"$f":"IF(E10>0,E10-D10-F10-H10,IF(C10=\"\",0,IF(C10=\"F\",0,Årsarbetsschema!$L12)))","v":0},{"$f":"Årsarbetsschema!AA12","v":3}]
[null,"2027-04-08",null,null,null,null,null,null,0,"+",0,null,null,{"$f":"IF(E11>0,E11-D11-F11-H11,IF(C11=\"\",0,IF(C11=\"F\",0,Årsarbetsschema!$L13)))","v":0},{"$f":"Årsarbetsschema!AA13","v":4}]
[null,"2027-04-09",null,null,null,null,null,null,0,"+",0,null,null,{"$f":"IF(E12>0,E12-D12-F12-H12,IF(C12=\"\",0,IF(C12=\"F\",0,Årsarbetsschema!$L14)))","v":0},{"$f":"Årsarbetsschema!AA14","v":5}]
[null,"2027-04-10",null,null,null,null,null,null,0,"+",0,null,null,{"$f":"IF(E13>0,E13-D13-F13-H13,IF(C13=\"\",0,IF(C13=\"F\",0,Årsarbetsschema!$L15)))","v":0},{"$f":"Årsarbetsschema!AA15","v":6}]
[null,"2027-04-11",null,null,null,null,null,null,0,"+",0,null,null,{"$f":"IF(E14>0,E14-D14-F14-H14,IF(C14=\"\",0,IF(C14=\"F\",0,Årsarbetsschema!$L16)))","v":0},{"$f":"Årsarbetsschema!AA16","v":7}]
[null,"2027-04-12",null,null,null,null,null,null,0,"+",0,null,null,{"$f":"IF(E15>0,E15-D15-F15-H15,IF(C15=\"\",0,IF(C15=\"F\",0,Årsarbetsschema!$L17)))","v":0},{"$f":"Årsarbetsschema!AA17","v":1}]
[null,"2027-04-13",null,null,null,null,null,null,0,"+",0,null,null,{"$f":"IF(E16>0,E16-D16-F16-H16,IF(C16=\"\",0,IF(C16=\"F\",0,Årsarbetsschema!$L18)))","v":0},{"$f":"Årsarbetsschema!AA18","v":2}]
[null,"2027-04-14",null,null,null,null,null,null,0,"+",0,null,null,{"$f":"IF(E17>0,E17-D17-F17-H17,IF(C17=\"\",0,IF(C17=\"F\",0,Årsarbetsschema!$L19)))","v":0},{"$f":"Årsarbetsschema!AA19","v":3}]
[null,"2027-04-15",null,null,null,null,null,null,0,"+",0,null,null,{"$f":"IF(E18>0,E18-D18-F18-H18,IF(C18=\"\",0,IF(C18=\"F\",0,Årsarbetsschema!$L20)))","v":0},{"$f":"Årsarbetsschema!AA20","v":4}]
[null,"2027-04-16",null,null,null,null,null,null,0,"+",0,null,null,{"$f":"IF(E19>0,E19-D19-F19-H19,IF(C19=\"\",0,IF(C19=\"F\",0,Årsarbetsschema!$L21)))","v":0},{"$f":"Årsarbetsschema!AA21","v":5}]
[null,"2027-04-17",null,null,null,null,null,null,0,"+",0,null,null,{"$f":"IF(E20>0,E20-D20-F20-H20,IF(C20=\"\",0,IF(C20=\"F\",0,Årsarbetsschema!$L22)))","v":0},{"$f":"Årsarbetsschema!AA22","v":6}]
[null,"2027-04-18",null,null,null,null,null,null,0,"+",0,null,null,{"$f":"IF(E21>0,E21-D21-F21-H21,IF(C21=\"\",0,IF(C21=\"F\",0,Årsarbetsschema!$L23)))","v":0},{"$f":"Årsarbetsschema!AA23","v":7}]
[null,"2027-04-19",null,null,null,null,null,null,0,"+",0,null,null,{"$f":"IF(E22>0,E22-D22-F22-H22,IF(C22=\"\",0,IF(C22=\"F\",0,Årsarbetsschema!$L24)))","v":0},{"$f":"Årsarbetsschema!AA24","v":1}]
[null,"2027-04-20",null,null,null,null,null,null,0,"+",0,null,null,{"$f":"IF(E23>0,E23-D23-F23-H23,IF(C23=\"\",0,IF(C23=\"F\",0,Årsarbetsschema!$L25)))","v":0},{"$f":"Årsarbetsschema!AA25","v":2}]
[null,"2027-04-21",null,null,null,null,null,null,0,"+",0,null,null,{"$f":"IF(E24>0,E24-D24-F24-H24,IF(C24=\"\",0,IF(C24=\"F\",0,Årsarbetsschema!$L26)))","v":0},{"$f":"Årsarbetsschema!AA26","v":3}]
[null,"2027-04-22",null,null,null,null,null,null,0,"+",0,null,null,{"$f":"IF(E25>0,E25-D25-F25-H25,IF(C25=\"\",0,IF(C25=\"F\",0,Årsarbetsschema!$L27)))","v":0},{"$f":"Årsarbetsschema!AA27","v":4}]
[null,"2027-04-23",null,null,null,null,null,null,0,"+",0,null,null,{"$f":"IF(E26>0,E26-D26-F26-H26,IF(C26=\"\",0,IF(C26=\"F\",0,Årsarbetsschema!$L28)))","v":0},{"$f":"Årsarbetsschema!AA28","v":5}]
[null,"2027-04-24",null,null,null,null,null,null,0,"+",0,null,null,{"$f":"IF(E27>0,E27-D27-F27-H27,IF(C27=\"\",0,IF(C27=\"F\",0,Årsarbetsschema!$L29)))","v":0},{"$f":"Årsarbetsschema!AA29","v":6}]
[null,"2027-04-25",null,null,null,null,null,null,0,"+",0,null,null,{"$f":"IF(E28>0,E28-D28-F28-H28,IF(C28=\"\",0,IF(C28=\"F\",0,Årsarbetsschema!$L30)))","v":0},{"$f":"Årsarbetsschema!AA30","v":7}]
[null,"2027-04-26",null,null,null,null,null,null,0,"+",0,null,null,{"$f":"IF(E29>0,E29-D29-F29-H29,IF(C29=\"\",0,IF(C29=\"F\",0,Årsarbetsschema!$L31)))","v":0},{"$f":"Årsarbetsschema!AA31","v":1}]
[null,"2027-04-27",null,null,null,null,null,null,0,"+",0,null,null,{"$f":"IF(E30>0,E30-D30-F30-H30,IF(C30=\"\",0,IF(C30=\"F\",0,Årsarbetsschema!$L32)))","v":0},{"$f":"Årsarbetsschema!AA32","v":2}]
[null,"2027-04-28",null,null,null,null,null,null,0,"+",0,null,null,{"$f":"IF(E31>0,E31-D31-F31-H31,IF(C31=\"\",0,IF(C31=\"F\",0,Årsarbetsschema!$L33)))","v":0},{"$f":"Årsarbetsschema!AA33","v":3}]
[null,"2027-04-29",null,null,null,null,null,null,0,"+",0,null,null,{"$f":"IF(E32>0,E32-D32-F32-H32,IF(C32=\"\",0,IF(C32=\"F\",0,Årsarbetsschema!$L34)))","v":0},{"$f":"Årsarbetsschema!AA34","v":4}]
[null,"2027-04-30",null,null,null,null,null,null,{"$f":"IF(N33<0,-N33,N33)","v":0},"+",0,null,null,{"$f":"IF(E33>0,E33-D33-F33-H33,IF(C33=\"\",0,IF(C33=\"F\",0,Årsarbetsschema!$L35)))","v":0},{"$f":"Årsarbetsschema!AA35","v":6}]
[null,"2027-05-01",null,null,null,"00:30:00","07:00:00",null,0,{"$f":"IF(#REF!>=0,\"+\",\"-\")","v":{"$error":"#REF!"}},null,null,null,{"$f":"IF(E34>0,E34-D34-F34-H34,IF(C34=\"\",0,IF(C34=\"F\",0,Årsarbetsschema!$D$40)))","v":0},{"$f":"WEEKDAY(B34,2)","v":6}]
[null,null,null,null,null,null,null,"Månad",{"$f":"IF(N35<0,-N35,N35)","v":0},"+",{"$f":"SUM(K4:K34)","v":0},null,null,{"$f":"SUM(N4:N34)","v":0}]
[null,null,null,null,null,null,null,"Totalt",0,"+",{"$f":"Mars!K36+April!K35","v":0},null,null,{"$f":"N35+N3","v":0}]
[]
[null,{"$f":"IF(Uppgifter!$C$6=\"\",\"\",Uppgifter!$C$6)","v":""}]

{"sheet":"Maj","index":14,"n_rows":38,"n_cols":16,"rows_kept":38,"cut":false,"hidden":false,"merged":[[2,9,2,10]]}
[null,{"$f":"PROPER(TEXT(B4,\"MMMM ÅÅÅÅ\"))","v":"Maj 2027"},null,null,null,null,{"$f":"IF(Uppgifter!$C$6=\"\",\"\",Uppgifter!$C$6)","v":""}]
[null,null,null,null,null,null,null,null,null,null,null,null,null,"Dagsumma","Vdag"]
[null,"Datum","Kod","In","Ut","Lunch","Planerat","Ledighet","Arbetstid","Förtroendetid",null,"Anteckningar",null,{"$f":"April!N36","v":0}]
[null,{"$f":"DATEVALUE(Uppgifter!D4 & \"-05-01\")","v":"2027-05-01"},null,null,null,null,null,null,{"$f":"IF(N4<0,-N4,N4)","v":0},"+",0,null,null,{"$f":"IF(E4>0,E4-D4-F4-H4,IF(C4=\"\",0,IF(C4=\"F\",0,Årsarbetsschema!$M6)))","v":0},{"$f":"Årsarbetsschema!AB6","v":6},"Sj"]
[null,{"$f":"B4+1","v":"2027-05-02"},null,null,null,null,null,null,{"$f":"IF(N5<0,-N5,N5)","v":0},"+",0,null,null,{"$f":"IF(E5>0,E5-D5-F5-H5,IF(C5=\"\",0,IF(C5=\"F\",0,Årsarbetsschema!$M7)))","v":0},{"$f":"Årsarbetsschema!AB7","v":7},"Tj"]
[null,{"$f":"B5+1","v":"2027-05-03"},null,null,null,null,null,null,0,"+",0,null,null,{"$f":"IF(E6>0,E6-D6-F6-H6,IF(C6=\"\",0,IF(C6=\"F\",0,Årsarbetsschema!$M8)))","v":0},{"$f":"Årsarbetsschema!AB8","v":1},"VB"]
[null,"2027-05-04",null,null,null,null,null,null,0,"+",0,null,null,{"$f":"IF(E7>0,E7-D7-F7-H7,IF(C7=\"\",0,IF(C7=\"F\",0,Årsarbetsschema!$M9)))","v":0},{"$f":"Årsarbetsschema!AB9","v":2},"FL"]
[null,"2027-05-05",null,null,null,null,null,null,0,"+",0,null,null,{"$f":"IF(E8>0,E8-D8-F8-H8,IF(C8=\"\",0,IF(C8=\"F\",0,Årsarbetsschema!$M10)))","v":0},{"$f":"Årsarbetsschema!AB10","v":3}]
[null,"2027-05-06",null,null,null,null,null,null,0,"+",0,null,null,{"$f":"IF(E9>0,E9-D9-F9-H9,IF(C9=\"\",0,IF(C9=\"F\",0,Årsarbetsschema!$M11)))","v":0},{"$f":"Årsarbetsschema!AB11","v":6}]
[null,"2027-05-07",null,null,null,null,null,null,0,"+",0,null,null,{"$f":"IF(E10>0,E10-D10-F10-H10,IF(C10=\"\",0,IF(C10=\"F\",0,Årsarbetsschema!$M12)))","v":0},{"$f":"Årsarbetsschema!AB12","v":6}]
[null,"2027-05-08",null,null,null,null,null,null,0,"+",0,null,null,{"$f":"IF(E11>0,E11-D11-F11-H11,IF(C11=\"\",0,IF(C11=\"F\",0,Årsarbetsschema!$M13)))","v":0},{"$f":"Årsarbetsschema!AB13","v":6}]
[null,"2027-05-09",null,null,null,null,null,null,0,"+",0,null,null,{"$f":"IF(E12>0,E12-D12-F12-H12,IF(C12=\"\",0,IF(C12=\"F\",0,Årsarbetsschema!$M14)))","v":0},{"$f":"Årsarbetsschema!AB14","v":7}]
[null,"2027-05-10",null,null,null,null,null,null,0,"+",0,null,null,{"$f":"IF(E13>0,E13-D13-F13-H13,IF(C13=\"\",0,IF(C13=\"F\",0,Årsarbetsschema!$M15)))","v":0},{"$f":"Årsarbetsschema!AB15","v":1}]
[null,"2027-05-11",null,null,null,null,null,null,0,"+",0,null,null,{"$f":"IF(E14>0,E14-D14-F14-H14,IF(C14=\"\",0,IF(C14=\"F\",0,Årsarbetsschema!$M16)))","v":0},{"$f":"Årsarbetsschema!AB16","v":2}]
[null,"2027-05-12",null,null,null,null,null,null,0,"+",0,null,null,{"$f":"IF(E15>0,E15-D15-F15-H15,IF(C15=\"\",0,IF(C15=\"F\",0,Årsarbetsschema!$M17)))","v":0},{"$f":"Årsarbetsschema!AB17","v":3}]
[null,"2027-05-13",null,null,null,null,null,null,0,"+",0,null,null,{"$f":"IF(E16>0,E16-D16-F16-H16,IF(C16=\"\",0,IF(C16=\"F\",0,Årsarbetsschema!$M18)))","v":0},{"$f":"Årsarbetsschema!AB18","v":4}]
[null,"2027-05-14",null,null,null,null,null,null,0,"+",0,null,null,{"$f":"IF(E17>0,E17-D17-F17-H17,IF(C17=\"\",0,IF(C17=\"F\",0,Årsarbetsschema!$M19)))","v":0},{"$f":"Årsarbetsschema!AB19","v":5}]
[null,"2027-05-15",null,null,null,null,null,null,0,"+",0,null,null,{"$f":"IF(E18>0,E18-D18-F18-H18,IF(C18=\"\",0,IF(C18=\"F\",0,Årsarbetsschema!$M20)))","v":0},{"$f":"Årsarbetsschema!AB20","v":6}]
[null,"2027-05-16",null,null,null,null,null,null,0,"+",0,null,null,{"$f":"IF(E19>0,E19-D19-F19-H19,IF(C19=\"\",0,IF(C19=\"F\",0,Årsarbetsschema!$M21)))","v":0},{"$f":"Årsarbetsschema!AB21","v":7}]
[null,"2027-05-17",null,null,null,null,null,null,0,"+",0,null,null,{"$f":"IF(E20>0,E20-D20-F20-H20,IF(C20=\"\",0,IF(C20=\"F\",0,Årsarbetsschema!$M22)))","v":0},{"$f":"Årsarbetsschema!AB22","v":1}]
[null,"2027-05-18",null,null,null,null,null,null,0,"+",0,null,null,{"$f":"IF(E21>0,E21-D21-F21-H21,IF(C21=\"\",0,IF(C21=\"F\",0,Årsarbetsschema!$M23)))","v":0},{"$f":"Årsarbetsschema!AB23","v":2}]
[null,"2027-05-19",null,null,null,null,null,null,0,"+",0,null,null,{"$f":"IF(E22>0,E22-D22-F22-H22,IF(C22=\"\",0,IF(C22=\"F\",0,Årsarbetsschema!$M24)))","v":0},{"$f":"Årsarbetsschema!AB24","v":3}]
[null,"2027-05-20",null,null,null,null,null,null,0,"+",0,null,null,{"$f":"IF(E23>0,E23-D23-F23-H23,IF(C23=\"\",0,IF(C23=\"F\",0,Årsarbetsschema!$M25)))","v":0},{"$f":"Årsarbetsschema!AB25","v":4}]
[null,"2027-05-21",null,null,null,null,null,null,0,"+",0,null,null,{"$f":"IF(E24>0,E24-D24-F24-H24,IF(C24=\"\",0,IF(C24=\"F\",0,Årsarbetsschema!$M26)))","v":0},{"$f":"Årsarbetsschema!AB26","v":5}]
[null,"2027-05-22",null,null,null,null,null,null,0,"+",0,null,null,{"$f":"IF(E25>0,E25-D25-F25-H25,IF(C25=\"\",0,IF(C25=\"F\",0,Årsarbetsschema!$M27)))","v":0},{"$f":"Årsarbetsschema!AB27","v":6}]
[null,"2027-05-23",null,null,null,null,null,null,0,"+",0,null,null,{"$f":"IF(E26>0,E26-D26-F26-H26,IF(C26=\"\",0,IF(C26=\"F\",0,Årsarbetsschema!$M28)))","v":0},{"$f":"Årsarbetsschema!AB28","v":7}]
[null,"2027-05-24",null,null,null,null,null,null,0,"+",0,null,null,{"$f":"IF(E27>0,E27-D27-F27-H27,IF(C27=\"\",0,IF(C27=\"F\",0,Årsarbetsschema!$M29)))","v":0},{"$f":"Årsarbetsschema!AB29","v":1}]
[null,"2027-05-25",null,null,null,null,null,null,0,"+",0,null,null,{"$f":"IF(E28>0,E28-D28-F28-H28,IF(C28=\"\",0,IF(C28=\"F\",0,Årsarbetsschema!$M30)))","v":0},{"$f":"Årsarbetsschema!AB30","v":2}]
[null,"2027-05-26",null,null,null,null,null,null,0,"+",0,null,null,{"$f":"IF(E29>0,E29-D29-F29-H29,IF(C29=\"\",0,IF(C29=\"F\",0,Årsarbetsschema!$M31)))","v":0},{"$f":"Årsarbetsschema!AB31","v":3}]
[null,"2027-05-27",null,null,null,null,null,null,0,"+",0,null,null,{"$f":"IF(E30>0,E30-D30-F30-H30,IF(C30=\"\",0,IF(C30=\"F\",0,Årsarbetsschema!$M32)))","v":0},{"$f":"Årsarbetsschema!AB32","v":4}]
[null,"2027-05-28",null,null,null,null,null,null,0,"+",0,null,null,{"$f":"IF(E31>0,E31-D31-F31-H31,IF(C31=\"\",0,IF(C31=\"F\",0,Årsarbetsschema!$M33)))","v":0},{"$f":"Årsarbetsschema!AB33","v":5}]
[null,"2027-05-29",null,null,null,null,null,null,0,"+",0,null,null,{"$f":"IF(E32>0,E32-D32-F32-H32,IF(C32=\"\",0,IF(C32=\"F\",0,Årsarbetsschema!$M34)))","v":0},{"$f":"Årsarbetsschema!AB34","v":6}]
[null,"2027-05-30",null,null,null,null,null,null,0,"+",0,null,null,{"$f":"IF(E33>0,E33-D33-F33-H33,IF(C33=\"\",0,IF(C33=\"F\",0,Årsarbetsschema!$M35)))","v":0},{"$f":"Årsarbetsschema!AB35","v":7}]
[null,"2027-05-31",null,null,null,null,null,null,0,"+",0,null,null,{"$f":"IF(E34>0,E34-D34-F34-H34,IF(C34=\"\",0,IF(C34=\"F\",0,Årsarbetsschema!$M36)))","v":0},{"$f":"Årsarbetsschema!AB36","v":1}]
[null,null,null,null,null,null,null,"Månad",0,"+",{"$f":"SUM(K4:K34)","v":0},null,null,{"$f":"SUM(N4:N34)","v":0}]
[null,null,null,null,null,null,null,"Totalt",0,"+",{"$f":"April!K36+Maj!K35","v":0},null,null,{"$f":"N35+N3","v":0}]
[]
[null,{"$f":"IF(Uppgifter!$C$6=\"\",\"\",Uppgifter!$C$6)","v":""}]

{"sheet":"Juni","index":15,"n_rows":38,"n_cols":16,"rows_kept":38,"cut":false,"hidden":false,"merged":[[2,9,2,10]]}
[null,{"$f":"PROPER(TEXT(B4,\"MMMM ÅÅÅÅ\"))","v":"Juni 2027"},null,null,null,null,{"$f":"IF(Uppgifter!$C$6=\"\",\"\",Uppgifter!$C$6)","v":""}]
[null,null,null,null,null,null,null,null,null,null,null,null,null,"Dagsumma","Vdag"]
[null,"Datum","Kod","In","Ut","Lunch","Planerat","Ledighet","Arbetstid","Förtroendetid",null,"Anteckningar",null,{"$f":"Maj!N36","v":0}]
[null,{"$f":"DATEVALUE(Uppgifter!D4 & \"-06-01\")","v":"2027-06-01"},null,null,null,null,null,null,{"$f":"IF(N4<0,-N4,N4)","v":0},"+",0,null,null,{"$f":"IF(E4>0,E4-D4-F4-H4,IF(C4=\"\",0,IF(C4=\"F\",0,Årsarbetsschema!$N6)))","v":0},{"$f":"Årsarbetsschema!AC6","v":2},"Sj"]
[null,{"$f":"B4+1","v":"2027-06-02"},null,null,null,null,null,null,{"$f":"IF(N5<0,-N5,N5)","v":0},"+",0,null,null,{"$f":"IF(E5>0,E5-D5-F5-H5,IF(C5=\"\",0,IF(C5=\"F\",0,Årsarbetsschema!$N7)))","v":0},{"$f":"Årsarbetsschema!AC7","v":3},"Tj"]
[null,{"$f":"B5+1","v":"2027-06-03"},null,null,null,null,null,null,0,"+",0,null,null,{"$f":"IF(E6>0,E6-D6-F6-H6,IF(C6=\"\",0,IF(C6=\"F\",0,Årsarbetsschema!$N8)))","v":0},{"$f":"Årsarbetsschema!AC8","v":4},"VB"]
[null,"2027-06-04",null,null,null,null,null,null,0,"+",0,null,null,{"$f":"IF(E7>0,E7-D7-F7-H7,IF(C7=\"\",0,IF(C7=\"F\",0,Årsarbetsschema!$N9)))","v":0},{"$f":"Årsarbetsschema!AC9","v":5},"FL"]
[null,"2027-06-05",null,null,null,null,null,null,0,"+",0,null,null,{"$f":"IF(E8>0,E8-D8-F8-H8,IF(C8=\"\",0,IF(C8=\"F\",0,Årsarbetsschema!$N10)))","v":0},{"$f":"Årsarbetsschema!AC10","v":6}]
[null,"2027-06-06",null,null,null,null,null,null,0,"+",0,null,null,{"$f":"IF(E9>0,E9-D9-F9-H9,IF(C9=\"\",0,IF(C9=\"F\",0,Årsarbetsschema!$N11)))","v":0},{"$f":"Årsarbetsschema!AC11","v":7}]
[null,"2027-06-07",null,null,null,null,null,null,0,"+",0,null,null,{"$f":"IF(E10>0,E10-D10-F10-H10,IF(C10=\"\",0,IF(C10=\"F\",0,Årsarbetsschema!$N12)))","v":0},{"$f":"Årsarbetsschema!AC12","v":1}]
[null,"2027-06-08",null,null,null,null,null,null,0,"+",0,null,null,{"$f":"IF(E11>0,E11-D11-F11-H11,IF(C11=\"\",0,IF(C11=\"F\",0,Årsarbetsschema!$N13)))","v":0},{"$f":"Årsarbetsschema!AC13","v":2}]
[null,"2027-06-09",null,null,null,null,null,null,0,"+",0,null,null,{"$f":"IF(E12>0,E12-D12-F12-H12,IF(C12=\"\",0,IF(C12=\"F\",0,Årsarbetsschema!$N14)))","v":0},{"$f":"Årsarbetsschema!AC14","v":3}]
[null,"2027-06-10",null,null,null,null,null,null,0,"+",0,null,null,{"$f":"IF(E13>0,E13-D13-F13-H13,IF(C13=\"\",0,IF(C13=\"F\",0,Årsarbetsschema!$N15)))","v":0},{"$f":"Årsarbetsschema!AC15","v":4}]
[null,"2027-06-11",null,null,null,null,null,null,0,"+",0,null,null,{"$f":"IF(E14>0,E14-D14-F14-H14,IF(C14=\"\",0,IF(C14=\"F\",0,Årsarbetsschema!$N16)))","v":0},{"$f":"Årsarbetsschema!AC16","v":-1}]
[null,"2027-06-12",null,null,null,null,null,null,0,"+",0,null,null,{"$f":"IF(E15>0,E15-D15-F15-H15,IF(C15=\"\",0,IF(C15=\"F\",0,Årsarbetsschema!$N17)))","v":0},{"$f":"Årsarbetsschema!AC17","v":6}]
[null,"2027-06-13",null,null,null,null,null,null,{"$f":"IF(N16<0,-N16,N16)","v":0},"+",0,null,null,{"$f":"IF(E16>0,E16-D16-F16-H16,IF(C16=\"\",0,IF(C16=\"F\",0,Årsarbetsschema!$N18)))","v":0},{"$f":"Årsarbetsschema!AC18","v":7}]
[null,"2027-06-14",null,null,null,null,null,null,0,"+",0,null,null,{"$f":"IF(E17>0,E17-D17-F17-H17,IF(C17=\"\",0,IF(C17=\"F\",0,Årsarbetsschema!$N19)))","v":0},{"$f":"Årsarbetsschema!AC19","v":-1}]
[null,"2027-06-15",null,null,null,null,null,null,0,"+",0,null,null,{"$f":"IF(E18>0,E18-D18-F18-H18,IF(C18=\"\",0,IF(C18=\"F\",0,Årsarbetsschema!$N20)))","v":0},{"$f":"Årsarbetsschema!AC20","v":-1}]
[null,"2027-06-16",null,null,null,null,null,null,0,"+",0,null,null,{"$f":"IF(E19>0,E19-D19-F19-H19,IF(C19=\"\",0,IF(C19=\"F\",0,Årsarbetsschema!$N21)))","v":0},{"$f":"Årsarbetsschema!AC21","v":-1}]
[null,"2027-06-17",null,null,null,null,null,null,0,"+",0,null,null,{"$f":"IF(E20>0,E20-D20-F20-H20,IF(C20=\"\",0,IF(C20=\"F\",0,Årsarbetsschema!$N22)))","v":0},{"$f":"Årsarbetsschema!AC22","v":6}]
[null,"2027-06-18",null,null,null,null,null,null,0,"+",0,null,null,{"$f":"IF(E21>0,E21-D21-F21-H21,IF(C21=\"\",0,IF(C21=\"F\",0,Årsarbetsschema!$N23)))","v":0},{"$f":"Årsarbetsschema!AC23","v":6}]
[null,"2027-06-19",null,null,null,null,null,null,0,"+",0,null,null,{"$f":"IF(E22>0,E22-D22-F22-H22,IF(C22=\"\",0,IF(C22=\"F\",0,Årsarbetsschema!$N24)))","v":0},{"$f":"Årsarbetsschema!AC24","v":6}]
[null,"2027-06-20",null,null,null,null,null,null,0,"+",0,null,null,{"$f":"IF(E23>0,E23-D23-F23-H23,IF(C23=\"\",0,IF(C23=\"F\",0,Årsarbetsschema!$N25)))","v":0},{"$f":"Årsarbetsschema!AC25","v":7}]
[null,"2027-06-21",null,null,null,null,null,null,0,"+",0,null,null,{"$f":"IF(E24>0,E24-D24-F24-H24,IF(C24=\"\",0,IF(C24=\"F\",0,Årsarbetsschema!$N26)))","v":0},{"$f":"Årsarbetsschema!AC26","v":6}]
[null,"2027-06-22",null,null,null,null,null,null,0,"+",0,null,null,{"$f":"IF(E25>0,E25-D25-F25-H25,IF(C25=\"\",0,IF(C25=\"F\",0,Årsarbetsschema!$N27)))","v":0},{"$f":"Årsarbetsschema!AC27","v":6}]
[null,"2027-06-23",null,null,null,null,null,null,0,"+",0,null,null,{"$f":"IF(E26>0,E26-D26-F26-H26,IF(C26=\"\",0,IF(C26=\"F\",0,Årsarbetsschema!$N28)))","v":0},{"$f":"Årsarbetsschema!AC28","v":6}]
[null,"2027-06-24",null,null,null,null,null,null,0,"+",0,null,null,{"$f":"IF(E27>0,E27-D27-F27-H27,IF(C27=\"\",0,IF(C27=\"F\",0,Årsarbetsschema!$N29)))","v":0},{"$f":"Årsarbetsschema!AC29","v":6}]
[null,"2027-06-25",null,null,null,null,null,null,0,"+",0,null,null,{"$f":"IF(E28>0,E28-D28-F28-H28,IF(C28=\"\",0,IF(C28=\"F\",0,Årsarbetsschema!$N30)))","v":0},{"$f":"Årsarbetsschema!AC30","v":6}]
[null,"2027-06-26",null,null,null,null,null,null,0,"+",0,null,null,{"$f":"IF(E29>0,E29-D29-F29-H29,IF(C29=\"\",0,IF(C29=\"F\",0,Årsarbetsschema!$N31)))","v":0},{"$f":"Årsarbetsschema!AC31","v":6}]
[null,"2027-06-27",null,null,null,null,null,null,0,"+",0,null,null,{"$f":"IF(E30>0,E30-D30-F30-H30,IF(C30=\"\",0,IF(C30=\"F\",0,Årsarbetsschema!$N32)))","v":0},{"$f":"Årsarbetsschema!AC32","v":6}]
[null,"2027-06-28",null,null,null,null,null,null,0,"+",0,null,null,{"$f":"IF(E31>0,E31-D31-F31-H31,IF(C31=\"\",0,IF(C31=\"F\",0,Årsarbetsschema!$N33)))","v":0},{"$f":"Årsarbetsschema!AC33","v":6}]
[null,"2027-06-29",null,null,null,null,null,null,0,"+",0,null,null,{"$f":"IF(E32>0,E32-D32-F32-H32,IF(C32=\"\",0,IF(C32=\"F\",0,Årsarbetsschema!$N34)))","v":0},{"$f":"Årsarbetsschema!AC34","v":6}]
[null,"2027-06-30",null,null,null,null,null,null,{"$f":"IF(N33<0,-N33,N33)","v":0},"+",0,null,null,{"$f":"IF(E33>0,E33-D33-F33-H33,IF(C33=\"\",0,IF(C33=\"F\",0,Årsarbetsschema!$N35)))","v":0},{"$f":"Årsarbetsschema!AC35","v":6}]
[null,"2027-07-01",null,null,null,"00:30:00","07:00:00",null,0,{"$f":"IF(#REF!>=0,\"+\",\"-\")","v":{"$error":"#REF!"}},null,null,null,{"$f":"IF(E34>0,E34-D34-F34-H34,IF(C34=\"\",0,IF(C34=\"F\",0,Årsarbetsschema!$N36)))","v":0},{"$f":"WEEKDAY(B34,2)","v":4}]
[null,null,null,null,null,null,null,"Månad",0,"+",{"$f":"SUM(K4:K33)","v":0},null,null,{"$f":"SUM(N4:N34)","v":0}]
[null,null,null,null,null,null,null,"Totalt",0,"+",{"$f":"Maj!K36+Juni!K35","v":0},null,null,{"$f":"N35+N3","v":0}]
[]
[null,{"$f":"IF(Uppgifter!$C$6=\"\",\"\",Uppgifter!$C$6)","v":""}]